BEGIN:VCALENDAR
VERSION:2.0
PRODID:-//wp-events-plugin.com//7.2.3.1//EN
TZID:Europe/London
X-WR-TIMEZONE:Europe/London
BEGIN:VEVENT
UID:396@sh4.org.uk
DTSTART;TZID=Europe/London:20220727T193000
DTEND;TZID=Europe/London:20220727T223000
DTSTAMP:20220717T105929Z
URL:https://www.sh4.org.uk/events/hash-1360/
SUMMARY:South Hams H4 Hash 1360 - Modbury Long Stay Car Park
DESCRIPTION:On down at Modbury Inn - On down at Modbury Inn
CATEGORIES:Hash Trails
LOCATION:Modbury Long Stay Car Park Modbury long stay car park\, Poundwell 
 Meadow\, Modbury\, Ivybridge\, PL21 0XY
GEO:50.347917;-3.888247
X-APPLE-STRUCTURED-LOCATION;VALUE=URI;X-ADDRESS=Modbury long stay car park\
 , Poundwell Meadow\, Modbury\, Ivybridge\, PL21 0XY\, United Kingdom;X-APP
 LE-RADIUS=100;X-TITLE=Modbury Long Stay Car Park:geo:50.347917,-3.888247
END:VEVENT
BEGIN:VTIMEZONE
TZID:Europe/London
X-LIC-LOCATION:Europe/London
BEGIN:DAYLIGHT
DTSTART:20220327T020000
TZOFFSETFROM:+0000
TZOFFSETTO:+0100
TZNAME:BST
END:DAYLIGHT
END:VTIMEZONE
END:VCALENDAR