BEGIN:VCALENDAR
VERSION:2.0
PRODID:-//wp-events-plugin.com//7.2.3.1//EN
TZID:Europe/London
X-WR-TIMEZONE:Europe/London
BEGIN:VEVENT
UID:397@sh4.org.uk
DTSTART;TZID=Europe/London:20220803T193000
DTEND;TZID=Europe/London:20220803T223000
DTSTAMP:20220717T110317Z
URL:https://www.sh4.org.uk/events/hash-1361/
SUMMARY:South Hams H4 Hash 1361 - Norsworthy Bridge Car Park
DESCRIPTION:On down at The Royal Oak\, Meavy - On down at The Royal Oak\, M
 eavy
CATEGORIES:Hash Trails
LOCATION:Norsworthy Bridge Car Park Norsworthy Bridge Car Park\, Walkhampto
 n\, Yelverton \, PL20 6PG
GEO:50.506271;-4.019759
X-APPLE-STRUCTURED-LOCATION;VALUE=URI;X-ADDRESS=Norsworthy Bridge Car Park\
 , Walkhampton\, Yelverton \, PL20 6PG\, United Kingdom;X-APPLE-RADIUS=100;
 X-TITLE=Norsworthy Bridge Car Park:geo:50.506271,-4.019759
END:VEVENT
BEGIN:VTIMEZONE
TZID:Europe/London
X-LIC-LOCATION:Europe/London
BEGIN:DAYLIGHT
DTSTART:20220327T020000
TZOFFSETFROM:+0000
TZOFFSETTO:+0100
TZNAME:BST
END:DAYLIGHT
END:VTIMEZONE
END:VCALENDAR