BEGIN:VCALENDAR
VERSION:2.0
PRODID:-//wp-events-plugin.com//7.2.3.1//EN
TZID:Europe/London
X-WR-TIMEZONE:Europe/London
BEGIN:VEVENT
UID:398@sh4.org.uk
DTSTART;TZID=Europe/London:20220810T193000
DTEND;TZID=Europe/London:20220810T223000
DTSTAMP:20220717T110421Z
URL:https://www.sh4.org.uk/events/hash-1362/
SUMMARY:South Hams H4 Hash 1362 - Marlin\, South Milton\, TQ7 3JQ
DESCRIPTION: - 
CATEGORIES:BBQ Hash,Hash Trails
LOCATION:Marlin\, South Milton\, TQ7 3JQ Marlin \, South Milton \, TQ7 3JQ
GEO:50.271527;-3.826547
X-APPLE-STRUCTURED-LOCATION;VALUE=URI;X-ADDRESS=Marlin \, South Milton \, T
 Q7 3JQ\, United Kingdom;X-APPLE-RADIUS=100;X-TITLE=Marlin\, South Milton\,
  TQ7 3JQ:geo:50.271527,-3.826547
END:VEVENT
BEGIN:VTIMEZONE
TZID:Europe/London
X-LIC-LOCATION:Europe/London
BEGIN:DAYLIGHT
DTSTART:20220327T020000
TZOFFSETFROM:+0000
TZOFFSETTO:+0100
TZNAME:BST
END:DAYLIGHT
END:VTIMEZONE
END:VCALENDAR