BEGIN:VCALENDAR
VERSION:2.0
PRODID:-//wp-events-plugin.com//7.2.3.1//EN
TZID:Europe/London
X-WR-TIMEZONE:Europe/London
BEGIN:VEVENT
UID:402@sh4.org.uk
DTSTART;TZID=Europe/London:20220907T193000
DTEND;TZID=Europe/London:20220907T223000
DTSTAMP:20220817T123815Z
URL:https://www.sh4.org.uk/events/hash-1366/
SUMMARY:South Hams H4 Hash 1366 - Landscove\, Landscove Church Car Park
DESCRIPTION: - 
CATEGORIES:Hash Trails
LOCATION:Landscove\, Landscove Church Car Park Landscove Church Car Park\, 
 Landscove\, Newton Abbot\, TQ13 7LY
GEO:50.484518;-3.728356
X-APPLE-STRUCTURED-LOCATION;VALUE=URI;X-ADDRESS=Landscove Church Car Park\,
  Landscove\, Newton Abbot\, TQ13 7LY\, United Kingdom;X-APPLE-RADIUS=100;X
 -TITLE=Landscove\, Landscove Church Car Park:geo:50.484518,-3.728356
END:VEVENT
BEGIN:VTIMEZONE
TZID:Europe/London
X-LIC-LOCATION:Europe/London
BEGIN:DAYLIGHT
DTSTART:20220327T020000
TZOFFSETFROM:+0000
TZOFFSETTO:+0100
TZNAME:BST
END:DAYLIGHT
END:VTIMEZONE
END:VCALENDAR