BEGIN:VCALENDAR
VERSION:2.0
PRODID:-//wp-events-plugin.com//7.2.3.1//EN
TZID:Europe/London
X-WR-TIMEZONE:Europe/London
BEGIN:VEVENT
UID:407@sh4.org.uk
DTSTART;TZID=Europe/London:20221012T193000
DTEND;TZID=Europe/London:20221012T223000
DTSTAMP:20221026T080758Z
URL:https://www.sh4.org.uk/events/hash-1371/
SUMMARY:South Hams H4 Hash 1371 - Creek's End Inn
DESCRIPTION: - 
CATEGORIES:Hash Trails
LOCATION:Creek's End Inn Squares Quay\, Kingsbridge\, TQ7 1HZ
GEO:50.281679;-3.776842
X-APPLE-STRUCTURED-LOCATION;VALUE=URI;X-ADDRESS=Squares Quay\, Kingsbridge\
 , TQ7 1HZ\, United Kingdom;X-APPLE-RADIUS=100;X-TITLE=Creek's End Inn:geo:
 50.281679,-3.776842
END:VEVENT
BEGIN:VTIMEZONE
TZID:Europe/London
X-LIC-LOCATION:Europe/London
BEGIN:DAYLIGHT
DTSTART:20220327T020000
TZOFFSETFROM:+0000
TZOFFSETTO:+0100
TZNAME:BST
END:DAYLIGHT
END:VTIMEZONE
END:VCALENDAR