BEGIN:VCALENDAR
VERSION:2.0
PRODID:-//wp-events-plugin.com//7.2.3.1//EN
TZID:Europe/London
X-WR-TIMEZONE:Europe/London
BEGIN:VEVENT
UID:419@sh4.org.uk
DTSTART;TZID=Europe/London;VALUE=DATE:20221126
DTEND;TZID=Europe/London;VALUE=DATE:20221128
DTSTAMP:20221206T114829Z
URL:https://www.sh4.org.uk/events/hash-1381-and-1382/
SUMMARY:South Hams H4 Hash 1378 and 1379 - Grenville House
DESCRIPTION:Hash Weekend and Brixham\n\nThe words according Marty \n\n\n\nT
 he ramblings of a peri menopausal\, forgetful\, brain fogged woman ( hence
  it has taken me a week to get this done!)\n\nWhat a weekend we had. Every
 one arrived spritely and raring to go\, with the promise of a very wet and
  windy Hash around the cliffs of Brixham. Whoop whoop!! A\n\nvery HOT mug 
 of soup was wonderfully served by Nice Buns and her team\, with a cheeky m
 ulled sparkling cider on the side if you were quick enough. We also shared
  a box of Ibruprofen between ourselves to help with the aching legs\, achi
 ng heads and some just had a bout of FOMO!!\n\nCircle up went on for what 
 seemed like forever with instructions how to get back into the centre (not
 ed on phone as brain fog will hit and won't remember it) Overshot and Blow
 n Off gave very clear instructions on the different routes that could be t
 aken\, not letting on that the long was actually an A to B!! Great work Gu
 ys.\n\nOff we went in different directions\, Pony on his pub crawl route (
 which in the end turned out to be just one pub as it was raining!) the res
 t of the Hash onto the walkers\, Short and long routes. The usual falls\, 
 frivolity and wrong turns ensued on all the trails\, Sandra found herself 
 on the long after saying she just fancied doing the walkers route earning 
 her new name BLOWJOB as her hair was big\, wet and frizzy when she finally
  arrived back. The longs eventually returned with tales of 11 miles in gal
 e force winds and monsoon rain. They really are dramatic!!\n\nThe evening 
 meal was very loud\, hot and too many bodies close to each other. Ha Ha oh
  the joys! Don't touch me. If you know you know! We did have down downs fo
 r helpers and alike\, you will have to look at the photos for who was doin
 g them as I cant remember!\n\nThe skits followed dinner saying Allo Allo t
 o the Two Ronnies\, Deep down singing from Goolie and a rather disturbing 
 doctor patient consultation.\n\nThen the best part of the evening MY PLAYL
 IST over and over again until 4am. Pugsley\, I think we got Toto\, Africa 
 on at least 6 times. Anyway it rained in Brixham why not Africa!!\n\nThe f
 ollowing morning quite a number of athletes braved The Hare of The dog Has
 h\, which I was told was around 4 km/ miles and laid by Pinkie. Back for B
 rekkie and a clean down of the centre.\n\nThank you to all involved with t
 he organising and running of the event. It was spectacular as usual.\n\nOn
  On to wherever I am told to go to next week. Marty. xx \n\n\n - Hash Week
 end and Brixham\n\nThe words according Marty \n\n\n\nThe ramblings of a pe
 ri menopausal\, forgetful\, brain fogged woman ( hence it has taken me a w
 eek to get this done!)\n\nWhat a weekend we had. Everyone arrived spritely
  and raring to go\, with the promise of a very wet and windy Hash around t
 he cliffs of Brixham. Whoop whoop!! A\n\nvery HOT mug of soup was wonderfu
 lly served by Nice Buns and her team\, with a cheeky mulled sparkling cide
 r on the side if you were quick enough. We also shared a box of Ibruprofen
  between ourselves to help with the aching legs\, aching heads and some ju
 st had a bout of FOMO!!\n\nCircle up went on for what seemed like forever 
 with instructions how to get back into the centre (noted on phone as brain
  fog will hit and won't remember it) Overshot and Blown Off gave very clea
 r instructions on the different routes that could be taken\, not letting o
 n that the long was actually an A to B!! Great work Guys.\n\nOff we went i
 n different directions\, Pony on his pub crawl route (which in the end tur
 ned out to be just one pub as it was raining!) the rest of the Hash onto t
 he walkers\, Short and long routes. The usual falls\, frivolity and wrong 
 turns ensued on all the trails\, Sandra found herself on the long after sa
 ying she just fancied doing the walkers route earning her new name BLOWJOB
  as her hair was big\, wet and frizzy when she finally arrived back. The l
 ongs eventually returned with tales of 11 miles in gale force winds and mo
 nsoon rain. They really are dramatic!!\n\nThe evening meal was very loud\,
  hot and too many bodies close to each other. Ha Ha oh the joys! Don't tou
 ch me. If you know you know! We did have down downs for helpers and alike\
 , you will have to look at the photos for who was doing them as I cant rem
 ember!\n\nThe skits followed dinner saying Allo Allo to the Two Ronnies\, 
 Deep down singing from Goolie and a rather disturbing doctor patient consu
 ltation.\n\nThen the best part of the evening MY PLAYLIST over and over ag
 ain until 4am. Pugsley\, I think we got Toto\, Africa on at least 6 times.
  Anyway it rained in Brixham why not Africa!!\n\nThe following morning qui
 te a number of athletes braved The Hare of The dog Hash\, which I was told
  was around 4 km/ miles and laid by Pinkie. Back for Brekkie and a clean d
 own of the centre.\n\nThank you to all involved with the organising and ru
 nning of the event. It was spectacular as usual.\n\nOn On to wherever I am
  told to go to next week. Marty. xx \n\n\n
CATEGORIES:Hash Trails
LOCATION:Grenville House Berry Head Road\, Brixham\, England\, TQ5 9AF
GEO:50.399148;-3.505465
X-APPLE-STRUCTURED-LOCATION;VALUE=URI;X-ADDRESS=Berry Head Road\, Brixham\,
  England\, TQ5 9AF\, United Kingdom;X-APPLE-RADIUS=100;X-TITLE=Grenville H
 ouse:geo:50.399148,-3.505465
END:VEVENT
BEGIN:VTIMEZONE
TZID:Europe/London
X-LIC-LOCATION:Europe/London
BEGIN:STANDARD
DTSTART:20221030T010000
TZOFFSETFROM:+0100
TZOFFSETTO:+0000
TZNAME:GMT
END:STANDARD
END:VTIMEZONE
END:VCALENDAR