BEGIN:VCALENDAR
VERSION:2.0
PRODID:-//wp-events-plugin.com//7.2.3.1//EN
TZID:Europe/London
X-WR-TIMEZONE:Europe/London
BEGIN:VEVENT
UID:424@sh4.org.uk
DTSTART;TZID=Europe/London:20230111T193000
DTEND;TZID=Europe/London:20230111T230000
DTSTAMP:20230102T195726Z
URL:https://www.sh4.org.uk/events/hash-1387/
SUMMARY:South Hams H4 Hash 1387 - Victoria Street Car Park
DESCRIPTION:On Down is at the: \nKing William IV Pub\n45 Fore St\, Totnes \
 nTQ9 5HN - On Down is at the: \nKing William IV Pub\n45 Fore St\, Totnes \
 nTQ9 5HN
CATEGORIES:Hash Trails
LOCATION:Victoria Street Car Park St Katherine's Way\, Totnes\, TQ9 5XA
GEO:50.429303;-3.684824
X-APPLE-STRUCTURED-LOCATION;VALUE=URI;X-ADDRESS=St Katherine's Way\, Totnes
 \, TQ9 5XA\, United Kingdom;X-APPLE-RADIUS=100;X-TITLE=Victoria Street Car
  Park:geo:50.429303,-3.684824
END:VEVENT
BEGIN:VTIMEZONE
TZID:Europe/London
X-LIC-LOCATION:Europe/London
BEGIN:STANDARD
DTSTART:20221030T010000
TZOFFSETFROM:+0100
TZOFFSETTO:+0000
TZNAME:GMT
END:STANDARD
END:VTIMEZONE
END:VCALENDAR