BEGIN:VCALENDAR
VERSION:2.0
PRODID:-//wp-events-plugin.com//7.2.3.1//EN
TZID:Europe/London
X-WR-TIMEZONE:Europe/London
BEGIN:VEVENT
UID:427@sh4.org.uk
DTSTART;TZID=Europe/London:20230201T193000
DTEND;TZID=Europe/London:20230201T230000
DTSTAMP:20230116T080936Z
URL:https://www.sh4.org.uk/events/hash-1390/
SUMMARY:South Hams H4 Hash 1390 - South Brent Station Car Park
DESCRIPTION:On Down:\nStation House Cafe and Bar\nStation Road\nSouth Brent
 \nTQ10 9BE\nWhat3words:\ncenturies.started.self - On Down:\nStation House 
 Cafe and Bar\nStation Road\nSouth Brent\nTQ10 9BE\nWhat3words:\ncenturies.
 started.self
CATEGORIES:Hash Trails
LOCATION:South Brent Station Car Park Station Car Park\, South Brent\, TQ10
  9AL
GEO:50.42761;-3.83444
X-APPLE-STRUCTURED-LOCATION;VALUE=URI;X-ADDRESS=Station Car Park\, South Br
 ent\, TQ10 9AL\, United Kingdom;X-APPLE-RADIUS=100;X-TITLE=South Brent Sta
 tion Car Park:geo:50.42761,-3.83444
END:VEVENT
BEGIN:VTIMEZONE
TZID:Europe/London
X-LIC-LOCATION:Europe/London
BEGIN:STANDARD
DTSTART:20221030T010000
TZOFFSETFROM:+0100
TZOFFSETTO:+0000
TZNAME:GMT
END:STANDARD
END:VTIMEZONE
END:VCALENDAR