BEGIN:VCALENDAR
VERSION:2.0
PRODID:-//wp-events-plugin.com//7.2.3.1//EN
TZID:Europe/London
X-WR-TIMEZONE:Europe/London
BEGIN:VEVENT
UID:441@sh4.org.uk
DTSTART;TZID=Europe/London:20230426T193000
DTEND;TZID=Europe/London:20230426T230000
DTSTAMP:20230509T073425Z
URL:https://www.sh4.org.uk/events/hash-1405/
SUMMARY:South Hams H4 Hash 1405 - Crooked Spire
DESCRIPTION:The words according to Boaty McBoatface\nCircling up in the qua
 int square of Ermington the crowd grew larger and everyone was appreciatin
 g the warm dry weather\, Squashed balls approached with a absolute beauty 
 of a shiner! Allegedly it happened in a game or Was it one joke too many!!
 !!\nAfter a few notifications about stuff going on and superior hashes off
 ered by gaffer\, I was then lucky enough to be chosen to do the words!\nwe
  were then swiftly sent on our way-\n\nThe main reported highlights were a
 s follows :-\n\nRe-entry happy running through the bluebells by himself.\n
 1.put at least 5 mL of water on surgerplate.\n2.Open Guinness surger can h
 olding upright on a flat surface.\n3.Pour slowly into Guinness pint glass 
 at 45°.\n4.Place glass on unit. Press the button to watch the Guinness su
 rge and settle.\nCum tonight falling down enough times to be admitted to t
 he special falling down clinic.\nDrinkaware.co.uk\nBit of ruff getting eve
 ry check wrong due to reaching half a century\nalc.4.1% vol\n520ml\nRizzo 
 became frightened of the dark and insisted on putting on her torch even th
 ough it’s only dimpsy ! ( for the non-locals this means Dusk!)\nIngredie
 nts: water\, barley\, malt\, barley\, roasted barley\, hop extract and nit
 rogen.\nOlive changing her bra in full view of on coming vehicles! A good 
 traffic calming solution?We could call them speed humps.\nGaffer was weari
 ng his pyjamas to save time at home.\nPlease recycle.\nLotass received a n
 ational sewage alert on Sunday luckily after inspecting all of her plumbin
 g she had not been affected.\n\nDown downs went to\nJyde 700th wasted Wedn
 esdays\nthe birthday peoples\nCan’t cum\nGoing downs\nOlive\nRubbery’s
 \nBitt of ruff\nAnd\nCum tonight for falling over lots\nJyde 700th hash\nA
 pologies if I’ve missed anything as all the notes from Squashed Balls we
 re on a Guinness can !!\nBoaty\n\nOn on to Calancomb Estate - The words ac
 cording to Boaty McBoatface\nCircling up in the quaint square of Ermington
  the crowd grew larger and everyone was appreciating the warm dry weather\
 , Squashed balls approached with a absolute beauty of a shiner! Allegedly 
 it happened in a game or Was it one joke too many!!!!\nAfter a few notific
 ations about stuff going on and superior hashes offered by gaffer\, I was 
 then lucky enough to be chosen to do the words!\nwe were then swiftly sent
  on our way-\n\nThe main reported highlights were as follows :-\n\nRe-entr
 y happy running through the bluebells by himself.\n1.put at least 5 mL of 
 water on surgerplate.\n2.Open Guinness surger can holding upright on a fla
 t surface.\n3.Pour slowly into Guinness pint glass at 45°.\n4.Place glass
  on unit. Press the button to watch the Guinness surge and settle.\nCum to
 night falling down enough times to be admitted to the special falling down
  clinic.\nDrinkaware.co.uk\nBit of ruff getting every check wrong due to r
 eaching half a century\nalc.4.1% vol\n520ml\nRizzo became frightened of th
 e dark and insisted on putting on her torch even though it’s only dimpsy
  ! ( for the non-locals this means Dusk!)\nIngredients: water\, barley\, m
 alt\, barley\, roasted barley\, hop extract and nitrogen.\nOlive changing 
 her bra in full view of on coming vehicles! A good traffic calming solutio
 n?We could call them speed humps.\nGaffer was wearing his pyjamas to save 
 time at home.\nPlease recycle.\nLotass received a national sewage alert on
  Sunday luckily after inspecting all of her plumbing she had not been affe
 cted.\n\nDown downs went to\nJyde 700th wasted Wednesdays\nthe birthday pe
 oples\nCan’t cum\nGoing downs\nOlive\nRubbery’s\nBitt of ruff\nAnd\nCu
 m tonight for falling over lots\nJyde 700th hash\nApologies if I’ve miss
 ed anything as all the notes from Squashed Balls were on a Guinness can !!
 \nBoaty\n\nOn on to Calancomb Estate
CATEGORIES:Hash Trails
LOCATION:Crooked Spire The Crooked Spire Inn\, Ermington\, Devon\, PL21 9LP
GEO:50.361819;-3.917028
X-APPLE-STRUCTURED-LOCATION;VALUE=URI;X-ADDRESS=The Crooked Spire Inn\, Erm
 ington\, Devon\, PL21 9LP\, United Kingdom;X-APPLE-RADIUS=100;X-TITLE=Croo
 ked Spire:geo:50.361819,-3.917028
END:VEVENT
BEGIN:VTIMEZONE
TZID:Europe/London
X-LIC-LOCATION:Europe/London
BEGIN:DAYLIGHT
DTSTART:20230326T020000
TZOFFSETFROM:+0000
TZOFFSETTO:+0100
TZNAME:BST
END:DAYLIGHT
END:VTIMEZONE
END:VCALENDAR