BEGIN:VCALENDAR
VERSION:2.0
PRODID:-//wp-events-plugin.com//7.2.3.1//EN
TZID:Europe/London
X-WR-TIMEZONE:Europe/London
BEGIN:VEVENT
UID:456@sh4.org.uk
DTSTART;TZID=Europe/London:20230726T193000
DTEND;TZID=Europe/London:20230726T230000
DTSTAMP:20230808T124304Z
URL:https://www.sh4.org.uk/events/hash-1420/
SUMMARY:South Hams H4 Hash 1420 - Modbury Long Stay Car Park
DESCRIPTION:The words according to Rusty Bottom\nHash No. 1420 Modbury - Ha
 res - Goolie\nStand In Words Editor - Rubbery until next AGPU - volunteers
  welcome.....\n\n(in Light of the generally pissy weather!!)\n\nOh what a 
 night\nOh what a night\, late July in twenty twenty three\nwhat a very sog
 gy night for me!\, as I remember what a night...\n\nOh what a night\, Tom 
 and Annabel didn’t know the game\,\nAnd they were never gonna be the sam
 e\, what a pair oh what a night\n\nOh I\, Overshots’ a funny feelin’ i
 n his new shoes\,\nand my\, he worried they’d be dirty far too soon.\n\n
 Oh \, what a night\, Pye was trawling for men for free\,\nshe was picking 
 the handsome ones happily\,\nsweet surrender\, what a night\n\nGaffer felt
  a rush like a rollin’ ball of thunder\,\nbragging about his early runni
 ng days of wonder\n\nOh I\, Olives loss of knickers was in the old news\,\
 nand my\, I hope she makes it back real soon!\n\nOh what a night\, why’d
  Goolie choose the beer-stop tonight?\,\nseemed so wrong\, but he felt it 
 right\,\nillegal drinking what a night!\n\nOh I!\, Re-entry felt a rush li
 ke a speeding ball of wonder\,\nwearing his ancient tough guy top from day
 s of yonder.\n\nOh what a night!\nDo-do-do\, Do-do-do\nDo-do-do-do-Oh what
  a night!!\n\nGaffer burbled on some more about the Mick Jagger and the Be
 ano\, something about the tour de France and\nYealmpton show.\n\nDown down
 s went to:\n\nLowtarse for running up the hill when she needn’t\nWhisper
 er for meandering round a graveyard\nSoftwood for turning up to the wrong 
 hash\nGoolie for trail laying\nAnd Jyde (donated from Pye for kerb trawlin
 g)\n\n(there weren’t enough verses for me to get them all in!!)\n\nOn-on
  to Prawle’s glitter hash! - The words according to Rusty Bottom\nHash N
 o. 1420 Modbury - Hares - Goolie\nStand In Words Editor - Rubbery until ne
 xt AGPU - volunteers welcome.....\n\n(in Light of the generally pissy weat
 her!!)\n\nOh what a night\nOh what a night\, late July in twenty twenty th
 ree\nwhat a very soggy night for me!\, as I remember what a night...\n\nOh
  what a night\, Tom and Annabel didn’t know the game\,\nAnd they were ne
 ver gonna be the same\, what a pair oh what a night\n\nOh I\, Overshots’
  a funny feelin’ in his new shoes\,\nand my\, he worried they’d be dir
 ty far too soon.\n\nOh \, what a night\, Pye was trawling for men for free
 \,\nshe was picking the handsome ones happily\,\nsweet surrender\, what a 
 night\n\nGaffer felt a rush like a rollin’ ball of thunder\,\nbragging a
 bout his early running days of wonder\n\nOh I\, Olives loss of knickers wa
 s in the old news\,\nand my\, I hope she makes it back real soon!\n\nOh wh
 at a night\, why’d Goolie choose the beer-stop tonight?\,\nseemed so wro
 ng\, but he felt it right\,\nillegal drinking what a night!\n\nOh I!\, Re-
 entry felt a rush like a speeding ball of wonder\,\nwearing his ancient to
 ugh guy top from days of yonder.\n\nOh what a night!\nDo-do-do\, Do-do-do\
 nDo-do-do-do-Oh what a night!!\n\nGaffer burbled on some more about the Mi
 ck Jagger and the Beano\, something about the tour de France and\nYealmpto
 n show.\n\nDown downs went to:\n\nLowtarse for running up the hill when sh
 e needn’t\nWhisperer for meandering round a graveyard\nSoftwood for turn
 ing up to the wrong hash\nGoolie for trail laying\nAnd Jyde (donated from 
 Pye for kerb trawling)\n\n(there weren’t enough verses for me to get the
 m all in!!)\n\nOn-on to Prawle’s glitter hash!
CATEGORIES:Hash Trails
LOCATION:Modbury Long Stay Car Park Modbury long stay car park\, Poundwell 
 Meadow\, Modbury\, Ivybridge\, PL21 0XY
GEO:50.347917;-3.888247
X-APPLE-STRUCTURED-LOCATION;VALUE=URI;X-ADDRESS=Modbury long stay car park\
 , Poundwell Meadow\, Modbury\, Ivybridge\, PL21 0XY\, United Kingdom;X-APP
 LE-RADIUS=100;X-TITLE=Modbury Long Stay Car Park:geo:50.347917,-3.888247
END:VEVENT
BEGIN:VTIMEZONE
TZID:Europe/London
X-LIC-LOCATION:Europe/London
BEGIN:DAYLIGHT
DTSTART:20230326T020000
TZOFFSETFROM:+0000
TZOFFSETTO:+0100
TZNAME:BST
END:DAYLIGHT
END:VTIMEZONE
END:VCALENDAR