BEGIN:VCALENDAR
VERSION:2.0
PRODID:-//wp-events-plugin.com//7.2.3.1//EN
TZID:Europe/London
X-WR-TIMEZONE:Europe/London
BEGIN:VEVENT
UID:458@sh4.org.uk
DTSTART;TZID=Europe/London:20230809T193000
DTEND;TZID=Europe/London:20230809T230000
DTSTAMP:20230807T175353Z
URL:https://www.sh4.org.uk/events/hash-1421-byo-bbq-baps-salad-provided/
SUMMARY:South Hams H4 Hash 1422 - BYO BBQ\, Baps\, Salad Provided. - Hare's
  House - Hekkle & Jyde
DESCRIPTION:On Down at Heckyl &amp\; Jydes\, bring your own BBQ .\nMeat and
  veggie BBQs to cook the byo meat/veggie food.  Baps and salad are provid
 ed free.  There will be a bar with a Keg of beer\, the bar will include w
 ine and soft drinks but not ciders or lagers - On Down at Heckyl &amp\; Jy
 des\, bring your own BBQ .\nMeat and veggie BBQs to cook the byo meat/vegg
 ie food.  Baps and salad are provided free.  There will be a bar with a 
 Keg of beer\, the bar will include wine and soft drinks but not ciders or 
 lagers
CATEGORIES:BBQ Hash,Hash Trails
LOCATION:Hare's House - Hekkle & Jyde Barngates House\, Ermington\, PL21 9N
 E
GEO:50.362135;-3.918061
X-APPLE-STRUCTURED-LOCATION;VALUE=URI;X-ADDRESS=Barngates House\, Ermington
 \, PL21 9NE\, United Kingdom;X-APPLE-RADIUS=100;X-TITLE=Hare's House - Hek
 kle & Jyde:geo:50.362135,-3.918061
END:VEVENT
BEGIN:VTIMEZONE
TZID:Europe/London
X-LIC-LOCATION:Europe/London
BEGIN:DAYLIGHT
DTSTART:20230326T020000
TZOFFSETFROM:+0000
TZOFFSETTO:+0100
TZNAME:BST
END:DAYLIGHT
END:VTIMEZONE
END:VCALENDAR