BEGIN:VCALENDAR
VERSION:2.0
PRODID:-//wp-events-plugin.com//7.2.3.1//EN
TZID:Europe/London
X-WR-TIMEZONE:Europe/London
BEGIN:VEVENT
UID:462@sh4.org.uk
DTSTART;TZID=Europe/London:20230906T193000
DTEND;TZID=Europe/London:20230906T230000
DTSTAMP:20230912T060713Z
URL:https://www.sh4.org.uk/events/hash-1425/
SUMMARY:South Hams H4 Hash 1426 - Thurlestone Parish Hall
DESCRIPTION:The words according to Dirty Nights\nHash No. 1426 - Thurleston
 e Village Inn - Hares - Blue Nun &amp\; Olive\nRA - Spotty Botty\n\nStand 
 In Words Editor - Rubbery until next AGPU - volunteers welcome.....\n\nThe
  evening was beautiful\,\nPeaceful and warm.\nUntil the hashers turned up\
 ,\nFancy cars and all.\n\nMissed Imelda and Poacher\,\nJoined Olive and Bl
 ue Nun’s trail.\nAround the village of Thurlestone\,\nwith steep fields 
 and hay bales.\n\nTriple Top explored the healing power of nettles\,\nWhil
 e Bullocks were upset Boaty bothered the cows.\nPick Pocket remained calm 
 and managed the herd.\nWhile the night was getting darker and only hashers
  could be heard.\n\nSome were prepared\, others were not\,\nWho Gives a Sh
 it was the latter and robbed Lactaster’s light spot.\nUp and down hills 
 some missed the beer stop.\nResulting in more road than desired but the pu
 b was in eye shot.\n\nBehaviour got worse as Gomez abandoned Pugsley\,\nAn
 d those with poor performance seemed to be praised.\nThe damaged souls of 
 Triple Top\, Lactaster and Pugsley were in the down downs\nAlong with Blue
  Nun\, Olive and Boaty…\n\nSo On On to Ashprington see you all next week
 !\n\nDirty Nights - The words according to Dirty Nights\nHash No. 1426 - T
 hurlestone Village Inn - Hares - Blue Nun &amp\; Olive\nRA - Spotty Botty\
 n\nStand In Words Editor - Rubbery until next AGPU - volunteers welcome...
 ..\n\nThe evening was beautiful\,\nPeaceful and warm.\nUntil the hashers t
 urned up\,\nFancy cars and all.\n\nMissed Imelda and Poacher\,\nJoined Oli
 ve and Blue Nun’s trail.\nAround the village of Thurlestone\,\nwith stee
 p fields and hay bales.\n\nTriple Top explored the healing power of nettle
 s\,\nWhile Bullocks were upset Boaty bothered the cows.\nPick Pocket remai
 ned calm and managed the herd.\nWhile the night was getting darker and onl
 y hashers could be heard.\n\nSome were prepared\, others were not\,\nWho G
 ives a Shit was the latter and robbed Lactaster’s light spot.\nUp and do
 wn hills some missed the beer stop.\nResulting in more road than desired b
 ut the pub was in eye shot.\n\nBehaviour got worse as Gomez abandoned Pugs
 ley\,\nAnd those with poor performance seemed to be praised.\nThe damaged 
 souls of Triple Top\, Lactaster and Pugsley were in the down downs\nAlong 
 with Blue Nun\, Olive and Boaty…\n\nSo On On to Ashprington see you all 
 next week!\n\nDirty Nights
CATEGORIES:Hash Trails
LOCATION:Thurlestone Parish Hall Thurlestone Parish Hall\, Thurlestone\, De
 von\, TQ7 3LY
GEO:50.274081;-3.855574
X-APPLE-STRUCTURED-LOCATION;VALUE=URI;X-ADDRESS=Thurlestone Parish Hall\, T
 hurlestone\, Devon\, TQ7 3LY\, United Kingdom;X-APPLE-RADIUS=100;X-TITLE=T
 hurlestone Parish Hall:geo:50.274081,-3.855574
END:VEVENT
BEGIN:VTIMEZONE
TZID:Europe/London
X-LIC-LOCATION:Europe/London
BEGIN:DAYLIGHT
DTSTART:20230326T020000
TZOFFSETFROM:+0000
TZOFFSETTO:+0100
TZNAME:BST
END:DAYLIGHT
END:VTIMEZONE
END:VCALENDAR