BEGIN:VCALENDAR
VERSION:2.0
PRODID:-//wp-events-plugin.com//7.2.3.1//EN
TZID:Europe/London
X-WR-TIMEZONE:Europe/London
BEGIN:VEVENT
UID:474@sh4.org.uk
DTSTART;TZID=Europe/London:20231129T193000
DTEND;TZID=Europe/London:20231129T233000
DTSTAMP:20231109T092650Z
URL:https://www.sh4.org.uk/events/hash-1438/
SUMMARY:South Hams H4 Hash 1440 - Church House Inn (Harberton)
DESCRIPTION: - 
CATEGORIES:Hash Trails
LOCATION:Church House Inn (Harberton) Church House Inn\, Harberton\, Devon
GEO:50.414609;-3.721495
X-APPLE-STRUCTURED-LOCATION;VALUE=URI;X-ADDRESS=Church House Inn\, Harberto
 n\, Devon\, United Kingdom;X-APPLE-RADIUS=100;X-TITLE=Church House Inn (Ha
 rberton):geo:50.414609,-3.721495
END:VEVENT
BEGIN:VTIMEZONE
TZID:Europe/London
X-LIC-LOCATION:Europe/London
BEGIN:STANDARD
DTSTART:20231029T010000
TZOFFSETFROM:+0100
TZOFFSETTO:+0000
TZNAME:GMT
END:STANDARD
END:VTIMEZONE
END:VCALENDAR