BEGIN:VCALENDAR
VERSION:2.0
PRODID:-//wp-events-plugin.com//7.2.3.1//EN
TZID:Europe/London
X-WR-TIMEZONE:Europe/London
BEGIN:VEVENT
UID:481@sh4.org.uk
DTSTART;TZID=Europe/London:20231226T120000
DTEND;TZID=Europe/London:20231226T150000
DTSTAMP:20231220T082418Z
URL:https://www.sh4.org.uk/events/hash-1444-boxing-day-hash-swim/
SUMMARY:South Hams H4 Hash 1444 - Boxing Day Hash & Swim - Challaborough Ba
 y
DESCRIPTION:Quick run to work off that XMAS excess\, and then a splash in t
 he Sea to truly wipe out your guilt.\nReward for those that partake will b
 e a shot of something from Goolies Navy treasure trove!\nOn Down\nThe Jour
 ney's End\nRingmore\nTQ7 4HL\nWhat 3 words:  change.headless.axed\n&nbsp\
 ;\n\n&nbsp\; - Quick run to work off that XMAS excess\, and then a splash 
 in the Sea to truly wipe out your guilt.\nReward for those that partake wi
 ll be a shot of something from Goolies Navy treasure trove!\nOn Down\nThe 
 Journey's End\nRingmore\nTQ7 4HL\nWhat 3 words:  change.headless.axed\n&n
 bsp\;\n\n&nbsp\;
CATEGORIES:Hash Trails
LOCATION:Challaborough Bay Challaborough Bay\, Challaborough\, Devon\, TQ7 
 4HU
GEO:50.288896;-3.898575
X-APPLE-STRUCTURED-LOCATION;VALUE=URI;X-ADDRESS=Challaborough Bay\, Challab
 orough\, Devon\, TQ7 4HU\, United Kingdom;X-APPLE-RADIUS=100;X-TITLE=Chall
 aborough Bay:geo:50.288896,-3.898575
END:VEVENT
BEGIN:VTIMEZONE
TZID:Europe/London
X-LIC-LOCATION:Europe/London
BEGIN:STANDARD
DTSTART:20231029T010000
TZOFFSETFROM:+0100
TZOFFSETTO:+0000
TZNAME:GMT
END:STANDARD
END:VTIMEZONE
END:VCALENDAR