BEGIN:VCALENDAR
VERSION:2.0
PRODID:-//wp-events-plugin.com//7.2.3.1//EN
TZID:Europe/London
X-WR-TIMEZONE:Europe/London
BEGIN:VEVENT
UID:489@sh4.org.uk
DTSTART;TZID=Europe/London:20240221T193000
DTEND;TZID=Europe/London:20240221T230000
DTSTAMP:20240228T034318Z
URL:https://www.sh4.org.uk/events/hash-1453/
SUMMARY:South Hams H4 Hash 1453 - Modbury Long Stay Car Park
DESCRIPTION:The Words according to OUI OUI\nHash 1453 - MODBURY\n\nHares: U
 ndercovers &amp\; Nokkers\nRA: RearEntry\n\nThankfully\, the torrential ra
 ins experienced over the last few days had eased as quite a large group ga
 thered up in Poundwell Meadow car park.\n\nRizzo hushed the Circle and wel
 comed all\, beginning with her usual witty joke\, although various groans 
 were heard before the punchline was delivered. We were reminded of the tim
 e and location of Fallen Woman's funeral on Friday\, and it was also sugge
 sted that some people might want to wear glitter [Ed. and/or something bri
 ght...or something white\, but only if your name's Pony 😆] in memory of
  our fellow hasher at this Friday’s pub crawl on the Post Xmas Hash Bash
 . Rizzo handed over to the hares\, who said the course was dry (really!)\,
  and that the trail was marked with flour on both the right and the left
 …\n\nWe set off in the direction of Modbury high street\, and were taken
  up and down the back streets of Modbury (fairly dry) before going out int
 o the countryside. Once running across the fields and tracks\, it was not 
 exactly dry but a little moist underfoot. We headed out of Modbury in the 
 direction of Little Orcheton\; this was fairly good running terrain\, bein
 g mostly on lanes\, with a little uphill section swiftly turning into a do
 wnhill\, before a quick left into adjacent fields and back in the directio
 n of Modbury. It was certainly not dry\, and very slippery underfoot (thos
 e Hares tell lies! [Ed. breaking news...!] ). It was reported that there w
 ere a few fallers but\, not to be deterred\, we kept going. Overshot [Ed. 
 this sounds much more like the MO of a rather different hasher\, whose nam
 e rhymes somewhat with SpetWot...] renowned for jumping out on people\, wa
 s up to his old tricks and\, in fact\, Nice Buns was disturbed by his deli
 berate gaze while up to his pranks. It was also reported that on one occas
 ion his high jinks caused him and Lactaster to end up rolling in the mud!\
 n\nAfter a while crossing fields\, it was good to get back onto some lanes
  and firm footing\, only to be met by a killer of a hill\, which just kept
  giving! Another few more muddy/potholed fields\, and we were OH to Modbur
 y.\n\nIt was back to the Modbury Inn which had a good Hash menu choice. Th
 e pub's clientele was certainly swelled by our numbers\, and we squeezed i
 nto one end\, as we clashed with the locals' guitar group!\n\nDulux was aw
 arded her 400th Wasted Wednesdays Tee shirt\, and we sang Happy Birthday t
 o two Hashers. A naming ceremony followed for our relative newcomer\, Díd
 ac (bit of an athlete?)\, who - due to some hashers having difficulty reme
 mbering/pronouncing his name - was given the name of Dick Ass [Ed. it woul
 d be such a shame if this was his last hash...😬].\n\nDown Downs [Ed. Ye
 s\, seven of them!] were awarded to:\n• Undercovers &amp\; Nokkers – h
 ares\n• Newly-named Hasher - Dick Ass (Dídac)\n• Dulux - 400 runs T-s
 hirt\n• Lowt'arse - Birthday\n• Twin Buffers - Birthday\n• Overshot 
 - [Ed. mudsliding (?)]\nThe Modbury Inn - The Words according to OUI OUI\n
 Hash 1453 - MODBURY\n\nHares: Undercovers &amp\; Nokkers\nRA: RearEntry\n\
 nThankfully\, the torrential rains experienced over the last few days had 
 eased as quite a large group gathered up in Poundwell Meadow car park.\n\n
 Rizzo hushed the Circle and welcomed all\, beginning with her usual witty 
 joke\, although various groans were heard before the punchline was deliver
 ed. We were reminded of the time and location of Fallen Woman's funeral on
  Friday\, and it was also suggested that some people might want to wear gl
 itter [Ed. and/or something bright...or something white\, but only if your
  name's Pony 😆] in memory of our fellow hasher at this Friday’s pub c
 rawl on the Post Xmas Hash Bash. Rizzo handed over to the hares\, who said
  the course was dry (really!)\, and that the trail was marked with flour o
 n both the right and the left…\n\nWe set off in the direction of Modbury
  high street\, and were taken up and down the back streets of Modbury (fai
 rly dry) before going out into the countryside. Once running across the fi
 elds and tracks\, it was not exactly dry but a little moist underfoot. We 
 headed out of Modbury in the direction of Little Orcheton\; this was fairl
 y good running terrain\, being mostly on lanes\, with a little uphill sect
 ion swiftly turning into a downhill\, before a quick left into adjacent fi
 elds and back in the direction of Modbury. It was certainly not dry\, and 
 very slippery underfoot (those Hares tell lies! [Ed. breaking news...!] ).
  It was reported that there were a few fallers but\, not to be deterred\, 
 we kept going. Overshot [Ed. this sounds much more like the MO of a rather
  different hasher\, whose name rhymes somewhat with SpetWot...] renowned f
 or jumping out on people\, was up to his old tricks and\, in fact\, Nice B
 uns was disturbed by his deliberate gaze while up to his pranks. It was al
 so reported that on one occasion his high jinks caused him and Lactaster t
 o end up rolling in the mud!\n\nAfter a while crossing fields\, it was goo
 d to get back onto some lanes and firm footing\, only to be met by a kille
 r of a hill\, which just kept giving! Another few more muddy/potholed fiel
 ds\, and we were OH to Modbury.\n\nIt was back to the Modbury Inn which ha
 d a good Hash menu choice. The pub's clientele was certainly swelled by ou
 r numbers\, and we squeezed into one end\, as we clashed with the locals' 
 guitar group!\n\nDulux was awarded her 400th Wasted Wednesdays Tee shirt\,
  and we sang Happy Birthday to two Hashers. A naming ceremony followed for
  our relative newcomer\, Dídac (bit of an athlete?)\, who - due to some h
 ashers having difficulty remembering/pronouncing his name - was given the 
 name of Dick Ass [Ed. it would be such a shame if this was his last hash..
 .😬].\n\nDown Downs [Ed. Yes\, seven of them!] were awarded to:\n• Und
 ercovers &amp\; Nokkers – hares\n• Newly-named Hasher - Dick Ass (Díd
 ac)\n• Dulux - 400 runs T-shirt\n• Lowt'arse - Birthday\n• Twin Buff
 ers - Birthday\n• Overshot - [Ed. mudsliding (?)]\nThe Modbury Inn
CATEGORIES:Hash Trails
LOCATION:Modbury Long Stay Car Park Modbury long stay car park\, Poundwell 
 Meadow\, Modbury\, Ivybridge\, PL21 0XY
GEO:50.347917;-3.888247
X-APPLE-STRUCTURED-LOCATION;VALUE=URI;X-ADDRESS=Modbury long stay car park\
 , Poundwell Meadow\, Modbury\, Ivybridge\, PL21 0XY\, United Kingdom;X-APP
 LE-RADIUS=100;X-TITLE=Modbury Long Stay Car Park:geo:50.347917,-3.888247
END:VEVENT
BEGIN:VTIMEZONE
TZID:Europe/London
X-LIC-LOCATION:Europe/London
BEGIN:STANDARD
DTSTART:20231029T010000
TZOFFSETFROM:+0100
TZOFFSETTO:+0000
TZNAME:GMT
END:STANDARD
END:VTIMEZONE
END:VCALENDAR