BEGIN:VCALENDAR
VERSION:2.0
PRODID:-//wp-events-plugin.com//7.2.3.1//EN
TZID:Europe/London
X-WR-TIMEZONE:Europe/London
BEGIN:VEVENT
UID:494@sh4.org.uk
DTSTART;TZID=Europe/London:20240224T113000
DTEND;TZID=Europe/London:20240224T173000
DTSTAMP:20240223T120004Z
URL:https://www.sh4.org.uk/events/hash-1454-hash-residential-weekend/
SUMMARY:South Hams H4 Hash 1454 - Hash residential weekend - Pentire Hotel
DESCRIPTION:Itinery below. Non hotel stayers are welcome to join the hash\,
  it is £10 for beer and pasty stops.\n - Itinery below. Non hotel stayers
  are welcome to join the hash\, it is £10 for beer and pasty stops.\n
CATEGORIES:Hash Trails
LOCATION:Pentire Hotel Pentire Avenue\,\, Newquay\, England\, TR7 1NU
GEO:50.411456;-5.109936
X-APPLE-STRUCTURED-LOCATION;VALUE=URI;X-ADDRESS=Pentire Avenue\,\, Newquay\
 , England\, TR7 1NU\, United Kingdom;X-APPLE-RADIUS=100;X-TITLE=Pentire Ho
 tel:geo:50.411456,-5.109936
END:VEVENT
BEGIN:VTIMEZONE
TZID:Europe/London
X-LIC-LOCATION:Europe/London
BEGIN:STANDARD
DTSTART:20231029T010000
TZOFFSETFROM:+0100
TZOFFSETTO:+0000
TZNAME:GMT
END:STANDARD
END:VTIMEZONE
END:VCALENDAR