BEGIN:VCALENDAR
VERSION:2.0
PRODID:-//wp-events-plugin.com//7.2.3.1//EN
TZID:Europe/London
X-WR-TIMEZONE:Europe/London
BEGIN:VEVENT
UID:492@sh4.org.uk
DTSTART;TZID=Europe/London:20240313T193000
DTEND;TZID=Europe/London:20240313T230000
DTSTAMP:20240318T133749Z
URL:https://www.sh4.org.uk/events/hash-1456/
SUMMARY:South Hams H4 Hash 1458 - Pickwick Inn
DESCRIPTION:The Words according to MARTY\nHash 1458 - ST ANN'S CHAPEL\n\nWe
  were welcomed to the hash by Goolie and Know Nuts and told the usual 3-mi
 le Short and 5-mile Long (perfect distances!).\n\nKnow Nuts very kindly la
 id lines of flour under each barbed wire fence we had to navigate. Within 
 seconds\, Live Wire had a spectacular trip on a tree root\, but managed to
  hold it together and regain his balance\, much to the admiration of Nice 
 Buns and Rusty Bottom. ( I think Rusty was just glad she didn't have to pi
 ck gravel out of Live Wire's face and could continue on her Hash).\n\nThe 
 first boggy stream we arrived at\, Grumpy Arse was violated by Olive: Oliv
 e was running at such speed she slipped and deposited her water bottle up 
 Grumpy Arse's bottom (She wasn't grumpy after that!! [Ed. whatever floats 
 your boat...!] 👀).\n\nUnfortunately\, I had to leave before the R.A\, O
 vershot\, could present his tales to the group. Dimmers very kindly offere
 d to collect Overshot's scribblings. Overshot rather rudely said to him\, 
 “I bet Marty will just photograph the notes like she did last time”. W
 hen Dimmers told me about Overshot's comment on Wednesday night\, I was de
 eply offended by the slur on my Words-writing reputation (completely true\
 , but don't broadcast it!). Right: these are going to be the best words I 
 have ever written!! Then\, to my horror\, there were no notes...only drawi
 ngs of kitchens with squiggles on!! What is a girl supposed to do with tha
 t? So I took photos of the said plans\, just to prove that Captain Oversho
 t had not made any notes and fudged the entire R.A session!!\n\nSo\, it is
  with great sadness that my words end here\, as I do not have the relevant
  information to continue.\n\nOn On to wherever the Facebook Page or the We
 bsite says (Ed. please see next hash listing\, below\, for the exact 'wher
 ever').\n\nMarty xx\n\nDOWN DOWNS were awarded to:\n• Goolie &amp\; Know
  Nuts – Hares\n• Nutcracker – Birthday (with attendant overture)\n
 • Can't Come - gruesome thumb injury\n• Muckspreader - graceful estuar
 y dip\n• Dirty Nights - wardrobe malfunction\n• Virgin (Guest of Ching
  Chong? Says she 'might' come along again...)\n\nON ON to PLYMPTON-ish [se
 e below].\n__________________\n\n🏃 📸 🍻 You can enjoy (unedited) h
 ighlights from the St Ann's Chapel Hash 1458 on 13 March 2024\, and afterw
 ards at The Pickwick Inn\, by checking out Hash Flash's purpose-built phot
 o album on the SH4 Facebook Group 📸 🏃🍻\n\n_________________\n\nNe
 xt SH4 Hash 🐷👣:\n\nHASH 1459\, (Near) PLYMPTON - 20 March\, 2024\nCI
 RCLE UP: Ridge Road Junction\nJunction at Merafield Road to Ridge Rd\, Ply
 mouth \, PL7 1UF\nWhat 3 Words: menu.prices.order\nParking is at the side 
 of the road\, Ridge Road.\n\nON DOWN:\nThe Elburton Inn\n221 Elburton Road
 \nPlymouth\nPL9 8HX\nhttps://what3words.com/copy.dare.horses\n\nHares: Gaf
 fer\nRA: She's Ready\n\nPlease see the Hash 1459 event page on the SH4 Fac
 ebook Group for further details.\n\nAdd your photos of the evening's happe
 nings at PLYMPTON (Weds 20 March\, 2024) to the Hash 1459 photo album.\n\n
 📝 If you're the lucky Scribe at PLYMPTON this week\, please submit your
  edition of The Words to thewords@sh4.org.uk - by Sunday evening\, ideally
  - thank-you-please! 📝\n_________________\n\nSH4 MercHASHdise (OK\, OK\
 , I know: needs work...)\n\nShow your love for SH4 and wear your membershi
 p proudly with a bespoke SH4 car sticker!\n\nAvailable exclusively to SH4 
 members (and\, to be fair\, anyone else who wants one...) for the bargain 
 sum of £0.50 ea.\, you can afford one for every vehicle in your fleet! 
 😊\n\nSee Rizzo at the next meet for yours 👣\n\n_____________________
 \n\nAND watch this space for more exciting hashing events coming up in 202
 4\, including (but by no means limited to) Summer Solstice\, the SH4 1500 
 Hash\, and Pre-Xmas!\nON ON! 👣\n________ - The Words according to MARTY
 \nHash 1458 - ST ANN'S CHAPEL\n\nWe were welcomed to the hash by Goolie an
 d Know Nuts and told the usual 3-mile Short and 5-mile Long (perfect dista
 nces!).\n\nKnow Nuts very kindly laid lines of flour under each barbed wir
 e fence we had to navigate. Within seconds\, Live Wire had a spectacular t
 rip on a tree root\, but managed to hold it together and regain his balanc
 e\, much to the admiration of Nice Buns and Rusty Bottom. ( I think Rusty 
 was just glad she didn't have to pick gravel out of Live Wire's face and c
 ould continue on her Hash).\n\nThe first boggy stream we arrived at\, Grum
 py Arse was violated by Olive: Olive was running at such speed she slipped
  and deposited her water bottle up Grumpy Arse's bottom (She wasn't grumpy
  after that!! [Ed. whatever floats your boat...!] 👀).\n\nUnfortunately\
 , I had to leave before the R.A\, Overshot\, could present his tales to th
 e group. Dimmers very kindly offered to collect Overshot's scribblings. Ov
 ershot rather rudely said to him\, “I bet Marty will just photograph the
  notes like she did last time”. When Dimmers told me about Overshot's co
 mment on Wednesday night\, I was deeply offended by the slur on my Words-w
 riting reputation (completely true\, but don't broadcast it!). Right: thes
 e are going to be the best words I have ever written!! Then\, to my horror
 \, there were no notes...only drawings of kitchens with squiggles on!! Wha
 t is a girl supposed to do with that? So I took photos of the said plans\,
  just to prove that Captain Overshot had not made any notes and fudged the
  entire R.A session!!\n\nSo\, it is with great sadness that my words end h
 ere\, as I do not have the relevant information to continue.\n\nOn On to w
 herever the Facebook Page or the Website says (Ed. please see next hash li
 sting\, below\, for the exact 'wherever').\n\nMarty xx\n\nDOWN DOWNS were 
 awarded to:\n• Goolie &amp\; Know Nuts – Hares\n• Nutcracker – Bir
 thday (with attendant overture)\n• Can't Come - gruesome thumb injury\n
 • Muckspreader - graceful estuary dip\n• Dirty Nights - wardrobe malfu
 nction\n• Virgin (Guest of Ching Chong? Says she 'might' come along agai
 n...)\n\nON ON to PLYMPTON-ish [see below].\n__________________\n\n🏃 
 📸 🍻 You can enjoy (unedited) highlights from the St Ann's Chapel Has
 h 1458 on 13 March 2024\, and afterwards at The Pickwick Inn\, by checking
  out Hash Flash's purpose-built photo album on the SH4 Facebook Group 📸
  🏃🍻\n\n_________________\n\nNext SH4 Hash 🐷👣:\n\nHASH 1459\, (
 Near) PLYMPTON - 20 March\, 2024\nCIRCLE UP: Ridge Road Junction\nJunction
  at Merafield Road to Ridge Rd\, Plymouth \, PL7 1UF\nWhat 3 Words: menu.p
 rices.order\nParking is at the side of the road\, Ridge Road.\n\nON DOWN:\
 nThe Elburton Inn\n221 Elburton Road\nPlymouth\nPL9 8HX\nhttps://what3word
 s.com/copy.dare.horses\n\nHares: Gaffer\nRA: She's Ready\n\nPlease see the
  Hash 1459 event page on the SH4 Facebook Group for further details.\n\nAd
 d your photos of the evening's happenings at PLYMPTON (Weds 20 March\, 202
 4) to the Hash 1459 photo album.\n\n📝 If you're the lucky Scribe at PLY
 MPTON this week\, please submit your edition of The Words to thewords@sh4.
 org.uk - by Sunday evening\, ideally - thank-you-please! 📝\n___________
 ______\n\nSH4 MercHASHdise (OK\, OK\, I know: needs work...)\n\nShow your 
 love for SH4 and wear your membership proudly with a bespoke SH4 car stick
 er!\n\nAvailable exclusively to SH4 members (and\, to be fair\, anyone els
 e who wants one...) for the bargain sum of £0.50 ea.\, you can afford one
  for every vehicle in your fleet! 😊\n\nSee Rizzo at the next meet for y
 ours 👣\n\n_____________________\n\nAND watch this space for more exciti
 ng hashing events coming up in 2024\, including (but by no means limited t
 o) Summer Solstice\, the SH4 1500 Hash\, and Pre-Xmas!\nON ON! 👣\n_____
 ___
CATEGORIES:Hash Trails
LOCATION:Pickwick Inn Pickwick Inn\, St Anns Chapel\, Devon\, TQ7 4HQ
GEO:50.309706;-3.878542
X-APPLE-STRUCTURED-LOCATION;VALUE=URI;X-ADDRESS=Pickwick Inn\, St Anns Chap
 el\, Devon\, TQ7 4HQ\, United Kingdom;X-APPLE-RADIUS=100;X-TITLE=Pickwick 
 Inn:geo:50.309706,-3.878542
END:VEVENT
BEGIN:VTIMEZONE
TZID:Europe/London
X-LIC-LOCATION:Europe/London
BEGIN:STANDARD
DTSTART:20231029T010000
TZOFFSETFROM:+0100
TZOFFSETTO:+0000
TZNAME:GMT
END:STANDARD
END:VTIMEZONE
END:VCALENDAR