BEGIN:VCALENDAR
VERSION:2.0
PRODID:-//wp-events-plugin.com//7.2.3.1//EN
TZID:Europe/London
X-WR-TIMEZONE:Europe/London
BEGIN:VEVENT
UID:504@sh4.org.uk
DTSTART;TZID=Europe/London:20240508T193000
DTEND;TZID=Europe/London:20240508T230000
DTSTAMP:20240610T100933Z
URL:https://www.sh4.org.uk/events/hash-1465-2/
SUMMARY:South Hams H4 Hash 1466 - Journeys End Car Park
DESCRIPTION:The Words according to WETSPOT\nHash 1466 - RINGMORE\n\nIt all 
 started with Gaffer causing carnage blocking the whole road then nicking T
 raffic's parking space whilst she was reversing into it.\n\nIt was nice to
  see WGAS attend after his nasty accident and we all wish him a speedy rec
 overy.\n\nAt the Circle Up\, virgins were welcomed: Re-Entry's brother\, J
 osh\, and two others\; lots of notices\, including the East Allington Fun 
 Run - but no prize money\, and no guarantee you will not be beaten by an e
 ight-year-old!\n\nOn to the Hash: a lovely evening with a technical part t
 hrown in just for Gaffer. Not sure if it was the wood with bluebells in or
  Goolie's garden.\n\nWilly Waver: no gentleman this evening\, scrambling u
 p through the woods shouting "Every man for himself!" leaving the poor Har
 riets to fend for themselves.\n\nOlive\, after a hasher told her to keep t
 he sea to her right\, and not knowing her left from her right - or her a*s
 e from her elbow (Ed. Now\, now\, Wetspot...) - got lost.\n\nLive Wire cam
 e across a moody cow on the hash and this time it wasn't Marty (Ed. You're
  on your own\, WS!)\, it really was a cow - hence he came in five minutes 
 ahead of the rest of the Shorts.\n\nA lovely and much-welcomed Beer Stop: 
 Ging Gang force-feeding cupcakes to everybody (Ed. to Stop the [effects of
  the] Beer...?). Can't Come ravaged the food table\, wolfing down three bu
 ns\, crisps\, sweets and six shots\; Ching Chong doesn't feed him\, appare
 ntly! Dirty Nights\, coming away from the Beer Stop\, thought it was downh
 ill all the way back to the car: one too many shots\, I believe.\n\nBack a
 t the pub\, Down Downs were given to:\n• Goolie &amp\; Lo'T-Arse - Hares
 \n• Jyde - not packing his running gear\n• Virgin Claire\n• Gaffer -
  just being inconsiderate (Ed. You can do better than that...)\n• Flage 
 - 400 run T-Shirt\n• Nokkers - for just being annoying? (Ed. Erm\, not h
 ad your tofu today\, WS?)\nON ON to DITTISHAM\n__________________\n\n🏃 
 📸 🍻 You can enjoy highlights from the sunshiney Ringmore hash 1466 o
 n 8th May 2024\, and afterwards at The Journey's End\, by checking out Has
 h Flash's purpose-built photo album on the SH4 Facebook Group 📸 🏃
 🍻\n\n_________________\n\nNext SH4 Hash 🐷👣:\n\nHASH 1467 DITTISHA
 M - 15 May\, 2024\n\nTo complement Rubbery's spontaneous new angle on Face
 book 'Hash event' listings (he's mixed the order up a bit\, to keep you sh
 arp)\, and as a little aide memoire re. submitting The Words (...)\, I tho
 ught I'd do something similar here:\n\n📝 If you're the lucky Scribe at 
 DITTISHAM next week\, please submit your edition of The Words to thewords@
 sh4.org.uk - by Sunday evening (19 May)\, ideally - TVM! 📝\n\nCIRCLE UP
 :\nHam Lane Car Park\nDittisham\nTQ6 0HB\nWhat3Words: https://what3words.c
 om/yoga.headboard.mornings\n\nON DOWN:\nThe Ferry Boat Inn\nManor Street\n
 Dittisham\, Dartmouth\nTQ6 0EX\nWhat3Words: https://what3words.com/helpful
 ly.handwriting.embraced\n\nHares: Ching Chong &amp\; Can't Come\nRA: Overs
 hot\n\nHASH MENU for THE FERRY BOAT INN\n- Please see photo\, below.\n\nPu
 b’s new fryers may not be up and running.\nOrder food in advance: call 0
 1803 722368 or email: simonfbi@hotmail.com.\nFood can be ordered on the ni
 ght\, with a wait.\n\n&nbsp\;\n\nFor full details\, please see the Hash 14
 67 event page on the SH4 Facebook Group.\n\nAdd your photos of the evening
 's shenanigans at DITTISHAM (Weds 15 May\, 2024) to the Hash 1467 photo al
 bum (on Facebook).\n_________________\nHASH DIARY - Upcoming Events\n\n&nb
 sp\;\n\n👣\n_________________\n\n&nbsp\;\n\n👣\n_________________\n\nR
 AMBO SALCOMBE MARATHON 2024\nSaturday 21st September\, 2024\n\n👣\n\n
 🌟 🌟 🌟 Register here: https://bit.ly/RamboSM2024 🌟 🌟 🌟\nO
 R scan the QR code\, below:\n\n👣\n___________________\nSH4 MercHASHdise
  (Sorry - I still can't think of anything more inventive...)\n\nShow your 
 love for SH4 and wear your membership proudly with a bespoke SH4 car stick
 er!\n\nAvailable exclusively to SH4 members (and\, to be fair\, anyone els
 e who wants one...) for the bargain sum of £0.50 ea.\, you can afford one
  for every vehicle in your fleet! 😊\n\nSee Rizzo at the next meet for y
 ours 👣 - The Words according to WETSPOT\nHash 1466 - RINGMORE\n\nIt all
  started with Gaffer causing carnage blocking the whole road then nicking 
 Traffic's parking space whilst she was reversing into it.\n\nIt was nice t
 o see WGAS attend after his nasty accident and we all wish him a speedy re
 covery.\n\nAt the Circle Up\, virgins were welcomed: Re-Entry's brother\, 
 Josh\, and two others\; lots of notices\, including the East Allington Fun
  Run - but no prize money\, and no guarantee you will not be beaten by an 
 eight-year-old!\n\nOn to the Hash: a lovely evening with a technical part 
 thrown in just for Gaffer. Not sure if it was the wood with bluebells in o
 r Goolie's garden.\n\nWilly Waver: no gentleman this evening\, scrambling 
 up through the woods shouting "Every man for himself!" leaving the poor Ha
 rriets to fend for themselves.\n\nOlive\, after a hasher told her to keep 
 the sea to her right\, and not knowing her left from her right - or her a*
 se from her elbow (Ed. Now\, now\, Wetspot...) - got lost.\n\nLive Wire ca
 me across a moody cow on the hash and this time it wasn't Marty (Ed. You'r
 e on your own\, WS!)\, it really was a cow - hence he came in five minutes
  ahead of the rest of the Shorts.\n\nA lovely and much-welcomed Beer Stop:
  Ging Gang force-feeding cupcakes to everybody (Ed. to Stop the [effects o
 f the] Beer...?). Can't Come ravaged the food table\, wolfing down three b
 uns\, crisps\, sweets and six shots\; Ching Chong doesn't feed him\, appar
 ently! Dirty Nights\, coming away from the Beer Stop\, thought it was down
 hill all the way back to the car: one too many shots\, I believe.\n\nBack 
 at the pub\, Down Downs were given to:\n• Goolie &amp\; Lo'T-Arse - Hare
 s\n• Jyde - not packing his running gear\n• Virgin Claire\n• Gaffer 
 - just being inconsiderate (Ed. You can do better than that...)\n• Flage
  - 400 run T-Shirt\n• Nokkers - for just being annoying? (Ed. Erm\, not 
 had your tofu today\, WS?)\nON ON to DITTISHAM\n__________________\n\n🏃
  📸 🍻 You can enjoy highlights from the sunshiney Ringmore hash 1466 
 on 8th May 2024\, and afterwards at The Journey's End\, by checking out Ha
 sh Flash's purpose-built photo album on the SH4 Facebook Group 📸 🏃
 🍻\n\n_________________\n\nNext SH4 Hash 🐷👣:\n\nHASH 1467 DITTISHA
 M - 15 May\, 2024\n\nTo complement Rubbery's spontaneous new angle on Face
 book 'Hash event' listings (he's mixed the order up a bit\, to keep you sh
 arp)\, and as a little aide memoire re. submitting The Words (...)\, I tho
 ught I'd do something similar here:\n\n📝 If you're the lucky Scribe at 
 DITTISHAM next week\, please submit your edition of The Words to thewords@
 sh4.org.uk - by Sunday evening (19 May)\, ideally - TVM! 📝\n\nCIRCLE UP
 :\nHam Lane Car Park\nDittisham\nTQ6 0HB\nWhat3Words: https://what3words.c
 om/yoga.headboard.mornings\n\nON DOWN:\nThe Ferry Boat Inn\nManor Street\n
 Dittisham\, Dartmouth\nTQ6 0EX\nWhat3Words: https://what3words.com/helpful
 ly.handwriting.embraced\n\nHares: Ching Chong &amp\; Can't Come\nRA: Overs
 hot\n\nHASH MENU for THE FERRY BOAT INN\n- Please see photo\, below.\n\nPu
 b’s new fryers may not be up and running.\nOrder food in advance: call 0
 1803 722368 or email: simonfbi@hotmail.com.\nFood can be ordered on the ni
 ght\, with a wait.\n\n&nbsp\;\n\nFor full details\, please see the Hash 14
 67 event page on the SH4 Facebook Group.\n\nAdd your photos of the evening
 's shenanigans at DITTISHAM (Weds 15 May\, 2024) to the Hash 1467 photo al
 bum (on Facebook).\n_________________\nHASH DIARY - Upcoming Events\n\n&nb
 sp\;\n\n👣\n_________________\n\n&nbsp\;\n\n👣\n_________________\n\nR
 AMBO SALCOMBE MARATHON 2024\nSaturday 21st September\, 2024\n\n👣\n\n
 🌟 🌟 🌟 Register here: https://bit.ly/RamboSM2024 🌟 🌟 🌟\nO
 R scan the QR code\, below:\n\n👣\n___________________\nSH4 MercHASHdise
  (Sorry - I still can't think of anything more inventive...)\n\nShow your 
 love for SH4 and wear your membership proudly with a bespoke SH4 car stick
 er!\n\nAvailable exclusively to SH4 members (and\, to be fair\, anyone els
 e who wants one...) for the bargain sum of £0.50 ea.\, you can afford one
  for every vehicle in your fleet! 😊\n\nSee Rizzo at the next meet for y
 ours 👣
CATEGORIES:Hash Trails
LOCATION:Journeys End Car Park Middle of Ringmore\, Ringmore\, TQ7 4HL
GEO:50.298136;-3.89293
X-APPLE-STRUCTURED-LOCATION;VALUE=URI;X-ADDRESS=Middle of Ringmore\, Ringmo
 re\, TQ7 4HL\, United Kingdom;X-APPLE-RADIUS=100;X-TITLE=Journeys End Car 
 Park:geo:50.298136,-3.89293
END:VEVENT
BEGIN:VTIMEZONE
TZID:Europe/London
X-LIC-LOCATION:Europe/London
BEGIN:DAYLIGHT
DTSTART:20240331T020000
TZOFFSETFROM:+0000
TZOFFSETTO:+0100
TZNAME:BST
END:DAYLIGHT
END:VTIMEZONE
END:VCALENDAR