BEGIN:VCALENDAR
VERSION:2.0
PRODID:-//wp-events-plugin.com//7.2.3.1//EN
TZID:Europe/London
X-WR-TIMEZONE:Europe/London
BEGIN:VEVENT
UID:506@sh4.org.uk
DTSTART;TZID=Europe/London:20240522T193000
DTEND;TZID=Europe/London:20240522T230000
DTSTAMP:20240529T113618Z
URL:https://www.sh4.org.uk/events/hash-1467/
SUMMARY:South Hams H4 Hash 1468 - Bring cash for food - Shipley Bridge
DESCRIPTION:On down will be from the Station House Hotel Cafe\nChicken Curr
 y and alternative veg options. Jail Ale keg. £5 cash for food please. Sho
 rts and walkers should be there in good time\, longs will depend how good 
 your trail following skills are. On On\nThe Words according to BLOWN OFF\n
 Hash 1468 - SHIPLEY BRIDGE\n\nIt was a warm\, balmy summer's evening. The 
 light breeze drifted along\, in the background the subtle sound of lambs b
 leating and calves moo-ing could be heard. The river gently meandered\, wh
 ilst a lone unicorn took time for a drink. Blown off…Blown off! That’s
  a funny name for a mono-horned beast…I woke with a jump.\n\nBack in the
  real world\, it was a classic English summer's eve. Misty\, damp and mise
 rable\, and that was just the hashers. Mustering some enthusiasm\, we circ
 led up in the car park at Shipley Bridge. Even Nice Buns was there\, despi
 te the weather. Also\, welcome back to Sex Wax. The liquid sunshine contin
 ued.\n\nSomehow\, I\, like the most naive of rookies\, ended up somewhat s
 urrounded and offered up as sacrificial lamb for The Words (Ed. or what is
  sometimes described as one's turn). Thus\, here are my memoirs of the eve
 ning's adventure:\n\nIt started with a monlogue from Re-Entry\, to which I
  wasn’t really paying attention\, although I do believe there are a numb
 er of gerbils without their bedding any longer. The good news was that it 
 was still raining.\n\nAnd like that\, we were off. At least\, the Longs an
 d Walkers were. The adventurous Shorts (all three of them) had to wait for
  hash hero\, Rubbery\, to get his large twanger out (Ed. careful with that
 \, now...)\, giving them something to hold on to as they crossed the gnarl
 y-looking river. After crossing\, and led by Spunky\, they continued up to
  the tor\, got lost\, but somehow all returned alive. The rain continued.\
 n\nIt was out onto the moors for the rest of us\, and - unlike any other h
 ash ever - up\, up\, up. Weaving between paths\, shiggy and animal tracks\
 , we followed the trail as best we could\, the ‘interesting’ laying en
 abling the tail-enders to keep within view of the front - at least to star
 t with. The rain sustained.\n\nContinuing up and into some proper moorland
  bog\, Gaffer's sniper was clearly in the area\, taking people out left\, 
 right and centre - Shaggy\, Dimwit\, Triple Top and myself all falling vic
 tim: there was more going down than Triple Top's browser history. It pisse
 d down persistently (Ed. beautifully alliterated 👌).\n\nMeanwhile\, a b
 reakaway group of somewhere between 10 and 10\,000 hashers embarked on the
  epic tarmac trail up to the Dam. A history lesson\, presented by Dulux\, 
 was what awaited them at the top. How she got the OHP up there no one know
 s. The rain was unabating.\n\nBack to the Longs\, who by now were somewher
 e in the region of Dartmoor. Bit of Ruff was having flashbacks to his Corn
 wood adventure\, but he was convinced by WetSpot to follow the trail like 
 the rest of us. After seven hours of continuous climbing\, we summited and
 \, in a heartbeat\, began to descend. Down into Overshot's (love) gulley w
 e headed\, arriving shortly upon an abandoned building\, WetSpot spying hi
 s next Grand design on the way. The mizzle perpetuated.\n\nNot long after\
 , and a small river crossing was navigated\, the FRBs catching up with She
 's Ready and Little Chef\, who had been directed by the Hare on a shortcut
 . Little Chef looked particularly wet after a neck-high dip (Ed. there's n
 o such thing as a free...er\, shortcut[?]). Nice Tackle\, not to be outdon
 e by Rubbery’s tackle\, offered a hand to a number of harriets across sa
 id river. Did I mention the rain?\n\nJust as we thought it was downhill al
 l the way home\, another mountain appeared in front of us. She's Ready cou
 ld hear heavy breathing as Overshot came from behind [Ed. 👀] . Somewher
 e\, still climbing up onto the moors\, the Terrific Trio (Lowt'arse\, Oliv
 e and Barbarella) were doing their best to annoy the Hare\, deliberately g
 oing slow. That’ll learn him! They were well prepared with heavy coats a
 nd headtorches. It drizzled drastically (Ed. and step away from the Thesau
 rus\, BO...).\n\nAfter what was an hour and a half (for the front!)\, we a
 rrived back at the car park\, where we were greeted by swarms of midges an
 d biting b*stards. The race was now on to The Station House. The rain…st
 opped.\n\nBack in the warmth of the Inn\, Traffic Jam was awarded her 1000
 th hash t-shirt\, and She's Ready prepared to make TC a very happy man (Vi
 ctoria sponge\, I believe).\n\nDown Downs were awarded to some people for 
 some of the things\, but not all of the people for all of the things. (Ed.
  masterfully summarised: I can only contribute a bit more detail based on 
 some fairly straightforward deductions and\, er\, some online photo-album 
 scouring: Re-Entry\, for hare-ing\; I think Py gracefully nominated Barbie
  for her co-hare Down Down\; Traffic\, for 1000 [!] hashes\, and a bespoke
  T-shirt\; WGAS\, awarded an enamel badge retrieved from Lazy Git's innard
 s[!] - a tiny\, metaphorical torch\, as it were\, handed [a little gingerl
 y...] from one post-operative hasher to another[!]\; Bit of Ruff for going
  a little off-piste\, again [?]\; Spunky\, for fearlessly leading two visi
 ting/virgin hashers across the river on the [true] intrepid Short trail\; 
 and Rubbery\, for superlative hash-hero-ing and his impressive tackle).\n\
 nAnd\, just like that\, they left.\n\nMaybe it was just a dream after all
 …\n\nThanks Again to the Hares (Re-entry &amp\; Py) for persisting in th
 e lovely conditions.\n\nOn-On to The Fortescue Arms\, EAST ALLINGTON court
 esy of Overshot\, Sniffer and the landlord's large local sausages\n_______
 ___________\n\n🏃 📸 🍻 You can enjoy highlights from the soggy Ship
 ley Bridge hash 1468 on 22nd May 2024\, and afterwards at The Station Hous
 e Cafe\, South Brent\, by checking out Hash Flash's purpose-built photo al
 bum on the SH4 Facebook Group 📸 🏃🍻\n\n_________________\n\nNext S
 H4 Hash 🐷👣:\n\nHASH 1469 - EAST ALLINGTON - 29th May\, 2024\n\n🍻
 🏃 🥳 OVERSHOT'S 50th BIRTHDAY HASH! 🥳 🏃🍻\n\nCIRCLE UP:\nThe 
 Fortescue Arms\nGreen Lane\nEast Allington\nTQ9 7RA\nWhat3Words: ///wager.
 spaces.prominent\n\nON DOWN:\nSee above.\n\nHares: Overshot\, Sniffer &amp
 \; Chipolata\nRA: Re-Entry\n\nFor full details\, please see the Hash 1469 
 event page on the SH4 Facebook Group.\n\n📝 If you're the lucky Scribe a
 t EAST ALLINGTON tomorrow\, please submit your edition of The Words to the
 words@sh4.org.uk - by Sunday evening (2 June)\, ideally - TVM! 📝\n\nAdd
  your photos of the evening's carryings-on at East Allington (Weds 29 May\
 , 2024) to the Hash 1469 photo album\, when it has been conjured into bein
 g.\n_________________\nHASH DIARY - Upcoming Events\n\n🌟PLEASE LET GOOL
 IE KNOW ASAP IF YOU ARE HOPING/INTENDING TO ATTEND THE MEMORIAL HASH FOR F
 ALLEN WOMAN ON 1 JUNE - BRIXHAM YACHT CLUB NEED TO CONFIRM NUMBERS: THANK 
 YOU!🌟\n\nRubbery and Pony Shafter have also created a photo album on Fa
 cebook - Fallen Woman's Memorial Album - to which hashers are invited to c
 ontribute photos representing their brightest and best memories of the fab
 ulous Fallen Woman.\n\n👣\n_________________\n\n&nbsp\;\n\n👣\n_______
 __________\n\nRAMBO SALCOMBE MARATHON 2024\nSaturday 21st September\, 2024
 \n\n👣\n\n🌟 🌟 🌟 Register here: https://bit.ly/RamboSM2024 🌟 
 🌟 🌟\nOR scan the QR code\, below:\n\n👣\n___________________\nSH4 
 MercHASHdise (Sorry - I still can't think of anything more inventive...)\n
 \nShow your love for SH4 and wear your membership proudly with a bespoke S
 H4 car sticker!\n\nAvailable exclusively to SH4 members (and\, to be fair\
 , anyone else who wants one...) for the bargain sum of £0.50 ea.\, you ca
 n afford one for every vehicle in your fleet! 😊\n\nSee Rizzo at the nex
 t meet for yours 👣 - On down will be from the Station House Hotel Cafe\
 nChicken Curry and alternative veg options. Jail Ale keg. £5 cash for foo
 d please. Shorts and walkers should be there in good time\, longs will dep
 end how good your trail following skills are. On On\nThe Words according t
 o BLOWN OFF\nHash 1468 - SHIPLEY BRIDGE\n\nIt was a warm\, balmy summer's 
 evening. The light breeze drifted along\, in the background the subtle sou
 nd of lambs bleating and calves moo-ing could be heard. The river gently m
 eandered\, whilst a lone unicorn took time for a drink. Blown off…Blown 
 off! That’s a funny name for a mono-horned beast…I woke with a jump.\n
 \nBack in the real world\, it was a classic English summer's eve. Misty\, 
 damp and miserable\, and that was just the hashers. Mustering some enthusi
 asm\, we circled up in the car park at Shipley Bridge. Even Nice Buns was 
 there\, despite the weather. Also\, welcome back to Sex Wax. The liquid su
 nshine continued.\n\nSomehow\, I\, like the most naive of rookies\, ended 
 up somewhat surrounded and offered up as sacrificial lamb for The Words (E
 d. or what is sometimes described as one's turn). Thus\, here are my memoi
 rs of the evening's adventure:\n\nIt started with a monlogue from Re-Entry
 \, to which I wasn’t really paying attention\, although I do believe the
 re are a number of gerbils without their bedding any longer. The good news
  was that it was still raining.\n\nAnd like that\, we were off. At least\,
  the Longs and Walkers were. The adventurous Shorts (all three of them) ha
 d to wait for hash hero\, Rubbery\, to get his large twanger out (Ed. care
 ful with that\, now...)\, giving them something to hold on to as they cros
 sed the gnarly-looking river. After crossing\, and led by Spunky\, they co
 ntinued up to the tor\, got lost\, but somehow all returned alive. The rai
 n continued.\n\nIt was out onto the moors for the rest of us\, and - unlik
 e any other hash ever - up\, up\, up. Weaving between paths\, shiggy and a
 nimal tracks\, we followed the trail as best we could\, the ‘interesting
 ’ laying enabling the tail-enders to keep within view of the front - at 
 least to start with. The rain sustained.\n\nContinuing up and into some pr
 oper moorland bog\, Gaffer's sniper was clearly in the area\, taking peopl
 e out left\, right and centre - Shaggy\, Dimwit\, Triple Top and myself al
 l falling victim: there was more going down than Triple Top's browser hist
 ory. It pissed down persistently (Ed. beautifully alliterated 👌).\n\nMe
 anwhile\, a breakaway group of somewhere between 10 and 10\,000 hashers em
 barked on the epic tarmac trail up to the Dam. A history lesson\, presente
 d by Dulux\, was what awaited them at the top. How she got the OHP up ther
 e no one knows. The rain was unabating.\n\nBack to the Longs\, who by now 
 were somewhere in the region of Dartmoor. Bit of Ruff was having flashback
 s to his Cornwood adventure\, but he was convinced by WetSpot to follow th
 e trail like the rest of us. After seven hours of continuous climbing\, we
  summited and\, in a heartbeat\, began to descend. Down into Overshot's (l
 ove) gulley we headed\, arriving shortly upon an abandoned building\, WetS
 pot spying his next Grand design on the way. The mizzle perpetuated.\n\nNo
 t long after\, and a small river crossing was navigated\, the FRBs catchin
 g up with She's Ready and Little Chef\, who had been directed by the Hare 
 on a shortcut. Little Chef looked particularly wet after a neck-high dip (
 Ed. there's no such thing as a free...er\, shortcut[?]). Nice Tackle\, not
  to be outdone by Rubbery’s tackle\, offered a hand to a number of harri
 ets across said river. Did I mention the rain?\n\nJust as we thought it wa
 s downhill all the way home\, another mountain appeared in front of us. Sh
 e's Ready could hear heavy breathing as Overshot came from behind [Ed. 
 👀] . Somewhere\, still climbing up onto the moors\, the Terrific Trio (
 Lowt'arse\, Olive and Barbarella) were doing their best to annoy the Hare\
 , deliberately going slow. That’ll learn him! They were well prepared wi
 th heavy coats and headtorches. It drizzled drastically (Ed. and step away
  from the Thesaurus\, BO...).\n\nAfter what was an hour and a half (for th
 e front!)\, we arrived back at the car park\, where we were greeted by swa
 rms of midges and biting b*stards. The race was now on to The Station Hous
 e. The rain…stopped.\n\nBack in the warmth of the Inn\, Traffic Jam was 
 awarded her 1000th hash t-shirt\, and She's Ready prepared to make TC a ve
 ry happy man (Victoria sponge\, I believe).\n\nDown Downs were awarded to 
 some people for some of the things\, but not all of the people for all of 
 the things. (Ed. masterfully summarised: I can only contribute a bit more 
 detail based on some fairly straightforward deductions and\, er\, some onl
 ine photo-album scouring: Re-Entry\, for hare-ing\; I think Py gracefully 
 nominated Barbie for her co-hare Down Down\; Traffic\, for 1000 [!] hashes
 \, and a bespoke T-shirt\; WGAS\, awarded an enamel badge retrieved from L
 azy Git's innards[!] - a tiny\, metaphorical torch\, as it were\, handed [
 a little gingerly...] from one post-operative hasher to another[!]\; Bit o
 f Ruff for going a little off-piste\, again [?]\; Spunky\, for fearlessly 
 leading two visiting/virgin hashers across the river on the [true] intrepi
 d Short trail\; and Rubbery\, for superlative hash-hero-ing and his impres
 sive tackle).\n\nAnd\, just like that\, they left.\n\nMaybe it was just a 
 dream after all…\n\nThanks Again to the Hares (Re-entry &amp\; Py) for p
 ersisting in the lovely conditions.\n\nOn-On to The Fortescue Arms\, EAST 
 ALLINGTON courtesy of Overshot\, Sniffer and the landlord's large local sa
 usages\n__________________\n\n🏃 📸 🍻 You can enjoy highlights from
  the soggy Shipley Bridge hash 1468 on 22nd May 2024\, and afterwards at T
 he Station House Cafe\, South Brent\, by checking out Hash Flash's purpose
 -built photo album on the SH4 Facebook Group 📸 🏃🍻\n\n____________
 _____\n\nNext SH4 Hash 🐷👣:\n\nHASH 1469 - EAST ALLINGTON - 29th May\
 , 2024\n\n🍻🏃 🥳 OVERSHOT'S 50th BIRTHDAY HASH! 🥳 🏃🍻\n\nCI
 RCLE UP:\nThe Fortescue Arms\nGreen Lane\nEast Allington\nTQ9 7RA\nWhat3Wo
 rds: ///wager.spaces.prominent\n\nON DOWN:\nSee above.\n\nHares: Overshot\
 , Sniffer &amp\; Chipolata\nRA: Re-Entry\n\nFor full details\, please see 
 the Hash 1469 event page on the SH4 Facebook Group.\n\n📝 If you're the 
 lucky Scribe at EAST ALLINGTON tomorrow\, please submit your edition of Th
 e Words to thewords@sh4.org.uk - by Sunday evening (2 June)\, ideally - TV
 M! 📝\n\nAdd your photos of the evening's carryings-on at East Allington
  (Weds 29 May\, 2024) to the Hash 1469 photo album\, when it has been conj
 ured into being.\n_________________\nHASH DIARY - Upcoming Events\n\n🌟P
 LEASE LET GOOLIE KNOW ASAP IF YOU ARE HOPING/INTENDING TO ATTEND THE MEMOR
 IAL HASH FOR FALLEN WOMAN ON 1 JUNE - BRIXHAM YACHT CLUB NEED TO CONFIRM N
 UMBERS: THANK YOU!🌟\n\nRubbery and Pony Shafter have also created a pho
 to album on Facebook - Fallen Woman's Memorial Album - to which hashers ar
 e invited to contribute photos representing their brightest and best memor
 ies of the fabulous Fallen Woman.\n\n👣\n_________________\n\n&nbsp\;\n\
 n👣\n_________________\n\nRAMBO SALCOMBE MARATHON 2024\nSaturday 21st Se
 ptember\, 2024\n\n👣\n\n🌟 🌟 🌟 Register here: https://bit.ly/Ram
 boSM2024 🌟 🌟 🌟\nOR scan the QR code\, below:\n\n👣\n___________
 ________\nSH4 MercHASHdise (Sorry - I still can't think of anything more i
 nventive...)\n\nShow your love for SH4 and wear your membership proudly wi
 th a bespoke SH4 car sticker!\n\nAvailable exclusively to SH4 members (and
 \, to be fair\, anyone else who wants one...) for the bargain sum of £0.5
 0 ea.\, you can afford one for every vehicle in your fleet! 😊\n\nSee Ri
 zzo at the next meet for yours 👣
CATEGORIES:Hash Trails
LOCATION:Shipley Bridge Shipley Bridge\, South Brent\, TQ10 9EL
GEO:50.450891;-3.859462
X-APPLE-STRUCTURED-LOCATION;VALUE=URI;X-ADDRESS=Shipley Bridge\, South Bren
 t\, TQ10 9EL\, United Kingdom;X-APPLE-RADIUS=100;X-TITLE=Shipley Bridge:ge
 o:50.450891,-3.859462
END:VEVENT
BEGIN:VTIMEZONE
TZID:Europe/London
X-LIC-LOCATION:Europe/London
BEGIN:DAYLIGHT
DTSTART:20240331T020000
TZOFFSETFROM:+0000
TZOFFSETTO:+0100
TZNAME:BST
END:DAYLIGHT
END:VTIMEZONE
END:VCALENDAR