BEGIN:VCALENDAR
VERSION:2.0
PRODID:-//wp-events-plugin.com//7.2.3.1//EN
TZID:Europe/London
X-WR-TIMEZONE:Europe/London
BEGIN:VEVENT
UID:503@sh4.org.uk
DTSTART;TZID=Europe/London:20240601T130000
DTEND;TZID=Europe/London:20240601T230000
DTSTAMP:20240525T190216Z
URL:https://www.sh4.org.uk/events/hash-1470-fallen-womans-memorial-hash/
SUMMARY:South Hams H4 Fallen Womans Memorial Hash - Food orders needed by 2
 5th May - Oxen Cove Car Park
DESCRIPTION: - 
CATEGORIES:Hash Trails
LOCATION:Oxen Cove Car Park Brixham\, Brixham\, Devon
GEO:50.400563;-3.516156
X-APPLE-STRUCTURED-LOCATION;VALUE=URI;X-ADDRESS=Brixham\, Brixham\, Devon\,
  United Kingdom;X-APPLE-RADIUS=100;X-TITLE=Oxen Cove Car Park:geo:50.40056
 3,-3.516156
END:VEVENT
BEGIN:VTIMEZONE
TZID:Europe/London
X-LIC-LOCATION:Europe/London
BEGIN:DAYLIGHT
DTSTART:20240331T020000
TZOFFSETFROM:+0000
TZOFFSETTO:+0100
TZNAME:BST
END:DAYLIGHT
END:VTIMEZONE
END:VCALENDAR