BEGIN:VCALENDAR
VERSION:2.0
PRODID:-//wp-events-plugin.com//7.2.3.1//EN
TZID:Europe/London
X-WR-TIMEZONE:Europe/London
BEGIN:VEVENT
UID:514@sh4.org.uk
DTSTART;TZID=Europe/London:20240703T193000
DTEND;TZID=Europe/London:20240703T230000
DTSTAMP:20240718T104706Z
URL:https://www.sh4.org.uk/events/hash-1476/
SUMMARY:South Hams H4 Hash 1476 - Burrator Quarry Car Park
DESCRIPTION:On Down at the Walkhampton Inn\nW3W ///branching.stow.buildings
 \nThe Words according to DIMWIT\nHash 1476 - BURRATOR:\n\nREVELATION 19:20
 \nAnd the beast was taken\, and with him the false prophet\nwho wrought mi
 racles in his presence\, by which he deceived them that had received the n
 aming by the hash\, and them that believed his lies.\n\nThese were cast al
 ive into a lake of fire\,\nburning with brimstone.\n\nMaybe extreme in its
  outcome\, but the above passage fully reflects the astonishment at the ne
 ws that came to light during Wednesday's hash. (Even more astonishing than
  Lazy Git's ability to hit every pothole in the South Hams on the way to i
 t.)\nHas a long-standing hasher\, who runs among us\, really been hiding h
 is true identity?\nWell\, it appears so\, as the guilty party's better hal
 f has admitted the truth is out there! (cue X-Files music) But\, due to co
 nfidentiality agreements\, it must be kept secret - for now. [Ed. Ahhha: s
 candal and intrigue...! 👀]\n\nOther revelations that came to light duri
 ng Can't Come's virgin RA'ing (excellent job\, by the way CC [thought you 
 were a natural] - additional brackets for the enjoyment of the Editor [Ed.
  duly noted\, and effort appreciated])\, were as follows:\n\n• CC will\,
  in future\, willingly give absolutely no f##ks\, is happy to blend fact a
 nd fiction\, is willing to take one hit\, but N.B. complaints will be deal
 t accordingly (in other words\, [complainant] told to FO). [Ed. a solid ma
 nifesto that I think RAs\, past and present\, would happily endorse.]\n•
  It was announced that July 3rd is\, in fact\, American Independence Day\,
  but due to running out of beer and their inability to count\, it was move
 d forward a day to 4th July. [Ed. another historical gem.]\n• Another hu
 ge revelation to come to light on the Longs\, was Shaggy's admission to ha
 ving a list of all good car parks in the South Hams (having a dog lead\, b
 ut no dog was mentioned). [Ed. I notice that the RA is already delivering 
 amply on his second stated declaration...😆]\n• Can't Come was explain
 ing the merits of Withnail and I to Wetspot as a must-watch movie - someth
 ing about the ambiance of the landscape and substance abuse - but Wetspot 
 insisted he would rather watch Love Island as he is a Vegan [Ed. can't arg
 ue with that logic...😂].\n• It was also reminisced by the Longs that\
 , on a previous hash laid on Dartmoor by Triple Top\, Dimwit came to grief
  in TT's Love Gully\, resulting in a badly-bruised ankle. No such luck bef
 ell him this time [Ed. Gah! Missed out on a Down Down\, again\, sure-foote
 d Dimwit - you really must be clumsier than that].\n• As an added bonus 
 for the Longs\, TT thought it would be a smart move to send them off down 
 the Slope of Doom. Rear Entry [Ed. another case of identity crisis...?] co
 mplained about this\, as it got his very clean trainers muddy\, but it was
  much worse for Can't Come\, as - in his words - he had a dirty protest (c
 ommonly referred to as a Code Brown).\n• As is the norm on SH4 hashes th
 ese days - in fact\, everyday - Bit of Ruff and Little Chef arrived at the
  Circle Up 15 mins late\, but due to smart running and clever short-cuttin
 g (of which Gaffer would be proud)\, and without Whisperer to provide addi
 tional directions\, BOR caught up with the Longs somewhere around the rese
 rvoir [Ed. impressive 'levelling up'\, BOR.]\n• Boaty\, due to Tourettes
 \, or loving the sound of his own voice\, was heard to shout continually a
 bout barbed wire\, and low-hanging trees. Something about this not affecti
 ng the hare was mentioned. [Ed. I bet he hasn't heard that before...😆]\
 n• It was noted by the Shorts at the beginning that there were two rescu
 e vans out already\; someone mentioned Olive had already pre-booked these 
 for later.\n• Talking of Olive\, at the Circle Up she was somewhat conce
 rned about the distance\, as she was going to run the trail alone owing to
  the other Lost Causes having abandoned her. Ever the gentleman\, Triple T
 op assured her he would get her around safely\, but to be sure a fully-cha
 rged head torch was taken.\n• Olive again\, and this was surely coincide
 ntal (the car park was not on Shaggy's list [Ed. surely an oversight\; pri
 me location!])\, caught [Ed. hopefully in a purely metaphorical sense] a l
 ady naked in the back of a van. The interior light was on\, but not knowin
 g the correct etiquette in this situation\, she just observed with a horri
 fied expression.\n• Shaggy did not fall over!\n• The Birthday song was
  regaled to Winnie and absent Ching Chong\, much to delight of the local d
 rinkers. [Ed. they really concealed that 'delight' masterfully...😂]\n\n
 The Down Downs were awarded to:\n• The Hare\, Triple Top - for a perfect
 ly adequate hash!\n• Bit of Ruff - services to time-keeping\n• Winnie 
 - 21st birthday girl\n• Olive\, I think [Ed. affirmative] - for multiple
  wrongdoings\nThere were possibly others\, who will remain nameless. [Ed. 
 Can't Come for virgin stint as RA/on behalf of absentee birthday girl\, Ch
 ing Chong\, and Gary Glitter\, for virgin RA-ing last week...and also Twis
 ted Sister (sorry - don't recall why\, but doubtless richly deserved for t
 here to be a 7th DD awarded!)]\n\nOn On to SOUTH BRENT\, again\, courtesy 
 of Willy Waver\, possibly The Packhorse or possibly The Station House - wh
 o knows! [Ed. 👋 It is\, indeed\, The Packhorse\, with Circle Up at the 
 Station Road Carpark: please see event details below and on the SH4 Facebo
 ok Group]\n\nThe words were brought to you this week by the letter D.\n(cu
 e Sesame street music)\n👣\n__________________\n\n🏃 📸 🍻 You can
  enjoy highlights from the spectacular BURRATOR hash on 3 July 2024 by che
 cking out Hash Flash's purpose-built photo album on the SH4 Facebook page 
 📸 🏃🍻\n\n_________________\n\nNext SH4 Hash 🐷👣:\n\nHASH 1477
  - SOUTH BRENT\, 10 July 2024\n\nCIRCLE UP:\nStation Road Carpark\nStation
  Road\nSouth Brent\nWhat3Words: ///dynamic.crabmeat.fiction\n\nON DOWN:\nT
 he Packhorse\nPlymouth Road\nSouth Brent\nTQ10 9\nWhat3Words: ///sparrows.
 readers.newest\n\nHare: Willy Waver\nRA: Squashed Balls\nFor full details\
 , please see the Hash 1477 event page on the SH4 Facebook Group.\n\n📝 I
 f you're the lucky Scribe at SOUTH BRENT next week\, please submit your ed
 ition of The Words to thewords@sh4.org.uk by Sunday evening (14 July)\, id
 eally - TVM! 📝\n\nAdd your photos of how the evening went down (Weds 10
  July\, 2024) to the Hash 1477 photo album\, when it has been conjured int
 o being.\n\n_________________\nHASH DIARY - Upcoming Events\n\n___________
 ______\n\nRAMBO SALCOMBE MARATHON 2024\nSaturday 21st September\, 2024\n\n
 👣\n\n🌟 🌟 🌟 Register here: https://bit.ly/RamboSM2024 🌟 🌟
  🌟\nOR scan the QR code\, below:\n\n👣\n___________________\nSH4 Merc
 HASHdise\n\nShow your love for SH4 and wear your membership proudly with a
  bespoke SH4 car sticker!\n\nAvailable exclusively to SH4 members (and\, t
 o be fair\, anyone else who wants one...) for the bargain sum of £0.50 ea
 .\, you can afford one for every vehicle in your fleet! 😊\n\nSee Rizzo 
 at the next meet for yours 👣 - On Down at the Walkhampton Inn\nW3W ///b
 ranching.stow.buildings\nThe Words according to DIMWIT\nHash 1476 - BURRAT
 OR:\n\nREVELATION 19:20\nAnd the beast was taken\, and with him the false 
 prophet\nwho wrought miracles in his presence\, by which he deceived them 
 that had received the naming by the hash\, and them that believed his lies
 .\n\nThese were cast alive into a lake of fire\,\nburning with brimstone.\
 n\nMaybe extreme in its outcome\, but the above passage fully reflects the
  astonishment at the news that came to light during Wednesday's hash. (Eve
 n more astonishing than Lazy Git's ability to hit every pothole in the Sou
 th Hams on the way to it.)\nHas a long-standing hasher\, who runs among us
 \, really been hiding his true identity?\nWell\, it appears so\, as the gu
 ilty party's better half has admitted the truth is out there! (cue X-Files
  music) But\, due to confidentiality agreements\, it must be kept secret -
  for now. [Ed. Ahhha: scandal and intrigue...! 👀]\n\nOther revelations 
 that came to light during Can't Come's virgin RA'ing (excellent job\, by t
 he way CC [thought you were a natural] - additional brackets for the enjoy
 ment of the Editor [Ed. duly noted\, and effort appreciated])\, were as fo
 llows:\n\n• CC will\, in future\, willingly give absolutely no f##ks\, i
 s happy to blend fact and fiction\, is willing to take one hit\, but N.B. 
 complaints will be dealt accordingly (in other words\, [complainant] told 
 to FO). [Ed. a solid manifesto that I think RAs\, past and present\, would
  happily endorse.]\n• It was announced that July 3rd is\, in fact\, Amer
 ican Independence Day\, but due to running out of beer and their inability
  to count\, it was moved forward a day to 4th July. [Ed. another historica
 l gem.]\n• Another huge revelation to come to light on the Longs\, was S
 haggy's admission to having a list of all good car parks in the South Hams
  (having a dog lead\, but no dog was mentioned). [Ed. I notice that the RA
  is already delivering amply on his second stated declaration...😆]\n•
  Can't Come was explaining the merits of Withnail and I to Wetspot as a mu
 st-watch movie - something about the ambiance of the landscape and substan
 ce abuse - but Wetspot insisted he would rather watch Love Island as he is
  a Vegan [Ed. can't argue with that logic...😂].\n• It was also remini
 sced by the Longs that\, on a previous hash laid on Dartmoor by Triple Top
 \, Dimwit came to grief in TT's Love Gully\, resulting in a badly-bruised 
 ankle. No such luck befell him this time [Ed. Gah! Missed out on a Down Do
 wn\, again\, sure-footed Dimwit - you really must be clumsier than that].\
 n• As an added bonus for the Longs\, TT thought it would be a smart move
  to send them off down the Slope of Doom. Rear Entry [Ed. another case of 
 identity crisis...?] complained about this\, as it got his very clean trai
 ners muddy\, but it was much worse for Can't Come\, as - in his words - he
  had a dirty protest (commonly referred to as a Code Brown).\n• As is th
 e norm on SH4 hashes these days - in fact\, everyday - Bit of Ruff and Lit
 tle Chef arrived at the Circle Up 15 mins late\, but due to smart running 
 and clever short-cutting (of which Gaffer would be proud)\, and without Wh
 isperer to provide additional directions\, BOR caught up with the Longs so
 mewhere around the reservoir [Ed. impressive 'levelling up'\, BOR.]\n• B
 oaty\, due to Tourettes\, or loving the sound of his own voice\, was heard
  to shout continually about barbed wire\, and low-hanging trees. Something
  about this not affecting the hare was mentioned. [Ed. I bet he hasn't hea
 rd that before...😆]\n• It was noted by the Shorts at the beginning th
 at there were two rescue vans out already\; someone mentioned Olive had al
 ready pre-booked these for later.\n• Talking of Olive\, at the Circle Up
  she was somewhat concerned about the distance\, as she was going to run t
 he trail alone owing to the other Lost Causes having abandoned her. Ever t
 he gentleman\, Triple Top assured her he would get her around safely\, but
  to be sure a fully-charged head torch was taken.\n• Olive again\, and t
 his was surely coincidental (the car park was not on Shaggy's list [Ed. su
 rely an oversight\; prime location!])\, caught [Ed. hopefully in a purely 
 metaphorical sense] a lady naked in the back of a van. The interior light 
 was on\, but not knowing the correct etiquette in this situation\, she jus
 t observed with a horrified expression.\n• Shaggy did not fall over!\n
 • The Birthday song was regaled to Winnie and absent Ching Chong\, much 
 to delight of the local drinkers. [Ed. they really concealed that 'delight
 ' masterfully...😂]\n\nThe Down Downs were awarded to:\n• The Hare\, T
 riple Top - for a perfectly adequate hash!\n• Bit of Ruff - services to 
 time-keeping\n• Winnie - 21st birthday girl\n• Olive\, I think [Ed. af
 firmative] - for multiple wrongdoings\nThere were possibly others\, who wi
 ll remain nameless. [Ed. Can't Come for virgin stint as RA/on behalf of ab
 sentee birthday girl\, Ching Chong\, and Gary Glitter\, for virgin RA-ing 
 last week...and also Twisted Sister (sorry - don't recall why\, but doubtl
 ess richly deserved for there to be a 7th DD awarded!)]\n\nOn On to SOUTH 
 BRENT\, again\, courtesy of Willy Waver\, possibly The Packhorse or possib
 ly The Station House - who knows! [Ed. 👋 It is\, indeed\, The Packhorse
 \, with Circle Up at the Station Road Carpark: please see event details be
 low and on the SH4 Facebook Group]\n\nThe words were brought to you this w
 eek by the letter D.\n(cue Sesame street music)\n👣\n__________________\
 n\n🏃 📸 🍻 You can enjoy highlights from the spectacular BURRATOR h
 ash on 3 July 2024 by checking out Hash Flash's purpose-built photo album 
 on the SH4 Facebook page 📸 🏃🍻\n\n_________________\n\nNext SH4 Ha
 sh 🐷👣:\n\nHASH 1477 - SOUTH BRENT\, 10 July 2024\n\nCIRCLE UP:\nStat
 ion Road Carpark\nStation Road\nSouth Brent\nWhat3Words: ///dynamic.crabme
 at.fiction\n\nON DOWN:\nThe Packhorse\nPlymouth Road\nSouth Brent\nTQ10 9\
 nWhat3Words: ///sparrows.readers.newest\n\nHare: Willy Waver\nRA: Squashed
  Balls\nFor full details\, please see the Hash 1477 event page on the SH4 
 Facebook Group.\n\n📝 If you're the lucky Scribe at SOUTH BRENT next wee
 k\, please submit your edition of The Words to thewords@sh4.org.uk by Sund
 ay evening (14 July)\, ideally - TVM! 📝\n\nAdd your photos of how the e
 vening went down (Weds 10 July\, 2024) to the Hash 1477 photo album\, when
  it has been conjured into being.\n\n_________________\nHASH DIARY - Upcom
 ing Events\n\n_________________\n\nRAMBO SALCOMBE MARATHON 2024\nSaturday 
 21st September\, 2024\n\n👣\n\n🌟 🌟 🌟 Register here: https://bit
 .ly/RamboSM2024 🌟 🌟 🌟\nOR scan the QR code\, below:\n\n👣\n____
 _______________\nSH4 MercHASHdise\n\nShow your love for SH4 and wear your 
 membership proudly with a bespoke SH4 car sticker!\n\nAvailable exclusivel
 y to SH4 members (and\, to be fair\, anyone else who wants one...) for the
  bargain sum of £0.50 ea.\, you can afford one for every vehicle in your 
 fleet! 😊\n\nSee Rizzo at the next meet for yours 👣
CATEGORIES:Hash Trails
LOCATION:Burrator Quarry Car Park Meavy\, Yelverton\, PL20 6PJ
GEO:50.491027;-4.046308
X-APPLE-STRUCTURED-LOCATION;VALUE=URI;X-ADDRESS=Meavy\, Yelverton\, PL20 6P
 J\, United Kingdom;X-APPLE-RADIUS=100;X-TITLE=Burrator Quarry Car Park:geo
 :50.491027,-4.046308
END:VEVENT
BEGIN:VTIMEZONE
TZID:Europe/London
X-LIC-LOCATION:Europe/London
BEGIN:DAYLIGHT
DTSTART:20240331T020000
TZOFFSETFROM:+0000
TZOFFSETTO:+0100
TZNAME:BST
END:DAYLIGHT
END:VTIMEZONE
END:VCALENDAR