BEGIN:VCALENDAR
VERSION:2.0
PRODID:-//wp-events-plugin.com//7.2.3.1//EN
TZID:Europe/London
X-WR-TIMEZONE:Europe/London
BEGIN:VEVENT
UID:517@sh4.org.uk
DTSTART;TZID=Europe/London:20240717T193000
DTEND;TZID=Europe/London:20240717T230000
DTSTAMP:20240628T090207Z
URL:https://www.sh4.org.uk/events/hash-1478/
SUMMARY:South Hams H4 Hash 1478 - The Odd Wheel
DESCRIPTION: - 
CATEGORIES:Hash Trails
LOCATION:The Odd Wheel The Odd Wheel\, Wembury\, Devon\, PL9 0JD
GEO:50.328217;-4.070266
X-APPLE-STRUCTURED-LOCATION;VALUE=URI;X-ADDRESS=The Odd Wheel\, Wembury\, D
 evon\, PL9 0JD\, United Kingdom;X-APPLE-RADIUS=100;X-TITLE=The Odd Wheel:g
 eo:50.328217,-4.070266
END:VEVENT
BEGIN:VTIMEZONE
TZID:Europe/London
X-LIC-LOCATION:Europe/London
BEGIN:DAYLIGHT
DTSTART:20240331T020000
TZOFFSETFROM:+0000
TZOFFSETTO:+0100
TZNAME:BST
END:DAYLIGHT
END:VTIMEZONE
END:VCALENDAR