BEGIN:VCALENDAR
VERSION:2.0
PRODID:-//wp-events-plugin.com//7.2.3.1//EN
TZID:Europe/London
X-WR-TIMEZONE:Europe/London
BEGIN:VEVENT
UID:525@sh4.org.uk
DTSTART;TZID=Europe/London:20240918T193000
DTEND;TZID=Europe/London:20240918T230000
DTSTAMP:20240922T111518Z
URL:https://www.sh4.org.uk/events/hash-1487/
SUMMARY:South Hams H4 Hash 1487 - The Cove Cafe Bar
DESCRIPTION:🍕🍗🌯 Hash Food 🍕🍗🌯\n\nPlease order direct wi
 th the pub BEFORE the hash - main menu is shown below\, but other options 
 may be available: please enquire with The Cove staff:\n\nThe Words accordi
 ng to LOW-T-ARSE\n🌟 Scroll down to the end of this email for details of
  upcoming SH4 events\, incl. the fantastic Pre-Christmas Lube Weekend AND 
 1500th Hash Celebration and Post-Christmas Hash Bash 🌟\n👣\nHash 1487
  - HOPE COVE\nIt was a perfect night for hashing\, beautiful sunset and fu
 ll Corn Moon shining over Hope Cove. Little Chef and Bit of Ruff had not l
 et us down and had laid an amazing hash with lots of Long/Short splits\, s
 o plenty of choice.\nThe Circle Up was uneventful (except I got landed wit
 h the words!)\, and off we went. I decided to do the Short with Know Nuts 
 not being able to keep up with Olive who is super-fit\, training for the T
 orquay half-marathon. Olive ran with Ching Chong and was back in reasonabl
 e time\, which was surprising as Olive got a bat stuck in her hair. It was
  interesting on the Short: Know Nuts and I coming across unchecked checks 
 - were we in the lead? Jyde thought so\, as he tried to catch us up and fa
 iled.\nThere was a split in the hash\, with some members choosing to go fo
 r a swim. I am not sure who really did and who used it as an excuse for be
 ing late back. Nutcracker\, Rubbery and Twisted Sister definitely did\, wi
 th Rubbery adding to the moonlight by mooning when changing. Gaffer was re
 ported to go swimming but this was not corroborated. Apparently\, Wet Spot
  also went swimming but remained mysteriously dry!\nThe hares had gone out
  and re-laid the Walk\, which sadly nobody did! Maybe Lactaster should hav
 e\, as she was reported to have stubbed her toe on a rock and was heard 
 ‘effing and blinding’ like there was no tomorrow.\nIn other news Dim W
 it told a driver off for bad driving and driving over his son's cloths\, o
 nly to see the driver drive into a post and rip his bumper off. The driver
  should have listened to Dimmers.\nJyde and Hekkyl have a ‘big tent’ i
 n their garden\, as their middle son is having a wedding blessing this wee
 kend (good excuse for a hash party!?)\, And finally\, Undercovers says he 
 has plantar fasciitis and was discussing the best drugs and alcohol remedi
 es with Olive.\n\nAt the RA-ing:\nWinnie got her 200 tee shirt\nSquashed B
 alls told a bad joke\,what’s new.\n\nAnd Down Downs went to\nThe hares\,
  Little Chef and Bit of Ruff\nWinnie - 200 T-shirt\nDimmers - for attempti
 ng to educate a fellow driver and failing\nLactaster - losing a fight with
  a rock\nUndercovers - additional anaesthetic\n\nLOW-T-ARSE\n\n👣\n_____
 _____________\n\n🏃 📸 🍻 You can enjoy a choice selection of photos
  from the sunset-bathed Hope Cove hash on 18 September 2024 by checking ou
 t Hash Flash's purpose-built photo album on the SH4 Facebook page 📸 
 🏃🍻\n\n&nbsp\;\n\nPhoto Credit: Little Chef\n_________________\n\nNex
 t SH4 Hash 🐷👣:\n\nHASH 1488 - St Anne's Chapel\, 25 September 2024\n
 \nCIRCLE UP:\nThe Pickwick Inn\nSt Anne's Chapel\nTQ7 4HQ\n\nWhat3Words: /
 //javelin.spout.tinny\n\nON DOWN:\nAs above\n\nHares: Nutcracker and Know 
 Nuts\nRA: Gary Glitter\n\n🍟 🧀 🍟 Hash Food 🍟 🧀 🍟\n\nLimit
 ed Menu: Chips or Cheesy Chips!\n\nFor further info\, please see the Hash 
 1488 event page on the SH4 Facebook Group.\n\n📝 If you're the lucky Scr
 ibe at ST. ANNE'S CHAPEL on 25 September\, please submit your edition of T
 he Words to thewords@sh4.org.uk by Sunday evening (29 Sept)\, ideally - TV
 M! 📝\n\nAdd your photos of how the evening went down (Weds 25h Sept\, 2
 024) to the Hash 1488 photo album on SH4's Facebook page \, courtesy: Rubb
 ery.\n_________________\n👣\n\nBIG CONGRATULATIONS to everyone who ran\,
  jogged or walked (all or any part of) the RAMBO SALCOMBE MARATHON at the 
 weekend!\n\nAfter an overcast (ever so slightly chilly\, even...) start fr
 om Strete Gate at 9am\, the clouds burnt away to give a gift of a late sum
 mer's day\, showcasing some of the best of South West Coastal Path\, in al
 l its spectacular beauty.\n\nThe glorious sunshine - and humid heat - made
  the challenging course pretty excruciating on the exposed cliffs\, but th
 ere were some welcome\, shady wooded sections and 5 check-in stops\, with 
 water\, snacks and suncream - plus a bonus water-stop at Smash's place\, i
 n (holiday-mode☀️ 😎) Hope Cove! The finish at Terawhiti Farm\, Thur
 lestone offered more shade\, hydration and sweeties\, as well as hugs from
  No Butt and Mouthful.\n\nBig thanks to Filth\, Zoot and Hotlips for all t
 he hard work that went into organising and co-ordinating such a brilliant 
 event (both before and during). Thank you\, also\, to Zoot for her words b
 efore feet hit the trail: an important reminder of the significance of thi
 s run\, that now takes Rambo's name\, and of the importance of checking in
  on people and encouraging talk to share the load whenever it's needed. Ra
 mbo and Fallen Woman were both remembered.\n\nAll proceeds from the event 
 are donated to the SW Coast Path and to the charity\, Pete's Dragons that 
 supports all those impacted by suicide.\n\nSee you next year!\n___________
 ______\n\n👣\n\n🌟Our very own Rusty Bottom is running the Royal Parks
  Half Marathon in Central London on Sunday 13 October\, and is raising mon
 ey in support of the miscarriage\, stillbirth and premature baby charity\,
  Tommy's. 🌟\n\nPlease\, if you can\, show your support for this amazing
  charity and the important work that it does (as well as willing Rusty's l
 egs on to the finish line!) by donating whatever you feel able via the fol
 lowing link:\n\n🌟🌟 Jackie's fundraiser for Tommy's\, the baby charit
 y 🌟🌟\n\nOr\, if you're smart-phone-enabled\, simply scan the QR code
  below using your\nphone's camera app:\n\nWith a big THANK YOU from Rusty!
 \n\n👣\n_________________\nHASH DIARY - Upcoming Events\n\n_____________
 ____\n\nDATES FOR YOUR HASH DIARY:\n\nPRE-CHRISTMAS Hash Social Weekend AN
 D 1500th Hash - 30th Nov - 1st Dec 2024\n\nWatch this space for details of
  an Olympics-inspired Games Agenda - coming soon!\n\n🎄\n\nPOST-CHRISTMA
 S Hash Bash Weekend - 14th-16th February 2025\n\n&nbsp\;\n\n👣\n________
 ___________\nSH4 MercHASHdise\n\nShow your love for SH4 and wear your memb
 ership proudly with a bespoke SH4 car sticker!\n\nAvailable exclusively to
  SH4 members (and\, to be fair\, anyone else who wants one...) for the bar
 gain sum of £0.50 ea.\, you can afford one for every vehicle in your flee
 t! 😊\n\nSee Rizzo at the next meet for yours 👣 - 🍕🍗🌯 Hash 
 Food 🍕🍗🌯\n\nPlease order direct with the pub BEFORE the hash - m
 ain menu is shown below\, but other options may be available: please enqui
 re with The Cove staff:\n\nThe Words according to LOW-T-ARSE\n🌟 Scroll 
 down to the end of this email for details of upcoming SH4 events\, incl. t
 he fantastic Pre-Christmas Lube Weekend AND 1500th Hash Celebration and Po
 st-Christmas Hash Bash 🌟\n👣\nHash 1487 - HOPE COVE\nIt was a perfect
  night for hashing\, beautiful sunset and full Corn Moon shining over Hope
  Cove. Little Chef and Bit of Ruff had not let us down and had laid an ama
 zing hash with lots of Long/Short splits\, so plenty of choice.\nThe Circl
 e Up was uneventful (except I got landed with the words!)\, and off we wen
 t. I decided to do the Short with Know Nuts not being able to keep up with
  Olive who is super-fit\, training for the Torquay half-marathon. Olive ra
 n with Ching Chong and was back in reasonable time\, which was surprising 
 as Olive got a bat stuck in her hair. It was interesting on the Short: Kno
 w Nuts and I coming across unchecked checks - were we in the lead? Jyde th
 ought so\, as he tried to catch us up and failed.\nThere was a split in th
 e hash\, with some members choosing to go for a swim. I am not sure who re
 ally did and who used it as an excuse for being late back. Nutcracker\, Ru
 bbery and Twisted Sister definitely did\, with Rubbery adding to the moonl
 ight by mooning when changing. Gaffer was reported to go swimming but this
  was not corroborated. Apparently\, Wet Spot also went swimming but remain
 ed mysteriously dry!\nThe hares had gone out and re-laid the Walk\, which 
 sadly nobody did! Maybe Lactaster should have\, as she was reported to hav
 e stubbed her toe on a rock and was heard ‘effing and blinding’ like t
 here was no tomorrow.\nIn other news Dim Wit told a driver off for bad dri
 ving and driving over his son's cloths\, only to see the driver drive into
  a post and rip his bumper off. The driver should have listened to Dimmers
 .\nJyde and Hekkyl have a ‘big tent’ in their garden\, as their middle
  son is having a wedding blessing this weekend (good excuse for a hash par
 ty!?)\, And finally\, Undercovers says he has plantar fasciitis and was di
 scussing the best drugs and alcohol remedies with Olive.\n\nAt the RA-ing:
 \nWinnie got her 200 tee shirt\nSquashed Balls told a bad joke\,what’s n
 ew.\n\nAnd Down Downs went to\nThe hares\, Little Chef and Bit of Ruff\nWi
 nnie - 200 T-shirt\nDimmers - for attempting to educate a fellow driver an
 d failing\nLactaster - losing a fight with a rock\nUndercovers - additiona
 l anaesthetic\n\nLOW-T-ARSE\n\n👣\n__________________\n\n🏃 📸 🍻 
 You can enjoy a choice selection of photos from the sunset-bathed Hope Cov
 e hash on 18 September 2024 by checking out Hash Flash's purpose-built pho
 to album on the SH4 Facebook page 📸 🏃🍻\n\n&nbsp\;\n\nPhoto Credit
 : Little Chef\n_________________\n\nNext SH4 Hash 🐷👣:\n\nHASH 1488 -
  St Anne's Chapel\, 25 September 2024\n\nCIRCLE UP:\nThe Pickwick Inn\nSt 
 Anne's Chapel\nTQ7 4HQ\n\nWhat3Words: ///javelin.spout.tinny\n\nON DOWN:\n
 As above\n\nHares: Nutcracker and Know Nuts\nRA: Gary Glitter\n\n🍟 🧀
  🍟 Hash Food 🍟 🧀 🍟\n\nLimited Menu: Chips or Cheesy Chips!\n\n
 For further info\, please see the Hash 1488 event page on the SH4 Facebook
  Group.\n\n📝 If you're the lucky Scribe at ST. ANNE'S CHAPEL on 25 Sept
 ember\, please submit your edition of The Words to thewords@sh4.org.uk by 
 Sunday evening (29 Sept)\, ideally - TVM! 📝\n\nAdd your photos of how t
 he evening went down (Weds 25h Sept\, 2024) to the Hash 1488 photo album o
 n SH4's Facebook page \, courtesy: Rubbery.\n_________________\n👣\n\nBI
 G CONGRATULATIONS to everyone who ran\, jogged or walked (all or any part 
 of) the RAMBO SALCOMBE MARATHON at the weekend!\n\nAfter an overcast (ever
  so slightly chilly\, even...) start from Strete Gate at 9am\, the clouds 
 burnt away to give a gift of a late summer's day\, showcasing some of the 
 best of South West Coastal Path\, in all its spectacular beauty.\n\nThe gl
 orious sunshine - and humid heat - made the challenging course pretty excr
 uciating on the exposed cliffs\, but there were some welcome\, shady woode
 d sections and 5 check-in stops\, with water\, snacks and suncream - plus 
 a bonus water-stop at Smash's place\, in (holiday-mode☀️ 😎) Hope Co
 ve! The finish at Terawhiti Farm\, Thurlestone offered more shade\, hydrat
 ion and sweeties\, as well as hugs from No Butt and Mouthful.\n\nBig thank
 s to Filth\, Zoot and Hotlips for all the hard work that went into organis
 ing and co-ordinating such a brilliant event (both before and during). Tha
 nk you\, also\, to Zoot for her words before feet hit the trail: an import
 ant reminder of the significance of this run\, that now takes Rambo's name
 \, and of the importance of checking in on people and encouraging talk to 
 share the load whenever it's needed. Rambo and Fallen Woman were both reme
 mbered.\n\nAll proceeds from the event are donated to the SW Coast Path an
 d to the charity\, Pete's Dragons that supports all those impacted by suic
 ide.\n\nSee you next year!\n_________________\n\n👣\n\n🌟Our very own 
 Rusty Bottom is running the Royal Parks Half Marathon in Central London on
  Sunday 13 October\, and is raising money in support of the miscarriage\, 
 stillbirth and premature baby charity\, Tommy's. 🌟\n\nPlease\, if you c
 an\, show your support for this amazing charity and the important work tha
 t it does (as well as willing Rusty's legs on to the finish line!) by dona
 ting whatever you feel able via the following link:\n\n🌟🌟 Jackie's f
 undraiser for Tommy's\, the baby charity 🌟🌟\n\nOr\, if you're smart-
 phone-enabled\, simply scan the QR code below using your\nphone's camera a
 pp:\n\nWith a big THANK YOU from Rusty!\n\n👣\n_________________\nHASH D
 IARY - Upcoming Events\n\n_________________\n\nDATES FOR YOUR HASH DIARY:\
 n\nPRE-CHRISTMAS Hash Social Weekend AND 1500th Hash - 30th Nov - 1st Dec 
 2024\n\nWatch this space for details of an Olympics-inspired Games Agenda 
 - coming soon!\n\n🎄\n\nPOST-CHRISTMAS Hash Bash Weekend - 14th-16th Feb
 ruary 2025\n\n&nbsp\;\n\n👣\n___________________\nSH4 MercHASHdise\n\nSh
 ow your love for SH4 and wear your membership proudly with a bespoke SH4 c
 ar sticker!\n\nAvailable exclusively to SH4 members (and\, to be fair\, an
 yone else who wants one...) for the bargain sum of £0.50 ea.\, you can af
 ford one for every vehicle in your fleet! 😊\n\nSee Rizzo at the next me
 et for yours 👣
CATEGORIES:Hash Trails
LOCATION:The Cove Cafe Bar Harbour Lights\, Hope Cove\, TQ7 3HQ
GEO:50.2457845;-3.858716100000038
X-APPLE-STRUCTURED-LOCATION;VALUE=URI;X-ADDRESS=Harbour Lights\, Hope Cove\
 , TQ7 3HQ\, United Kingdom;X-APPLE-RADIUS=100;X-TITLE=The Cove Cafe Bar:ge
 o:50.2457845,-3.858716100000038
END:VEVENT
BEGIN:VTIMEZONE
TZID:Europe/London
X-LIC-LOCATION:Europe/London
BEGIN:DAYLIGHT
DTSTART:20240331T020000
TZOFFSETFROM:+0000
TZOFFSETTO:+0100
TZNAME:BST
END:DAYLIGHT
END:VTIMEZONE
END:VCALENDAR