BEGIN:VCALENDAR
VERSION:2.0
PRODID:-//wp-events-plugin.com//7.2.3.1//EN
TZID:Europe/London
X-WR-TIMEZONE:Europe/London
BEGIN:VEVENT
UID:532@sh4.org.uk
DTSTART;TZID=Europe/London:20241106T193000
DTEND;TZID=Europe/London:20241106T230000
DTSTAMP:20241113T114523Z
URL:https://www.sh4.org.uk/events/hash-1494/
SUMMARY:South Hams H4 Hash 1494 - Mountain Inn
DESCRIPTION:\nThe Words according to LADY GODIVA\n🌟 If you are signed up
  for the Post-Xmas Hash Bash weekend in Torquay and have not yet paid your
  £50.00 deposit\, please get in touch with Filth or WGAS ASAP. Thank you!
  🌟\n\n🌟 AGPU is almost here! On Weds 13th November: enjoy a quick ga
 llop around South Brent (&amp\; environs)\, a delicious (free!!) curry\, a
 nd cast your votes to help shape the future of SH4 (well\, at least for th
 e next 12 months!) - more details below 🌟\n____________________________
 ____________\n🌟 👣 🌟\nHASH 1494 - LUTTON\n\nRound up\, ‘Circle U
 p’ was at the Mountain Inn\, Lutton.\n\nDue to a need to check-out the f
 acilities [Ed. a likely story...]\, I missed Rizzo’s joke– no doubt up
  to its usual quality! [Ed. actually\, last week's gag raised noticeably f
 ewer groans than usual\; WGAS purportedly had no involvement in providing 
 lines on this occasion - more than a coincidence...?] Ching-Chong &amp\; R
 usty Bottom took the register and off we went.\n\nJellybaby mistakenly gav
 e me charge of two virgins to look after – whom I promptly lost sight of
  after the first mile… Fortunately\, they made it back to the pub\, even
  with torch failure [Ed. they sound like born hashers].\n\nDoggy Style dul
 y slipped on the ‘slippery’ path near the start but fortunately Tight 
 Nuts came to her rescue and gallantly\, even romantically\, was seen to ho
 ld her hand – a very rare occasion\, apparently! [Ed. Ahhh! Hashing brin
 gs out the hero within. Well\, in some. Some just leave gates to swing shu
 t in other folk's faces...]\n\nThe bellringers could be heard in full forc
 e – not sure if they were ringing call-changes or methods\, but the soun
 d of the bells accompanied melodiously us as we ran along the valley and c
 ircumnavigated somewhere – not sure where – involving going under the 
 massive viaducts x2 – IKB certainly got around! [Ed. Although two viaduc
 ts in such close proximity looks a little like showing off (typical Isamba
 rd...)]\n\nShe’s Ready kept overtaking us ‘Shorts’\, having been len
 t a torch by Twisted Sister\, and the L/S/W trails intersected well\, keep
 ing the pack more or less connected.\n\nOvershot was reported as very wobb
 ly\, and Re-entry had a cold and was beaten [Ed. although\, depressingly\,
  was still way ahead of most of us. At all times.] – even though it’s 
 NOT A RACE.\n\nLollipop was neatly de-capped [Ed. thankful that there were
  no more syllables in that word...😳] by the brambles\, and Jyde and Vin
 daloo narrowly escaped falling into a deep ravine in the woods.\n\nEven th
 e normally well-behaved Fenn blotted his copybook by dumping his load on t
 he road.\n\nThe trail was extremely well marked – thanks to the Hares - 
 Dulux &amp\; Jellybaby: I’ve never seen so much flour – it really shon
 e out in the torchlight. [Ed. 👏]\n\nThe RA was Squashed Balls (who look
 ed a little like Hulk Hogan) and\, unfortunately for the Scribe\, had writ
 ten his notes on a crisp packet – so all I gleaned was ‘97% fat’ and
  ‘100% hot air... [Ed. Sounds about right. More than enough to go on! 
 😆]\n\nOvershot was called out on his callous behaviour\, abandoning poo
 r Ching Chong in Halwell and not rendezvousing with her\, as arranged.\n\n
 The RA also mentioned it was nice to see Pugsley back and glad that his in
 jury was better.\n\nThanks were given to the pub for their very warm hospi
 tality and fantastic pizzas.\n\nDown-Down’s were awarded to:-\n\nLady Go
 diva – for running so slowly that the two virgins ran off without her\;\
 nTight Nuts for rescuing Doggy Style and showing unusual affection\;\nThe 
 Hares – Jellybaby &amp\; Dulux – for an amazing hash!\nThe newly named
  ‘Mountie’ - not sure who?? [Ed. Bo Peep's mum\, I think\; so named fo
 r her (part?)Canadian origins]\nAnd Dulux awarded her 400th Hash vest.\n\n
 ON-ON to South Brent and the SH4 AGPU at the Station House\, where there w
 as talk of ‘FREE CURRIES’* – not to be missed!\n\n*It's true!\n\nPho
 to credit: Rubbery\n_________________\n👣\n\n🏃 📸 🍻 You can enjo
 y a choice selection of photos from the wending Lutton hash on 6th Novembe
 r 2024 by checking out Hash Flash's purpose-built photo album on the SH4 F
 acebook page 📸 🏃🍻\n\n________________________________________\n\n
 Next SH4 Hash 🐷👣:\n\nHASH 1495 - SOUTH BRENT\, 13th November 2024\n\
 nCIRCLE UP:\nSouth Brent station carpark\nSouth Brent\nTQ10 9AL\nWhat3Word
 s: recent.length.distracts\nON DOWN:\nThe Station House Café Bar &amp\; H
 otel\nStation Road\nSouth Brent\nDevon\nTQ10 9BE\nWhat3Words: drill.gallop
 ed.careless\n\nPub Tel: 07581 654321\n\nHares: WetSpot\n\nHASH FOOD:\nThe 
 wonderful Station House are laying on a curry - both Chicken and Vegetaria
 n options available - free of charge to hashers for the occasion of the AG
 PU.\n\nPlease do stay on after the run/walk and take up this generous offe
 r of fuel for your decision-making to select a new SH4 committee (or\, at 
 the very least\, as something to busy yourself with as the new GM grapples
  with the excruciating task of sinking a yard of ale [without any of it re
 appearing...]): all welcome!\n\nFor further info\, please see the Hash 149
 5 event page on theSH4 Facebook Group.\n\n📝 If you're the lucky Scribe 
 at SOUTH BRENT on 13th November\, please submit your edition of The Words 
 to thewords@sh4.org.uk by Sunday evening (17th November)\, ideally - TVM! 
 📝\n\nAdd your photos of how the evening went down (Weds 13th November\,
  2024) to the Hash 1495 photo album on SH4's Facebook page \, courtesy: Ru
 bbery.\n👣\n________________________________________\n\n👣 - PARISH NO
 TICES - 👣\n\n_________________\n\nHASH DIARY - Upcoming Events\n\n🌟 
 🎄⛄PRE-CHRISTMAS HASH WEEKEND ⛄🎄 🌟\nAND\n1500th Hash - 30th No
 v - 1st Dec 2024\n\n\n🎄\n\nPOST-CHRISTMAS Hash Bash Weekend - 14th-16th
  February 2025\n\nIf you have booked your spot for this snazzy SH4 getaway
  but haven't yet paid your deposit\, please send your £50 asap to the SH4
  bank account\, quoting your hash name and ping a quick message to Hash Ca
 sh to confirm:\n\nPayment to SH4 Bank Account:\nAcc. no.: 00263482 Sort co
 de: 30-94-72\n\n&nbsp\;\n\n👣\n___________________\n____________________
 ____________________\n\n🍻🎉📣 AGPU 📣🎉🍻\n\nThis year's Annu
 al General P*ss Up (AGPU) is planned for 13th November\, at the Station Ho
 use Hotel and Cafe Bar\, South Brent. The venue is laying on two curry opt
 ions - Chicken OR Veg - free of charge.\nPlease do come along - run\, eat\
 , drink\, and support the future of SH4 - if you can.\n___________________
 \n\nAs per a conventional AGM\, the entire Mis-management committee will s
 tand down and nominations will be made for new committee members\, any re-
 appointments and the GM role.\n___________________\nSign-up sheets have be
 en circulated in the pub at each SH4 hash in the weeks leading up to the A
 GPU. If you fancy taking on any of the committee roles but have somehow mi
 ssed this opportunity to jot your name down - or if you have suddenly been
  overcome by a compulsion to stand for one of the roles since last week's 
 hash - please do just let the GM or other committee members know so your n
 ame can be added to the proverbial hat on Weds evening.\n_________________
 __\n\nThis is a great opportunity to help shape an SH4 that will bring bri
 lliant\, fun\, friendly Wednesday evening running (or walking) and drinkin
 g/drinking and running (or walking) for all\, for very many more years to 
 come!\n\n😊💪🏃\n\n________________________________________\n\nSH4 '
 EALTH &amp\; SAFETY\n\nPlease make a note of the new SH4 hash phone number
  and add it to your phone:\n\n🌟 SH4 hash phone number: 07922 103701 
 🌟\n\nUse this number to call for assistance if you come 'unstuck' out o
 n the trail\, or need to get a message to 'base camp' (On Down) during the
  run .\n\n👣\n\n🌟 Don't forget to see Rusty Bottom or Ching Chong bef
 ore the hash to log you out on trail using the new-fangled checking-out/ch
 ecking-in app (developed by our very own digital-wizard\, Whisperer).\n\nD
 on't forget to also check back in with the 'On Secs you're safely back. 
 🌟\n\n👣\n________________________________________\n\nSH4 MercHASHdise
 \n\nShow your love for SH4 and wear your membership proudly with a bespoke
  SH4 car sticker!\n\nAvailable exclusively to SH4 members (and\, to be fai
 r\, anyone else who wants one...) for the bargain sum of £0.50 ea.\, you 
 can afford one for every vehicle in your fleet! 😊\n\nSee a member of th
 e committee at the next meet for yours.\n\n👣 - \nThe Words according to
  LADY GODIVA\n🌟 If you are signed up for the Post-Xmas Hash Bash weeken
 d in Torquay and have not yet paid your £50.00 deposit\, please get in to
 uch with Filth or WGAS ASAP. Thank you! 🌟\n\n🌟 AGPU is almost here! 
 On Weds 13th November: enjoy a quick gallop around South Brent (&amp\; env
 irons)\, a delicious (free!!) curry\, and cast your votes to help shape th
 e future of SH4 (well\, at least for the next 12 months!) - more details b
 elow 🌟\n________________________________________\n🌟 👣 🌟\nHASH 
 1494 - LUTTON\n\nRound up\, ‘Circle Up’ was at the Mountain Inn\, Lutt
 on.\n\nDue to a need to check-out the facilities [Ed. a likely story...]\,
  I missed Rizzo’s joke– no doubt up to its usual quality! [Ed. actuall
 y\, last week's gag raised noticeably fewer groans than usual\; WGAS purpo
 rtedly had no involvement in providing lines on this occasion - more than 
 a coincidence...?] Ching-Chong &amp\; Rusty Bottom took the register and o
 ff we went.\n\nJellybaby mistakenly gave me charge of two virgins to look 
 after – whom I promptly lost sight of after the first mile… Fortunatel
 y\, they made it back to the pub\, even with torch failure [Ed. they sound
  like born hashers].\n\nDoggy Style duly slipped on the ‘slippery’ pat
 h near the start but fortunately Tight Nuts came to her rescue and gallant
 ly\, even romantically\, was seen to hold her hand – a very rare occasio
 n\, apparently! [Ed. Ahhh! Hashing brings out the hero within. Well\, in s
 ome. Some just leave gates to swing shut in other folk's faces...]\n\nThe 
 bellringers could be heard in full force – not sure if they were ringing
  call-changes or methods\, but the sound of the bells accompanied melodiou
 sly us as we ran along the valley and circumnavigated somewhere – not su
 re where – involving going under the massive viaducts x2 – IKB certain
 ly got around! [Ed. Although two viaducts in such close proximity looks a 
 little like showing off (typical Isambard...)]\n\nShe’s Ready kept overt
 aking us ‘Shorts’\, having been lent a torch by Twisted Sister\, and t
 he L/S/W trails intersected well\, keeping the pack more or less connected
 .\n\nOvershot was reported as very wobbly\, and Re-entry had a cold and wa
 s beaten [Ed. although\, depressingly\, was still way ahead of most of us.
  At all times.] – even though it’s NOT A RACE.\n\nLollipop was neatly 
 de-capped [Ed. thankful that there were no more syllables in that word...
 😳] by the brambles\, and Jyde and Vindaloo narrowly escaped falling int
 o a deep ravine in the woods.\n\nEven the normally well-behaved Fenn blott
 ed his copybook by dumping his load on the road.\n\nThe trail was extremel
 y well marked – thanks to the Hares - Dulux &amp\; Jellybaby: I’ve nev
 er seen so much flour – it really shone out in the torchlight. [Ed. 👏
 ]\n\nThe RA was Squashed Balls (who looked a little like Hulk Hogan) and\,
  unfortunately for the Scribe\, had written his notes on a crisp packet 
 – so all I gleaned was ‘97% fat’ and ‘100% hot air... [Ed. Sounds 
 about right. More than enough to go on! 😆]\n\nOvershot was called out o
 n his callous behaviour\, abandoning poor Ching Chong in Halwell and not r
 endezvousing with her\, as arranged.\n\nThe RA also mentioned it was nice 
 to see Pugsley back and glad that his injury was better.\n\nThanks were gi
 ven to the pub for their very warm hospitality and fantastic pizzas.\n\nDo
 wn-Down’s were awarded to:-\n\nLady Godiva – for running so slowly tha
 t the two virgins ran off without her\;\nTight Nuts for rescuing Doggy Sty
 le and showing unusual affection\;\nThe Hares – Jellybaby &amp\; Dulux 
 – for an amazing hash!\nThe newly named ‘Mountie’ - not sure who?? [
 Ed. Bo Peep's mum\, I think\; so named for her (part?)Canadian origins]\nA
 nd Dulux awarded her 400th Hash vest.\n\nON-ON to South Brent and the SH4 
 AGPU at the Station House\, where there was talk of ‘FREE CURRIES’* 
 – not to be missed!\n\n*It's true!\n\nPhoto credit: Rubbery\n___________
 ______\n👣\n\n🏃 📸 🍻 You can enjoy a choice selection of photos 
 from the wending Lutton hash on 6th November 2024 by checking out Hash Fla
 sh's purpose-built photo album on the SH4 Facebook page 📸 🏃🍻\n\n_
 _______________________________________\n\nNext SH4 Hash 🐷👣:\n\nHASH
  1495 - SOUTH BRENT\, 13th November 2024\n\nCIRCLE UP:\nSouth Brent statio
 n carpark\nSouth Brent\nTQ10 9AL\nWhat3Words: recent.length.distracts\nON 
 DOWN:\nThe Station House Café Bar &amp\; Hotel\nStation Road\nSouth Brent
 \nDevon\nTQ10 9BE\nWhat3Words: drill.galloped.careless\n\nPub Tel: 07581 6
 54321\n\nHares: WetSpot\n\nHASH FOOD:\nThe wonderful Station House are lay
 ing on a curry - both Chicken and Vegetarian options available - free of c
 harge to hashers for the occasion of the AGPU.\n\nPlease do stay on after 
 the run/walk and take up this generous offer of fuel for your decision-mak
 ing to select a new SH4 committee (or\, at the very least\, as something t
 o busy yourself with as the new GM grapples with the excruciating task of 
 sinking a yard of ale [without any of it reappearing...]): all welcome!\n\
 nFor further info\, please see the Hash 1495 event page on theSH4 Facebook
  Group.\n\n📝 If you're the lucky Scribe at SOUTH BRENT on 13th November
 \, please submit your edition of The Words to thewords@sh4.org.uk by Sunda
 y evening (17th November)\, ideally - TVM! 📝\n\nAdd your photos of how 
 the evening went down (Weds 13th November\, 2024) to the Hash 1495 photo a
 lbum on SH4's Facebook page \, courtesy: Rubbery.\n👣\n_________________
 _______________________\n\n👣 - PARISH NOTICES - 👣\n\n_______________
 __\n\nHASH DIARY - Upcoming Events\n\n🌟 🎄⛄PRE-CHRISTMAS HASH WEEKE
 ND ⛄🎄 🌟\nAND\n1500th Hash - 30th Nov - 1st Dec 2024\n\n\n🎄\n\nP
 OST-CHRISTMAS Hash Bash Weekend - 14th-16th February 2025\n\nIf you have b
 ooked your spot for this snazzy SH4 getaway but haven't yet paid your depo
 sit\, please send your £50 asap to the SH4 bank account\, quoting your ha
 sh name and ping a quick message to Hash Cash to confirm:\n\nPayment to SH
 4 Bank Account:\nAcc. no.: 00263482 Sort code: 30-94-72\n\n&nbsp\;\n\n👣
 \n___________________\n________________________________________\n\n🍻
 🎉📣 AGPU 📣🎉🍻\n\nThis year's Annual General P*ss Up (AGPU) is
  planned for 13th November\, at the Station House Hotel and Cafe Bar\, Sou
 th Brent. The venue is laying on two curry options - Chicken OR Veg - free
  of charge.\nPlease do come along - run\, eat\, drink\, and support the fu
 ture of SH4 - if you can.\n___________________\n\nAs per a conventional AG
 M\, the entire Mis-management committee will stand down and nominations wi
 ll be made for new committee members\, any re-appointments and the GM role
 .\n___________________\nSign-up sheets have been circulated in the pub at 
 each SH4 hash in the weeks leading up to the AGPU. If you fancy taking on 
 any of the committee roles but have somehow missed this opportunity to jot
  your name down - or if you have suddenly been overcome by a compulsion to
  stand for one of the roles since last week's hash - please do just let th
 e GM or other committee members know so your name can be added to the prov
 erbial hat on Weds evening.\n___________________\n\nThis is a great opport
 unity to help shape an SH4 that will bring brilliant\, fun\, friendly Wedn
 esday evening running (or walking) and drinking/drinking and running (or w
 alking) for all\, for very many more years to come!\n\n😊💪🏃\n\n___
 _____________________________________\n\nSH4 'EALTH &amp\; SAFETY\n\nPleas
 e make a note of the new SH4 hash phone number and add it to your phone:\n
 \n🌟 SH4 hash phone number: 07922 103701 🌟\n\nUse this number to call
  for assistance if you come 'unstuck' out on the trail\, or need to get a 
 message to 'base camp' (On Down) during the run .\n\n👣\n\n🌟 Don't fo
 rget to see Rusty Bottom or Ching Chong before the hash to log you out on 
 trail using the new-fangled checking-out/checking-in app (developed by our
  very own digital-wizard\, Whisperer).\n\nDon't forget to also check back 
 in with the 'On Secs you're safely back. 🌟\n\n👣\n___________________
 _____________________\n\nSH4 MercHASHdise\n\nShow your love for SH4 and we
 ar your membership proudly with a bespoke SH4 car sticker!\n\nAvailable ex
 clusively to SH4 members (and\, to be fair\, anyone else who wants one...)
  for the bargain sum of £0.50 ea.\, you can afford one for every vehicle 
 in your fleet! 😊\n\nSee a member of the committee at the next meet for 
 yours.\n\n👣
CATEGORIES:Hash Trails
LOCATION:Mountain Inn Old Road\, Lutton\, Near Ivybridge
GEO:50.417702;-3.976905
X-APPLE-STRUCTURED-LOCATION;VALUE=URI;X-ADDRESS=Old Road\, Lutton\, Near Iv
 ybridge\, United Kingdom;X-APPLE-RADIUS=100;X-TITLE=Mountain Inn:geo:50.41
 7702,-3.976905
END:VEVENT
BEGIN:VTIMEZONE
TZID:Europe/London
X-LIC-LOCATION:Europe/London
BEGIN:STANDARD
DTSTART:20241027T010000
TZOFFSETFROM:+0100
TZOFFSETTO:+0000
TZNAME:GMT
END:STANDARD
END:VTIMEZONE
END:VCALENDAR