BEGIN:VCALENDAR
VERSION:2.0
PRODID:-//wp-events-plugin.com//7.2.3.1//EN
TZID:Europe/London
X-WR-TIMEZONE:Europe/London
BEGIN:VEVENT
UID:533@sh4.org.uk
DTSTART;TZID=Europe/London:20241113T193000
DTEND;TZID=Europe/London:20241113T233000
DTSTAMP:20241114T100816Z
URL:https://www.sh4.org.uk/events/hash-1495-agpu/
SUMMARY:South Hams H4 Hash 1495 - AGPU - South Brent Station Car Park
DESCRIPTION:On Down is at The Station House Hotel\nPub Phone Number:  +44 
 7581 654 321 - On Down is at The Station House Hotel\nPub Phone Number:  
 +44 7581 654 321
CATEGORIES:Hash Trails
LOCATION:South Brent Station Car Park Station Car Park\, South Brent\, TQ10
  9AL
GEO:50.42761;-3.83444
X-APPLE-STRUCTURED-LOCATION;VALUE=URI;X-ADDRESS=Station Car Park\, South Br
 ent\, TQ10 9AL\, United Kingdom;X-APPLE-RADIUS=100;X-TITLE=South Brent Sta
 tion Car Park:geo:50.42761,-3.83444
END:VEVENT
BEGIN:VTIMEZONE
TZID:Europe/London
X-LIC-LOCATION:Europe/London
BEGIN:STANDARD
DTSTART:20241027T010000
TZOFFSETFROM:+0100
TZOFFSETTO:+0000
TZNAME:GMT
END:STANDARD
END:VTIMEZONE
END:VCALENDAR