BEGIN:VCALENDAR
VERSION:2.0
PRODID:-//wp-events-plugin.com//7.2.3.1//EN
TZID:Europe/London
X-WR-TIMEZONE:Europe/London
BEGIN:VEVENT
UID:534@sh4.org.uk
DTSTART;TZID=Europe/London:20241120T193000
DTEND;TZID=Europe/London:20241120T230000
DTSTAMP:20241128T104042Z
URL:https://www.sh4.org.uk/events/hash-1496/
SUMMARY:South Hams H4 Hash 1496 - Shipley Bridge
DESCRIPTION:On Down is back at the Station House Hotel\nThe Words according
  to DOGGY STYLE\n🌟 Less than a week to go until the SH4 Pre-Xmas Hash W
 eekend and 1500th Hash - Sat 30 Nov-Sun 1st Dec\, Grenville House\, Brixha
 m! 🌟\n________________________________________\n🌟 👣 🌟\n\nHASH 
 1496 - SHIPLEY BRIDGE\n\nOh\, what a night! (Ed..."Late [Nov]ember\, back 
 in\, er\, twenty-four..." No\, you're right: it doesn't work 😬)\n\nCirc
 ling up at 7.28pm\, three minutes late - but it was 0 degrees (!!)\, that 
 was my GM excuse and I'm sticking to it!\n\nThis was my first Circle Up as
  the new GM: it had already been agreed\, due to the weather\, to crack on
  - and crack on I did.\n\nI can't believe we had no visitors or virgins...
  Lightweights! The quick\, fun fact (Ed. or are these Fun Facts™\, under
  the new DS regime...? 😘) was about beavers: 'What sort of beavers?' I 
 hear you ask. Well\, the MOON Beaver: it peaked last Friday\, with a marve
 llous moon. From that little chestnut\, I asked Tight Nuts why the ladies[
 '] downstairs (Ed. presumed apostrophe\, unless Tight Nuts has a cellar an
 d has some acquired some female lodgers with an annoying penchant for crea
 ting stick-base water-impounding structures?) are known as 'beavers'. He j
 ust grinned\, so I thought\, 'I will ask the Hashers'. I have to say\, the
  Hashers were quite reserved in their replies. I Googled (Ed. a daring cou
 rse of action...)\, and found many answers - here are some: looks like a b
 eaver\; in the 15C\, lice were rife and so ladies had to shave and used be
 aver hair (like a sporran) to cover up\; beavers would mate during the ful
 l moon in November. There were other replies\, but best to keep them verba
 l rather than written (Ed. yes\, probably best 😳) - I don't want to be 
 struck off just yet! 😆\n\nThe hares\, Bad Cock and Willy Waver\, very q
 uickly delivered the lengths (not sure I should call it 'lengths' with nam
 es like theirs [Ed. or precede 'the lengths' with the verb 'delivered' ...
 😆])\, and off the Hashers and Harriets went. Barbarella fell over\, goi
 ng uphill (Ed. we've all been there...OK\, some of us have been there)\, n
 ot long after leaving the start\; that doesn't look good from the off!\n\n
 Blown Off took the lead from the start and came in first. As he is a new c
 ommittee member\, he thought he was best to lead by example (Ed. laudable 
 😘)\; "it's not a RACE!!" I hear you all shout... Dimwit may have come i
 n first if BO hadn't send him back to do the kick-outs: well done\, Dimmer
 s\, for taking one for the team.\n\nIt was reported that WGAS turned right
  but did not call 'On'\, and everyone else went the wrong way (Ed. shockin
 g conduct...but then it may just be that he 'WGAS' actually doesn't when i
 t's 0 ℃...). Know Nuts left the pub early: was it because he upset a lot
  of the Harriets by saying they were a bunch of old women? Well\, Know Nut
 s\, that would put you in the same camp\, 'cos you walk/run with them ever
 y week!\n\nJyde is believed to be well-endowed\, due to much bulging from 
 his pockets: he looked rather pleased when the RA reported that last night
 . I'm glad to say we will never know...\n\nPiltdown Man thought the Short 
 was perfect: hard to start\, getting easier as you went on. Nice Tackle ha
 d a mishap with a stile and a gate: he opted for the gate and the gate los
 t (Ed. [and maybe we too\, something in the translation...😆] I would've
  thought the gate would present the lesser challenge of the two\, but some
 thing about it must've offended NT!) mind you so may his tackle have lost 
 itself! (Ed. good grief - routine gate operation does not\, by my understa
 nding\, usually imperil 'tackle'! 👀)\n\nWetspot was the only moaner (Ed
 . so out of character...): he was moaning that we left three minutes late 
 from the Circle Up: don't worry - I will improve that next week.\n\nGHR wa
 s heard in the car\, coming to the hash\, saying that he wasn't up for it.
  He was sat in the back with She's Ready - the relief on She's Ready's fac
 e further evidence that GHR wasn't up for it. Saying that\, any chance GHR
  could hold on to Can't Come (Ed. fairly sure that's not the person you ha
 ve in mind\, DS 😆...Come Tonight?) was noted\; he said he was only maki
 ng sure she didn't fall down and re-break her arm. Yeah\, yeah! We thought
  you two were very romantic\, walking along - and you were on the flat the
 n!\n\nOvershot was dobbed in for not shouting 'On On' (Ed. so out of chara
 cter...)\; the jury is still out on that one\, as he was sure he did.\n\nF
 or some reason\, Gary Glitter had been to Plymouth drinking\, managed to g
 et back\, and was put into the highchair. Well done\, GG\; I'm not sure I 
 could get my leg in there (Ed. but\, and perhaps more crucially\, did she 
 get out again...?)\n\nHappy Birthday to Vindaloo - plus\, and this went un
 der the radar but\, someone spilled the beans and informed me that Py also
  had a birthday\; something about a pension and bus pass was commented on.
 \n\nBased entirely on the 'select' photographic evidence from the evening\
 , summations from above talk of birthdays\, and general hashing-based assu
 mptions\, it is hazarded that Down Downs went to:\n\nBad Cock &amp\; Willy
  Waver - (hypothermic?) hares\;\nBlown Off - 'winning the hash'\;\nNice Ta
 ckle - retaining (we hope!) all of his\, after the altercation with a gate
 \;\nGary Glitter - highchair-based contortions\;\nPinky - New Hare Razer/w
 elcome return/ nominated by birthday girl\, Vindaloo?\n\nThank you\, She's
  Ready\, for RA-ing\, and to Willy Waver and Bad Cock for the hash.\n\nON-
 ON to Modbury.\n\nPhoto credit: Rubbery\n_________________\n👣\n\n🏃 
 📸 🍻 You can enjoy a choice selection of photos from the Shipley Brid
 ge hash on 20th November 2024 by checking out Hash Flash's purpose-built p
 hoto album on the SH4 Facebook page 📸 🏃🍻\n\n_____________________
 ___________________\n\nNext SH4 Hash 🐷👣:\n\nHASH 1497 - MODBURY\, 27
 th November 2024\n\nCIRCLE UP:\nPoundwell Meadow carpark\,\nModbury\n(Bott
 om carpark)\nWhat3Words: self.croaking.aware\n\nON DOWN:\nWhite Hart Hotel
 \n2 Church Street\,\nModbury\nPL21 0QW\nWhat3Words: daylight.lighters.amic
 ably\n\nPub Tel: 01548 830652\n\nHares: Undercovers\nRA: TBC\n\nThe kitche
 n at The White Hart would like us to pre-order: please see menu\, below.\n
 \nPlease get back to Undercovers by Monday with your choices (comment on t
 he post on the SH4 Facebook page 'Discussion' [or nominate someone to do f
 or you!]).\n\n&nbsp\;\n\nFor further info\, please see the Hash 1497 event
  page on theSH4 Facebook Group.\n\n📝 If you're the lucky Scribe at MODB
 URY on 27th November\, please submit your edition of The Words to thewords
 @sh4.org.uk by Saturday evening (30th November)\, ideally - TVM! 📝\n\nA
 dd your photos of how the evening went down (Weds 27th November\, 2024) to
  the Hash 1497 photo album on SH4's Facebook page \, courtesy: Rubbery.\n
 👣\n________________________________________\n👣 - PARISH NOTICES - 
 👣\n\n_________________\n\n👣 - SH4 Fundraising - National Amyloidosis
  Centre - 👣\n\n🌟\n\nIn case you missed it last week (and also becaus
 e it's such a cracking picture\, and celebrates something that certainly d
 eserves a second mention)\, Hekkel and Jyde presented a cheque - represent
 ing monies raised by various SH4 fundraising efforts throughout the year a
 nd rounded up by the hash committee to a cool £1000 - to the National Amy
 loidosis Centre (NAC) at the Royal Free Hospital in London on 13 November.
  The cheque was received by Professor Julian Gilmore\, Head of UCL Centre 
 for Amyloidosis and Research Lead at the NAC.\n\nA fantastic fundraising a
 chievement\, by everyone at SH4\, and one that we are sure will be put to 
 great use by the Centre to further its research into the condition!\n\n(Lo
 ok out for mentions in the local press\, too 😊)\n\n🌟\n\n____________
 ____________________________\n\nHASH DIARY - Upcoming Events\n\n🌟 🎄
 ⛄PRE-CHRISTMAS HASH WEEKEND ⛄🎄 🌟\nAND\n1500th Hash\n30th Nov - 1
 st Dec 2024 - THIS WEEKEND!!!\n\n\n🎄\n\nPOST-CHRISTMAS Hash Bash Weeken
 d - 14th-16th February 2025\n\nIf you have booked your spot for this snazz
 y SH4 getaway but haven't yet paid your deposit\, please send your £50 as
 ap to the SH4 bank account\, quoting your hash name and ping a quick messa
 ge to Hash Cash to confirm:\n\nPayment to SH4 Bank Account:\nAcc. no.: 002
 63482 Sort code: 30-94-72\n\n&nbsp\;\n\n👣\n___________________\n\n_____
 ___________________________________\n\nSH4 'EALTH &amp\; SAFETY\n\nPlease 
 make a note of the new SH4 hash phone number and add it to your phone:\n\n
 🌟 SH4 hash phone number: 07922 103701 🌟\n\nUse this number to call f
 or assistance if you come 'unstuck' out on the trail\, or need to get a me
 ssage to 'base camp' (On Down) during the run .\n\n👣\n\n🌟 Don't forg
 et to see Rusty Bottom or Ching Chong before the hash to log you out on tr
 ail using the new-fangled checking-out/checking-in app (developed by our v
 ery own digital-wizard\, Whisperer).\n\nDon't forget to also check back in
  with the 'On Secs you're safely back. 🌟\n\n👣\n_____________________
 ___________________\n\nSH4 MercHASHdise\n\nShow your love for SH4 and wear
  your membership proudly with a bespoke SH4 car sticker!\n\nAvailable excl
 usively to SH4 members (and\, to be fair\, anyone else who wants one...) f
 or the bargain sum of £0.50 ea.\, you can afford one for every vehicle in
  your fleet! 😊\n\nSee a member of the committee at the next meet for yo
 urs.\n\n👣\n\n_____________________ - On Down is back at the Station Hou
 se Hotel\nThe Words according to DOGGY STYLE\n🌟 Less than a week to go 
 until the SH4 Pre-Xmas Hash Weekend and 1500th Hash - Sat 30 Nov-Sun 1st D
 ec\, Grenville House\, Brixham! 🌟\n____________________________________
 ____\n🌟 👣 🌟\n\nHASH 1496 - SHIPLEY BRIDGE\n\nOh\, what a night! (
 Ed..."Late [Nov]ember\, back in\, er\, twenty-four..." No\, you're right: 
 it doesn't work 😬)\n\nCircling up at 7.28pm\, three minutes late - but 
 it was 0 degrees (!!)\, that was my GM excuse and I'm sticking to it!\n\nT
 his was my first Circle Up as the new GM: it had already been agreed\, due
  to the weather\, to crack on - and crack on I did.\n\nI can't believe we 
 had no visitors or virgins... Lightweights! The quick\, fun fact (Ed. or a
 re these Fun Facts™\, under the new DS regime...? 😘) was about beaver
 s: 'What sort of beavers?' I hear you ask. Well\, the MOON Beaver: it peak
 ed last Friday\, with a marvellous moon. From that little chestnut\, I ask
 ed Tight Nuts why the ladies['] downstairs (Ed. presumed apostrophe\, unle
 ss Tight Nuts has a cellar and has some acquired some female lodgers with 
 an annoying penchant for creating stick-base water-impounding structures?)
  are known as 'beavers'. He just grinned\, so I thought\, 'I will ask the 
 Hashers'. I have to say\, the Hashers were quite reserved in their replies
 . I Googled (Ed. a daring course of action...)\, and found many answers - 
 here are some: looks like a beaver\; in the 15C\, lice were rife and so la
 dies had to shave and used beaver hair (like a sporran) to cover up\; beav
 ers would mate during the full moon in November. There were other replies\
 , but best to keep them verbal rather than written (Ed. yes\, probably bes
 t 😳) - I don't want to be struck off just yet! 😆\n\nThe hares\, Bad 
 Cock and Willy Waver\, very quickly delivered the lengths (not sure I shou
 ld call it 'lengths' with names like theirs [Ed. or precede 'the lengths' 
 with the verb 'delivered' ...😆])\, and off the Hashers and Harriets wen
 t. Barbarella fell over\, going uphill (Ed. we've all been there...OK\, so
 me of us have been there)\, not long after leaving the start\; that doesn'
 t look good from the off!\n\nBlown Off took the lead from the start and ca
 me in first. As he is a new committee member\, he thought he was best to l
 ead by example (Ed. laudable 😘)\; "it's not a RACE!!" I hear you all sh
 out... Dimwit may have come in first if BO hadn't send him back to do the 
 kick-outs: well done\, Dimmers\, for taking one for the team.\n\nIt was re
 ported that WGAS turned right but did not call 'On'\, and everyone else we
 nt the wrong way (Ed. shocking conduct...but then it may just be that he '
 WGAS' actually doesn't when it's 0 ℃...). Know Nuts left the pub early: 
 was it because he upset a lot of the Harriets by saying they were a bunch 
 of old women? Well\, Know Nuts\, that would put you in the same camp\, 'co
 s you walk/run with them every week!\n\nJyde is believed to be well-endowe
 d\, due to much bulging from his pockets: he looked rather pleased when th
 e RA reported that last night. I'm glad to say we will never know...\n\nPi
 ltdown Man thought the Short was perfect: hard to start\, getting easier a
 s you went on. Nice Tackle had a mishap with a stile and a gate: he opted 
 for the gate and the gate lost (Ed. [and maybe we too\, something in the t
 ranslation...😆] I would've thought the gate would present the lesser ch
 allenge of the two\, but something about it must've offended NT!) mind you
  so may his tackle have lost itself! (Ed. good grief - routine gate operat
 ion does not\, by my understanding\, usually imperil 'tackle'! 👀)\n\nWe
 tspot was the only moaner (Ed. so out of character...): he was moaning tha
 t we left three minutes late from the Circle Up: don't worry - I will impr
 ove that next week.\n\nGHR was heard in the car\, coming to the hash\, say
 ing that he wasn't up for it. He was sat in the back with She's Ready - th
 e relief on She's Ready's face further evidence that GHR wasn't up for it.
  Saying that\, any chance GHR could hold on to Can't Come (Ed. fairly sure
  that's not the person you have in mind\, DS 😆...Come Tonight?) was not
 ed\; he said he was only making sure she didn't fall down and re-break her
  arm. Yeah\, yeah! We thought you two were very romantic\, walking along -
  and you were on the flat then!\n\nOvershot was dobbed in for not shouting
  'On On' (Ed. so out of character...)\; the jury is still out on that one\
 , as he was sure he did.\n\nFor some reason\, Gary Glitter had been to Ply
 mouth drinking\, managed to get back\, and was put into the highchair. Wel
 l done\, GG\; I'm not sure I could get my leg in there (Ed. but\, and perh
 aps more crucially\, did she get out again...?)\n\nHappy Birthday to Vinda
 loo - plus\, and this went under the radar but\, someone spilled the beans
  and informed me that Py also had a birthday\; something about a pension a
 nd bus pass was commented on.\n\nBased entirely on the 'select' photograph
 ic evidence from the evening\, summations from above talk of birthdays\, a
 nd general hashing-based assumptions\, it is hazarded that Down Downs went
  to:\n\nBad Cock &amp\; Willy Waver - (hypothermic?) hares\;\nBlown Off - 
 'winning the hash'\;\nNice Tackle - retaining (we hope!) all of his\, afte
 r the altercation with a gate\;\nGary Glitter - highchair-based contortion
 s\;\nPinky - New Hare Razer/welcome return/ nominated by birthday girl\, V
 indaloo?\n\nThank you\, She's Ready\, for RA-ing\, and to Willy Waver and 
 Bad Cock for the hash.\n\nON-ON to Modbury.\n\nPhoto credit: Rubbery\n____
 _____________\n👣\n\n🏃 📸 🍻 You can enjoy a choice selection of 
 photos from the Shipley Bridge hash on 20th November 2024 by checking out 
 Hash Flash's purpose-built photo album on the SH4 Facebook page 📸 🏃
 🍻\n\n________________________________________\n\nNext SH4 Hash 🐷👣
 :\n\nHASH 1497 - MODBURY\, 27th November 2024\n\nCIRCLE UP:\nPoundwell Mea
 dow carpark\,\nModbury\n(Bottom carpark)\nWhat3Words: self.croaking.aware\
 n\nON DOWN:\nWhite Hart Hotel\n2 Church Street\,\nModbury\nPL21 0QW\nWhat3
 Words: daylight.lighters.amicably\n\nPub Tel: 01548 830652\n\nHares: Under
 covers\nRA: TBC\n\nThe kitchen at The White Hart would like us to pre-orde
 r: please see menu\, below.\n\nPlease get back to Undercovers by Monday wi
 th your choices (comment on the post on the SH4 Facebook page 'Discussion'
  [or nominate someone to do for you!]).\n\n&nbsp\;\n\nFor further info\, p
 lease see the Hash 1497 event page on theSH4 Facebook Group.\n\n📝 If yo
 u're the lucky Scribe at MODBURY on 27th November\, please submit your edi
 tion of The Words to thewords@sh4.org.uk by Saturday evening (30th Novembe
 r)\, ideally - TVM! 📝\n\nAdd your photos of how the evening went down (
 Weds 27th November\, 2024) to the Hash 1497 photo album on SH4's Facebook 
 page \, courtesy: Rubbery.\n👣\n________________________________________
 \n👣 - PARISH NOTICES - 👣\n\n_________________\n\n👣 - SH4 Fundrais
 ing - National Amyloidosis Centre - 👣\n\n🌟\n\nIn case you missed it 
 last week (and also because it's such a cracking picture\, and celebrates 
 something that certainly deserves a second mention)\, Hekkel and Jyde pres
 ented a cheque - representing monies raised by various SH4 fundraising eff
 orts throughout the year and rounded up by the hash committee to a cool £
 1000 - to the National Amyloidosis Centre (NAC) at the Royal Free Hospital
  in London on 13 November. The cheque was received by Professor Julian Gil
 more\, Head of UCL Centre for Amyloidosis and Research Lead at the NAC.\n\
 nA fantastic fundraising achievement\, by everyone at SH4\, and one that w
 e are sure will be put to great use by the Centre to further its research 
 into the condition!\n\n(Look out for mentions in the local press\, too 
 😊)\n\n🌟\n\n________________________________________\n\nHASH DIARY - 
 Upcoming Events\n\n🌟 🎄⛄PRE-CHRISTMAS HASH WEEKEND ⛄🎄 🌟\nAN
 D\n1500th Hash\n30th Nov - 1st Dec 2024 - THIS WEEKEND!!!\n\n\n🎄\n\nPOS
 T-CHRISTMAS Hash Bash Weekend - 14th-16th February 2025\n\nIf you have boo
 ked your spot for this snazzy SH4 getaway but haven't yet paid your deposi
 t\, please send your £50 asap to the SH4 bank account\, quoting your hash
  name and ping a quick message to Hash Cash to confirm:\n\nPayment to SH4 
 Bank Account:\nAcc. no.: 00263482 Sort code: 30-94-72\n\n&nbsp\;\n\n👣\n
 ___________________\n\n________________________________________\n\nSH4 'EA
 LTH &amp\; SAFETY\n\nPlease make a note of the new SH4 hash phone number a
 nd add it to your phone:\n\n🌟 SH4 hash phone number: 07922 103701 🌟\
 n\nUse this number to call for assistance if you come 'unstuck' out on the
  trail\, or need to get a message to 'base camp' (On Down) during the run 
 .\n\n👣\n\n🌟 Don't forget to see Rusty Bottom or Ching Chong before t
 he hash to log you out on trail using the new-fangled checking-out/checkin
 g-in app (developed by our very own digital-wizard\, Whisperer).\n\nDon't 
 forget to also check back in with the 'On Secs you're safely back. 🌟\n\
 n👣\n________________________________________\n\nSH4 MercHASHdise\n\nSho
 w your love for SH4 and wear your membership proudly with a bespoke SH4 ca
 r sticker!\n\nAvailable exclusively to SH4 members (and\, to be fair\, any
 one else who wants one...) for the bargain sum of £0.50 ea.\, you can aff
 ord one for every vehicle in your fleet! 😊\n\nSee a member of the commi
 ttee at the next meet for yours.\n\n👣\n\n_____________________
CATEGORIES:Hash Trails
LOCATION:Shipley Bridge Shipley Bridge\, South Brent\, TQ10 9EL
GEO:50.450891;-3.859462
X-APPLE-STRUCTURED-LOCATION;VALUE=URI;X-ADDRESS=Shipley Bridge\, South Bren
 t\, TQ10 9EL\, United Kingdom;X-APPLE-RADIUS=100;X-TITLE=Shipley Bridge:ge
 o:50.450891,-3.859462
END:VEVENT
BEGIN:VTIMEZONE
TZID:Europe/London
X-LIC-LOCATION:Europe/London
BEGIN:STANDARD
DTSTART:20241027T010000
TZOFFSETFROM:+0100
TZOFFSETTO:+0000
TZNAME:GMT
END:STANDARD
END:VTIMEZONE
END:VCALENDAR