BEGIN:VCALENDAR
VERSION:2.0
PRODID:-//wp-events-plugin.com//7.2.3.1//EN
TZID:Europe/London
X-WR-TIMEZONE:Europe/London
BEGIN:VEVENT
UID:536@sh4.org.uk
DTSTART;TZID=Europe/London:20241130T120000
DTEND;TZID=Europe/London:20241130T173000
DTSTAMP:20241128T104411Z
URL:https://www.sh4.org.uk/events/hash-1498-pre-christmas-weekend/
SUMMARY:South Hams H4 Hash 1498 - Pre Christmas Weekend - Grenville House
DESCRIPTION: - 
CATEGORIES:Hash Trails
LOCATION:Grenville House Berry Head Road\, Brixham\, England\, TQ5 9AF
GEO:50.399148;-3.505465
X-APPLE-STRUCTURED-LOCATION;VALUE=URI;X-ADDRESS=Berry Head Road\, Brixham\,
  England\, TQ5 9AF\, United Kingdom;X-APPLE-RADIUS=100;X-TITLE=Grenville H
 ouse:geo:50.399148,-3.505465
END:VEVENT
BEGIN:VTIMEZONE
TZID:Europe/London
X-LIC-LOCATION:Europe/London
BEGIN:STANDARD
DTSTART:20241027T010000
TZOFFSETFROM:+0100
TZOFFSETTO:+0000
TZNAME:GMT
END:STANDARD
END:VTIMEZONE
END:VCALENDAR