BEGIN:VCALENDAR
VERSION:2.0
PRODID:-//wp-events-plugin.com//7.2.3.1//EN
TZID:Europe/London
X-WR-TIMEZONE:Europe/London
BEGIN:VEVENT
UID:548@sh4.org.uk
DTSTART;TZID=Europe/London:20250212T193000
DTEND;TZID=Europe/London:20250212T230000
DTSTAMP:20250206T213715Z
URL:https://www.sh4.org.uk/events/hash-1510/
SUMMARY:South Hams H4 Hash 1510 - Fortescue Arms
DESCRIPTION: - 
CATEGORIES:Hash Trails
LOCATION:Fortescue Arms Green Hill\, East Allington\, Devon\, TQ9 7RA\, Dev
 on
GEO:50.323264;-3.731448
X-APPLE-STRUCTURED-LOCATION;VALUE=URI;X-ADDRESS=Green Hill\, East Allington
 \, Devon\, TQ9 7RA\, Devon\, United Kingdom;X-APPLE-RADIUS=100;X-TITLE=For
 tescue Arms:geo:50.323264,-3.731448
END:VEVENT
BEGIN:VTIMEZONE
TZID:Europe/London
X-LIC-LOCATION:Europe/London
BEGIN:STANDARD
DTSTART:20241027T010000
TZOFFSETFROM:+0100
TZOFFSETTO:+0000
TZNAME:GMT
END:STANDARD
END:VTIMEZONE
END:VCALENDAR