BEGIN:VCALENDAR
VERSION:2.0
PRODID:-//wp-events-plugin.com//7.2.3.1//EN
TZID:Europe/London
X-WR-TIMEZONE:Europe/London
BEGIN:VEVENT
UID:549@sh4.org.uk
DTSTART;TZID=Europe/London:20250219T193000
DTEND;TZID=Europe/London:20250219T230000
DTSTAMP:20250219T145805Z
URL:https://www.sh4.org.uk/events/hash-1513/
SUMMARY:South Hams H4 Hash 1513 - Cornwood Inn
DESCRIPTION: - 
CATEGORIES:Hash Trails
LOCATION:Cornwood Inn The Square\, Cornwood\, Devon\, PL21 9PU\, Devon
GEO:50.420318;-3.964434
X-APPLE-STRUCTURED-LOCATION;VALUE=URI;X-ADDRESS=The Square\, Cornwood\, Dev
 on\, PL21 9PU\, Devon\, United Kingdom;X-APPLE-RADIUS=100;X-TITLE=Cornwood
  Inn:geo:50.420318,-3.964434
END:VEVENT
BEGIN:VTIMEZONE
TZID:Europe/London
X-LIC-LOCATION:Europe/London
BEGIN:STANDARD
DTSTART:20241027T010000
TZOFFSETFROM:+0100
TZOFFSETTO:+0000
TZNAME:GMT
END:STANDARD
END:VTIMEZONE
END:VCALENDAR