BEGIN:VCALENDAR
VERSION:2.0
PRODID:-//wp-events-plugin.com//7.2.3.1//EN
TZID:Europe/London
X-WR-TIMEZONE:Europe/London
BEGIN:VEVENT
UID:557@sh4.org.uk
DTSTART;TZID=Europe/London:20250402T193000
DTEND;TZID=Europe/London:20250402T230000
DTSTAMP:20250408T083025Z
URL:https://www.sh4.org.uk/events/hash-1519/
SUMMARY:South Hams H4 Hash 1519 - Mountain Inn
DESCRIPTION:&nbsp\;\n\n\n\n\n\n\n\n\n\n\n\n\n\n\n\n\n\n\nThe Words accordin
 g to TYRED BUNNY\n\n\n\n\n\n\n\n\n\n\n\n\n\n\n\n\n \n\n\n\n\n\n\n\n\n\n\n
 \n\n\n🌟 👣  🌟\nHASH 1519 - LUTTON\nA beautiful evening started e
 arly. Gary was providing the transport but\, due to some of the regulars
  not needing to be picked up\, Sex Wax\, Gary &amp\; myself arrived at 
 Lutton a touch early... Well\, actually\, very early - about 6:40pm. (Ed.
  sounds suspiciously like some astute forward-planning...) The harriets we
 re discussing how to spend the time. To a hasher\, it was obvious: I made
  a beeline for the bar. They rapidly saw the value of the move and joined 
 me for a drink. Seeing a pint\, the locals questioned if we were not going
  running(?). We explained the ‘drinkers with a running problem’ thing.
  They thought it was great\, and Gary press-ganged one of them\, Lucy\,
  a youngster who was part way through her fourth pint (Ed. therefore emine
 ntly qualified by hashing standards to tackle an uncertain number of miles
  over potentially hazard-strewn terrain. In the dark)\, into joining us. I
 t transpired that she’d been taught cross-country running by our esteeme
 d leader (even more esteemed after this revelation - wish my teachers had 
 combined drinking and sport!). Anyway\, after a bit more chat\, it was tim
 e to Circle Up.\n“Welcome to Luton!” to quote Olive from the previou
 s week. Guess that might account for her absence\, if she was in Luton\, B
 edfordshire\, and SH4 was in Lutton (Ed. a distinct lack of aircraft was n
 oted by the assembled). Doggy Style did the intros - including Lucy\, 
 her dog Mouse\, and a friend who wasn’t quite so enthusiastic (perhaps 
 she hadn’t been drinking and/or thought looking after her friend might b
 e a bit more of a challenge than she’d signed up for?!?)\; her little si
 ster had already seen the writing on the wall and disappeared. Great welco
 me back for Thing\, too.\n\nVery specific mileages were given for the Lon
 gs &amp\; Shorts by the hares\, Jelly Baby &amp\; Dulux. Also\, warning
 s about cattle/sheep\, dogs on leads etc\, but they were the ones Lucy l
 ooked after\, so it was all going to be ok. At that point\, Lowtarse aba
 ndoned her dog to Twisted Sister as he was looking a bit sheepish (Ed. a
 s in peckish for sheep...?). Shaggy initially hadn’t bothered with her
  head torch as she was confident she'd be so fast that she'd get round in 
 time\, but on hearing that the long was six miles decided to take it (Ed. 
 I mean\, there's obviously no point trying to argue any differently...but 
 who knew the inadequacy of simply bringing a head-torch to the same postc
 ode location? [Er\, yes\, that's right: everyone]. Turns out you're suppos
 ed to wear it [ideally on your head] on the run\, too\; how tedious.)\n\nT
 he trail was a classic hash\, a lot of that down to the hares having got c
 learance from landowners to run outside of defined footpaths\, through bog
 s and woods etc. It made the checks a lot more interesting\, and a great t
 rail\, added to by the great weather\, lovely views and a fantastic sunset
 . (Ed. 👌 And for a pretty glorious example of the latter\, see below.)\
 n\nEvents on the trail:\nAt the beginning\, on the flat\, Lucy somersaul
 ted over her own feet (nothing to do with the four pints of lager...)\, p
 ossibly tripping over the becoming pink baler twine she was using as a lea
 d for Mouse. Gaffer blamed it on the cross-country teacher (Ed. And\, as i
 t transpired\, so did the cross-country teacher!).\n\nVery early on\, Oui-
 Oui &amp\; Yeuck were seen coming out of bushes. Perhaps Oui-Oui was mis-n
 amed? Or maybe these are just athletes trying to lighten the load to run 
 faster?\n\nNot sure which part of the trail involved bats\, but apparently
  Thing had one fly into her face. Meanwhile big bro'\, Pugsley\, helped S
 haggy over the wire - who promptly zoomed off [Ed. *ashamed*. Vain attemp
 ts to atone for such brazen selfishness by holding open assorted gates we
 re\, of course\, too little too late!]. Various others\, including TB &a
 mp\; Boaty\, got nothing more than abuse from harriets for helping them 
 over the wire\; where are the ladies in the hash?!? (Ed. ahead... 😁)\n
 \nThere were strange goings-on at the front of the pack\, with light-heade
 d lycra boys blaming Can't Come for using all of the oxygen by breathing
  heavily (Ed. those FRBs are a sensitive bunch -  the merest fluctuation
  in atmospheric composition can have a quite devastating effect\, don't yo
 u know?). Boaty had his own problems breathing after a vicious elbow in 
 the chest from Rizzo – not sure what the offence was?\n\nCould have be
 en a couple of ‘domestics’: Yeuck\, holding the gate for the entire 
 hash\, then got tired and let it slam shut on Gaffer\; Skye\, having for
 gotten her head torch\, was running round in circles in the dark whilst he
 r other half\, Francis\, caringly suggesting ‘just leave her there’ (
 Ed. sometimes it's the kindest way...).\n\nTowards the end\, there was a c
 heeky check-back\, spotted by the ever vigilant Overshot.\n\nYeuck came 
 into the pub and\, seeing the chicken on the wall\, said\, "There's a nice
  cock" - and "She should know\," said Gaffer!! (Ed. compulsory reply 
 😉)\n\nGary presided as Religious Advisor\, starting by reminding the g
 athering that today was National Ferret Day and National Peanut Butter &am
 p\; Jelly Day (wonder if the two are connected: use one to lure back stray
 ing ferrets?). Bit of a problem with small writing on her phone notes\, lo
 w lighting in the pub\, short (like everything else) arms\, but Gary res
 isted the offer of longer arms (Ed. ever-gracious)\, re-found her place in
  the notes and bounded on to the usual verbal abuse of hashers for their m
 isdemeanours (Ed. yes\, masterfully done\, and from atop a not-overly-secu
 re-looking chair: kudos\, Gary!). This included Lowtarse\, who\, for so
 me strange reason\, only had one sock on. Then the call for the birthday s
 ong for Windy Puff for his 50th (must have had an easy paper-round)\, f
 ollowed by down-downs to:\n\n\n 	Jelly Baby and Dulux: Hares for a great
  hash 👏.\n 	Lucy: An auspicious start to hashing\, although there was a
  suggestion that she’d had enough (Ed. of hashing\, or beer?).\n 	Shaggy
 : Thinking she could outrun the light (Ed. demoted to half a water: I thin
 k it was that or increase my annual subs...) .\n 	Thing: Welcome back 
 🥳\n 	Yeuck: Hogging the limelight (Ed. it's about time...😊)\, with n
 o less than three mentions above.\n\nONON to AVETON GIFFORD \nPhoto credi
 t: Beefy\n👣\n\n🏃 📸 🍻 You can enjoy some more sunset-satu
 rated scenes from the lush Lutton Hash on 2nd April 2025 by checking out
  Hash Flash's purpose-built photo album on the SH4 Facebook page 📸 
 🏃🍻\n\n\n\n\n\n\n  \n👣\n\nNext SH4 Hash 🐷👣: \nHASH 1520
  - AVETON GIFFORD April 2025\n \nCIRCLE UP 7.25pm\nTimbers (Tidal Road
 ) carpark\nAveton Gifford\nWhat3Words: huddle.complain.shepherdess\n \nON
  DOWN:\nThe Fishermans Rest\nFore st\nAveton Gifford\nKingsbridge\nTQ7 4JL
 \nWhat3Words: enthused.spillage.parsnip\nHares: Shaggy &amp\; Rusty Bottom
 \n\nHash Food:\n🌟 Pre-orders by TUESDAY MORNING (8 April) to Shaggy vi
 a comments on SH4 Facebook post or the 'Keep on Hashing messenger' group. 
 Chip orders will be available on the night\, too.🌟\nMENU for The Fisher
 man’s Rest\, Aveton Gifford:\n\n 	Salt &amp\; pepper squid £9.75\n 	Bre
 aded whitebait £8.25\n 	Sausages &amp\; chips £7.00\n 	Battered Sausages
  &amp\; chips £7.10\n 	Burger &amp\; chips £7.75\n 	Scampi &amp\; chips 
 £9.25\n 	Chicken goujons &amp\; chips £8.50\n 	Veggie Burger &amp\; chip
 s £8.75\n 	Beef chilli nachos £12.50\n 	Beef chilli &amp\; rice £11.95\
 n 	Gammon steak\, chips &amp\; egg £13.95\n 	Ham egg &amp\; chips £12.50
 \n 	Golden Scampi chips\, salad &amp\; peas £14.25\n 	Chips £3.95\n 	Che
 esy Chips £4.70\n\n\nFor further info\, please see the Hash 1520 event p
 age on the SH4 Facebook Group.\nAdd your photos of how the day went dow
 n (Weds 9 April\, 2025) to the Hash 1520 photo album on SH4's Facebook 
 page \, courtesy: Rubbery.\n\n📝 If you are the lucky Scribe at Aveto
 n Gifford 9th April\, please submit your edition of The Words to thewords
 @sh4.org.uk by Sunday evening (13th April\, 2025) - TVM! 📝\n👣\n 
 \n  \nSH4 'EALTH &amp\; SAFETY\n \nPlease make a note of the SH4 hash p
 hone number and add it to your phone:\n \n🌟 SH4 hash phone number: 07
 922 103701 🌟\n \n \nUse this number to call for assistance if you c
 ome 'unstuck' out on the trail\, or need to get a message to 'base camp' (
 On Down) during the run .\n \n👣\n \n🌟 \n).Whisperer (developed by
  our very own digital-wizard\, checking-out/checking-in app to log you out
  on trail using the new-fangled see Rusty Bottom or Ching Chong before th
 e hashDon't forget to \n\n🌟\n👣\nDon't forget to also check back in 
 with the 'On Secs you're safely back. \n \nSH4 MercHASHdise \n \n\nSh
 ow your love for SH4 and wear your membership proudly with a bespoke SH4 c
 ar sticker!\n&nbsp\;\n \n\nAvailable exclusively to SH4 members (and\, to
  be fair\, anyone else who wants one...) for the bargain sum of £0.50 ea
 .\, you can afford one for every vehicle in your fleet! 😊\n \n\nSee a
  member of the committee at the next hash meet to get yours.\n \n👣\n__
 ___________________\n\n\n\n\n\n\n\n\n\n\n\n\n\n - &nbsp\;\n\n\n\n\n\n\n\n\
 n\n\n\n\n\n\n\n\n\n\nThe Words according to TYRED BUNNY\n\n\n\n\n\n\n\n\n\
 n\n\n\n\n\n\n\n \n\n\n\n\n\n\n\n\n\n\n\n\n\n🌟 👣  🌟\nHASH 1519 
 - LUTTON\nA beautiful evening started early. Gary was providing the tran
 sport but\, due to some of the regulars not needing to be picked up\, Sex
  Wax\, Gary &amp\; myself arrived at Lutton a touch early... Well\, actu
 ally\, very early - about 6:40pm. (Ed. sounds suspiciously like some astu
 te forward-planning...) The harriets were discussing how to spend the time
 . To a hasher\, it was obvious: I made a beeline for the bar. They rapidl
 y saw the value of the move and joined me for a drink. Seeing a pint\, the
  locals questioned if we were not going running(?). We explained the ‘dr
 inkers with a running problem’ thing. They thought it was great\, and G
 ary press-ganged one of them\, Lucy\, a youngster who was part way throu
 gh her fourth pint (Ed. therefore eminently qualified by hashing standards
  to tackle an uncertain number of miles over potentially hazard-strewn ter
 rain. In the dark)\, into joining us. It transpired that she’d been taug
 ht cross-country running by our esteemed leader (even more esteemed after 
 this revelation - wish my teachers had combined drinking and sport!). Anyw
 ay\, after a bit more chat\, it was time to Circle Up.\n“Welcome to Luto
 n!” to quote Olive from the previous week. Guess that might account fo
 r her absence\, if she was in Luton\, Bedfordshire\, and SH4 was in Lutton
  (Ed. a distinct lack of aircraft was noted by the assembled). Doggy Styl
 e did the intros - including Lucy\, her dog Mouse\, and a friend who w
 asn’t quite so enthusiastic (perhaps she hadn’t been drinking and/or t
 hought looking after her friend might be a bit more of a challenge than sh
 e’d signed up for?!?)\; her little sister had already seen the writing o
 n the wall and disappeared. Great welcome back for Thing\, too.\n\nVery s
 pecific mileages were given for the Longs &amp\; Shorts by the hares\, Je
 lly Baby &amp\; Dulux. Also\, warnings about cattle/sheep\, dogs on lead
 s etc\, but they were the ones Lucy looked after\, so it was all going t
 o be ok. At that point\, Lowtarse abandoned her dog to Twisted Sister 
 as he was looking a bit sheepish (Ed. as in peckish for sheep...?). Shagg
 y initially hadn’t bothered with her head torch as she was confident sh
 e'd be so fast that she'd get round in time\, but on hearing that the long
  was six miles decided to take it (Ed. I mean\, there's obviously no point
  trying to argue any differently...but who knew the inadequacy of simply 
 bringing a head-torch to the same postcode location? [Er\, yes\, that's ri
 ght: everyone]. Turns out you're supposed to wear it [ideally on your head
 ] on the run\, too\; how tedious.)\n\nThe trail was a classic hash\, a lot
  of that down to the hares having got clearance from landowners to run out
 side of defined footpaths\, through bogs and woods etc. It made the checks
  a lot more interesting\, and a great trail\, added to by the great weathe
 r\, lovely views and a fantastic sunset. (Ed. 👌 And for a pretty glorio
 us example of the latter\, see below.)\n\nEvents on the trail:\nAt the beg
 inning\, on the flat\, Lucy somersaulted over her own feet (nothing to d
 o with the four pints of lager...)\, possibly tripping over the becoming 
 pink baler twine she was using as a lead for Mouse. Gaffer blamed it on th
 e cross-country teacher (Ed. And\, as it transpired\, so did the cross-cou
 ntry teacher!).\n\nVery early on\, Oui-Oui &amp\; Yeuck were seen coming o
 ut of bushes. Perhaps Oui-Oui was mis-named? Or maybe these are just athl
 etes trying to lighten the load to run faster?\n\nNot sure which part of t
 he trail involved bats\, but apparently Thing had one fly into her face. M
 eanwhile big bro'\, Pugsley\, helped Shaggy over the wire - who promptly
  zoomed off [Ed. *ashamed*. Vain attempts to atone for such brazen selfis
 hness by holding open assorted gates were\, of course\, too little too lat
 e!]. Various others\, including TB &amp\; Boaty\, got nothing more tha
 n abuse from harriets for helping them over the wire\; where are the ladie
 s in the hash?!? (Ed. ahead... 😁)\n\nThere were strange goings-on at t
 he front of the pack\, with light-headed lycra boys blaming Can't Come f
 or using all of the oxygen by breathing heavily (Ed. those FRBs are a sens
 itive bunch -  the merest fluctuation in atmospheric composition can hav
 e a quite devastating effect\, don't you know?). Boaty had his own probl
 ems breathing after a vicious elbow in the chest from Rizzo – not sure
  what the offence was?\n\nCould have been a couple of ‘domestics’: Ye
 uck\, holding the gate for the entire hash\, then got tired and let it sl
 am shut on Gaffer\; Skye\, having forgotten her head torch\, was running
  round in circles in the dark whilst her other half\, Francis\, caringly 
 suggesting ‘just leave her there’ (Ed. sometimes it's the kindest way.
 ..).\n\nTowards the end\, there was a cheeky check-back\, spotted by the e
 ver vigilant Overshot.\n\nYeuck came into the pub and\, seeing the chick
 en on the wall\, said\, "There's a nice cock" - and "She should know\," s
 aid Gaffer!! (Ed. compulsory reply 😉)\n\nGary presided as Religious 
 Advisor\, starting by reminding the gathering that today was National Ferr
 et Day and National Peanut Butter &amp\; Jelly Day (wonder if the two are 
 connected: use one to lure back straying ferrets?). Bit of a problem with 
 small writing on her phone notes\, low lighting in the pub\, short (like e
 verything else) arms\, but Gary resisted the offer of longer arms (Ed. e
 ver-gracious)\, re-found her place in the notes and bounded on to the usua
 l verbal abuse of hashers for their misdemeanours (Ed. yes\, masterfully d
 one\, and from atop a not-overly-secure-looking chair: kudos\, Gary!). Thi
 s included Lowtarse\, who\, for some strange reason\, only had one sock
  on. Then the call for the birthday song for Windy Puff for his 50th (m
 ust have had an easy paper-round)\, followed by down-downs to:\n\n\n 	Jell
 y Baby and Dulux: Hares for a great hash 👏.\n 	Lucy: An auspicious st
 art to hashing\, although there was a suggestion that she’d had enough (
 Ed. of hashing\, or beer?).\n 	Shaggy: Thinking she could outrun the light
  (Ed. demoted to half a water: I think it was that or increase my annual s
 ubs...) .\n 	Thing: Welcome back 🥳\n 	Yeuck: Hogging the limelight (E
 d. it's about time...😊)\, with no less than three mentions above.\n\nON
 ON to AVETON GIFFORD \nPhoto credit: Beefy\n👣\n\n🏃 📸 🍻 Yo
 u can enjoy some more sunset-saturated scenes from the lush Lutton Hash
  on 2nd April 2025 by checking out Hash Flash's purpose-built photo albu
 m on the SH4 Facebook page 📸 🏃🍻\n\n\n\n\n\n\n  \n👣\n\nNext
  SH4 Hash 🐷👣: \nHASH 1520 - AVETON GIFFORD April 2025\n \nCI
 RCLE UP 7.25pm\nTimbers (Tidal Road) carpark\nAveton Gifford\nWhat3Words: 
 huddle.complain.shepherdess\n \nON DOWN:\nThe Fishermans Rest\nFore st\nA
 veton Gifford\nKingsbridge\nTQ7 4JL\nWhat3Words: enthused.spillage.parsnip
 \nHares: Shaggy &amp\; Rusty Bottom\n\nHash Food:\n🌟 Pre-orders by TUE
 SDAY MORNING (8 April) to Shaggy via comments on SH4 Facebook post or the 
 'Keep on Hashing messenger' group. Chip orders will be available on the ni
 ght\, too.🌟\nMENU for The Fisherman’s Rest\, Aveton Gifford:\n\n 	Sal
 t &amp\; pepper squid £9.75\n 	Breaded whitebait £8.25\n 	Sausages &amp\
 ; chips £7.00\n 	Battered Sausages &amp\; chips £7.10\n 	Burger &amp\; c
 hips £7.75\n 	Scampi &amp\; chips £9.25\n 	Chicken goujons &amp\; chips 
 £8.50\n 	Veggie Burger &amp\; chips £8.75\n 	Beef chilli nachos £12.50\
 n 	Beef chilli &amp\; rice £11.95\n 	Gammon steak\, chips &amp\; egg £13
 .95\n 	Ham egg &amp\; chips £12.50\n 	Golden Scampi chips\, salad &amp\; 
 peas £14.25\n 	Chips £3.95\n 	Cheesy Chips £4.70\n\n\nFor further info\
 , please see the Hash 1520 event page on the SH4 Facebook Group.\nAdd y
 our photos of how the day went down (Weds 9 April\, 2025) to the Hash 1
 520 photo album on SH4's Facebook page \, courtesy: Rubbery.\n\n📝 I
 f you are the lucky Scribe at Aveton Gifford 9th April\, please submit you
 r edition of The Words to thewords@sh4.org.uk by Sunday evening (13th A
 pril\, 2025) - TVM! 📝\n👣\n \n  \nSH4 'EALTH &amp\; SAFETY\n \nP
 lease make a note of the SH4 hash phone number and add it to your phone:\n
  \n🌟 SH4 hash phone number: 07922 103701 🌟\n \n \nUse this numb
 er to call for assistance if you come 'unstuck' out on the trail\, or nee
 d to get a message to 'base camp' (On Down) during the run .\n \n👣\n 
 \n🌟 \n).Whisperer (developed by our very own digital-wizard\, checking
 -out/checking-in app to log you out on trail using the new-fangled see Ru
 sty Bottom or Ching Chong before the hashDon't forget to \n\n🌟\n👣\n
 Don't forget to also check back in with the 'On Secs you're safely back.
  \n \nSH4 MercHASHdise \n \n\nShow your love for SH4 and wear your mem
 bership proudly with a bespoke SH4 car sticker!\n&nbsp\;\n \n\nAvailable 
 exclusively to SH4 members (and\, to be fair\, anyone else who wants one.
 ..) for the bargain sum of £0.50 ea.\, you can afford one for every vehic
 le in your fleet! 😊\n \n\nSee a member of the committee at the next h
 ash meet to get yours.\n \n👣\n_____________________\n\n\n\n\n\n\n\n\n\
 n\n\n\n\n
CATEGORIES:Hash Trails
LOCATION:Mountain Inn Old Road\, Lutton\, Near Ivybridge
GEO:50.417702;-3.976905
X-APPLE-STRUCTURED-LOCATION;VALUE=URI;X-ADDRESS=Old Road\, Lutton\, Near Iv
 ybridge\, United Kingdom;X-APPLE-RADIUS=100;X-TITLE=Mountain Inn:geo:50.41
 7702,-3.976905
END:VEVENT
BEGIN:VTIMEZONE
TZID:Europe/London
X-LIC-LOCATION:Europe/London
BEGIN:DAYLIGHT
DTSTART:20250330T020000
TZOFFSETFROM:+0000
TZOFFSETTO:+0100
TZNAME:BST
END:DAYLIGHT
END:VTIMEZONE
END:VCALENDAR