BEGIN:VCALENDAR
VERSION:2.0
PRODID:-//wp-events-plugin.com//7.2.3.1//EN
TZID:Europe/London
X-WR-TIMEZONE:Europe/London
BEGIN:VEVENT
UID:558@sh4.org.uk
DTSTART;TZID=Europe/London:20250409T193000
DTEND;TZID=Europe/London:20250409T230000
DTSTAMP:20250414T092900Z
URL:https://www.sh4.org.uk/events/hash-1520/
SUMMARY:South Hams H4 Hash 1520 - Fisherman's Rest
DESCRIPTION:HASH FOOD: Please can I have your pre-orders by TUESDAY MORNING
 \, 8 April -\nTVM! Fisherman's Rest menu below: -\nSalt &amp\; pepper squi
 d £9.75\nBreaded whitebait £8.25\nSausages &amp\; chips £7.00\nBattered
  Sausages &amp\; chips £7.10\nBurger &amp\; chips £7.75\nScampi &amp\; c
 hips £9.25\nChicken goujons &amp\; chips £8.50\nVeggie Burger &amp\; chi
 ps £8.75\nBeef chilli nachos £12.50\nBeef chilli &amp\; rice £11.95\nGa
 mmon steak\, chips &amp\; egg £13.95\nHam egg &amp\; chips £12.50\nGolde
 n Scampi chips\, salad &amp\; peas £14.25\nChips £3.95\nCheesy Chips £4
 .70\nShaggy x \n\n&nbsp\;\n\n\n\n\n\n\n\n\n\n\n\n\n\n\n\n\n\n\nThe Words a
 ccording to SPOTTY BOTTY\n\n\n\n\n\n\n\n\n\n\n\n\n\n\n\n\n \n\n\n\n\n\n\n
 \n\n\n\n\n\n\n🌟 👣  🌟\nHASH 1520 - AVETON GIFFORD\nWe arrived at 
 Aveton Gifford on a beautiful evening\, bathed in sunshine by the river A
 von. This is about as poetic as I get. [Ed. we were transported\, Spotty -
  don't stop now! 😘] And now\, on to the very brief words: thank you t
 o Can't Come for being a very concise RA.\nWe set off on the promise of a 
 Long\, Medium\, Short\, Walk\, sweet stops and beer stops [Ed. not sure if
  multiple sweetie/beer stops were promised\, but we all know facts have no
  place in the Words\, gosh darn it! 😘]. Already sounding like the best 
 hash ever… Marty and I had a fantastic catch up on the way round\, howev
 er managed to miss the sweet stop and the beer stop due to ignoring crosse
 s.\n\nCan’t Come began his RA by thanking the pub as well as Shaggy and 
 Rusty for a well laid hash with lovely beer stops. The sunset made the eve
 ning OK [Ed. Don't overdo it\, now... 🙄 (and after we particularly a
 rranged for a magnificent sundown at the appointed hour...tough crowd!)]\,
  and there was an abundance of wildlife. We then found out some new infor
 mation\, i.e. that it was Chinese Almond Cookie Day\, National Name Yours
 elf Day and National Unicorn Day. Can't Come proceeded to tell us that he'
 d named himself ‘Fudge You’ (but far ruder...) in a Teams meeting\; I 
 have to say\, I am shocked [Ed. you and me\, both\, Spotty\; it's always t
 he quiet one-...oh\, wait.].\n\nRe-Entry was evidently the first at the be
 er stop [Ed. only true if you count the Longs' second crack at the BS...]
  However\, he shouted 'on on' and then led others down the wrong route\, 
 all of whom had to walk back with their heads held low in sheer embarrassm
 ent [Ed. such a shame that so many of the Longs were too speedy to spot th
 e over-baked tilled-field diversion (designed to save them from [at least
  a bit of] the road) - although almost certainly saved them from many mo
 re ankle-based injuries...!]  Actually\, Re-Entry couldn’t show his f
 ace at the pub [Ed. another\, arguably more-believable\, version of events
  is that Re-Entry arrived dressed for a mid-August hash\, beguiled by the 
 daytime sun...only to find that post-sunset temperatures were very much s
 till typical of early April\, and high-tailed it home to warm up).\n\nThe 
 first sweet stop was clearly too close\, as the Longs got there so quickly
  that Rusty hadn't arrived [Ed. too close? Or perfectly judged (to guarant
 ee some 'leftovers')...?].\n\nCongratulations to Jyde for finally kicking 
 out his first check [Ed. you can't rush these things...]. In fact\, it t
 urned out to be a night of firsts [Ed. for Mountie...I feel as though the
  Hash may have done a sprained ankle or two before?]\, as Mountie turned
  her ankle and had to be helped back with her daughter\, Bo Peep.\n\nWet S
 pot\, unsurprisingly\, had a bit of moaning to do [Ed. well\, he does hav
 e some serious catching up to do]: he had to arrive on his own\, totally a
 bandoned by Dimwit and Lazy Git… Never mind\, Wet Spot [Ed. honestly\, b
 reak a few ribs and you're instantly bumped out of the car pool - brutal].
 \n\nIn the pub we sang a melodic Happy Birthday to Gomez\, who celebrated 
 his birthday last Saturday\, and the down downs were awarded to:\n\n 	Shag
 gy and Rusty - hares\n 	Pony Shafter\, for meeting his weight target and 
 looking fabulous\n 	Gomez\, for his birthday\n 	Mountie for injuring her 
 ankle - however\, she had left\, therefore Wet Spot took her place (or di
 d he\, due to driving? [Ed. He did. Hero.])\n 	a virgin who brought his ow
 n Guinness up [Ed. there were a few raised eyebrows but\, to his credit\, 
 he drained the glass...and he wasn't the last to finish]\n 	Can’t Come a
 nd Marty then stitched up Spotty\, as she had been missing for a while - s
 o I took one for the team [Ed. A true martyr to the cause].\n\n\nOn on to
  Plympton\, somewhere [Ed. Cadover Bridge]\, and a reminder that there 
 are some very special birthdays coming up...\nON ON to CADOVER BRIDGE\nPh
 oto credit: Pony\n Photo credit: Doggy Style\n👣\n\n🏃 📸 🍻 Y
 ou can enjoy some more summery scenes from the remarkably dry Aveton Gif
 ford Hash on 9th April 2025 by checking out Hash Flash's purpose-built p
 hoto album on the SH4 Facebook page 📸 🏃🍻\n\n\n\n\n\n\n  \n👣
 \n\nNext SH4 Hash 🐷👣: \nHASH 1521 - CADOVER BRIDGE 16 April 20
 25\n \nCIRCLE UP 7.25pm\nCadover Bridge Car Park\nWhat3Words: https://wha
 t3words.com/powering.muscular.calms\n \nON DOWN:\nMoorland Hotel\nWotter\
 nPlymouth\nPL7 5HP\nWhat3Words: https://what3words.com/field.marginal.outl
 ooks\nHares: Re-Entry and Nice Tackle\n\nFor further info\, please see th
 e Hash 1521 event page on the SH4 Facebook Group.\nAdd your photos of h
 ow the day went down (Weds 9 April\, 2025) to the Hash 1520 photo album
  on SH4's Facebook page \, courtesy: Rubbery.\n\n📝 If you are the l
 ucky Scribe at Cadover Bridge on 16 April\, please submit your edition of 
 The Words to thewords@sh4.org.uk by Sunday evening (20th April\, 2025) 
 - TVM! 📝\n👣\nAlso...\n\n🌟🌟 NEW 🌟🌟\n\n🐰🐣🌸🍫
  GOOD FRIDAY - HOT CROSS BUN HASH  🐰🐣🌸🍫\n10.30 am start\, Goo
 d Friday (18 April).\n\nCar parking will be in the field opposite the chur
 ch in South Milton.\n\nIt will be a family hash\, so bring your children 
 along and prizes will involve CHOCOLATE! 🍫\n\nLongs will be 7 miles\, 
 Shorts 4-ish miles\, Walkers 3-4 miles\nThe start will be at the bottom of
  Wakeham Farm driveway.\nThere will a beer stop or two...🍻\n\nOn Downs 
 will be at Wakeham Farm\, and then on to\nThe Village Inn at Thurelstone\n
 \n🐰🐣🌸🍫 Looking forward to seeing everyone! 🐰🐣🌸🍫\
 n\n👣\n \n\n\n\n\n\n\nSH4 'EALTH &amp\; SAFETY\n \nPlease make a note
  of the SH4 hash phone number and add it to your phone:\n \n🌟 SH4 has
 h phone number: 07922 103701 🌟\n \n \nUse this number to call for as
 sistance if you come 'unstuck' out on the trail\, or need to get a messag
 e to 'base camp' (On Down) during the run.\n \n👣\n \n  Don't forget 
 to see Rusty Bottom or Ching Chong before the hash to log you out on tra
 il using the new-fangled checking-out/checking-in app (developed by our
  very own digital-wizard\, Whisperer).\n \nDon't forget to also check ba
 ck in with the 'On Secs once you're safely back. \n\n👣\n\n\n\n\n\n\nSH
 4 MercHASHdise \n \n\nShow your love for SH4 and wear your membership pr
 oudly with a bespoke SH4 car sticker!\n&nbsp\;\n \n\nAvailable exclusivel
 y to SH4 members (and\, to be fair\, anyone else who wants one...) for th
 e bargain sum of £0.50 ea.\, you can afford one for every vehicle in your
  fleet! 😊\n \n\nSee a member of the committee at the next hash meet t
 o get yours.\n \n👣\n_____________________\n\n\n\n\n\n\n\n\n\n\n\n\n\n 
 - HASH FOOD: Please can I have your pre-orders by TUESDAY MORNING\, 8 Apri
 l -\nTVM! Fisherman's Rest menu below: -\nSalt &amp\; pepper squid £9.75\
 nBreaded whitebait £8.25\nSausages &amp\; chips £7.00\nBattered Sausages
  &amp\; chips £7.10\nBurger &amp\; chips £7.75\nScampi &amp\; chips £9.
 25\nChicken goujons &amp\; chips £8.50\nVeggie Burger &amp\; chips £8.75
 \nBeef chilli nachos £12.50\nBeef chilli &amp\; rice £11.95\nGammon stea
 k\, chips &amp\; egg £13.95\nHam egg &amp\; chips £12.50\nGolden Scampi 
 chips\, salad &amp\; peas £14.25\nChips £3.95\nCheesy Chips £4.70\nShag
 gy x \n\n&nbsp\;\n\n\n\n\n\n\n\n\n\n\n\n\n\n\n\n\n\n\nThe Words according 
 to SPOTTY BOTTY\n\n\n\n\n\n\n\n\n\n\n\n\n\n\n\n\n \n\n\n\n\n\n\n\n\n\n\n\
 n\n\n🌟 👣  🌟\nHASH 1520 - AVETON GIFFORD\nWe arrived at Aveton Gi
 fford on a beautiful evening\, bathed in sunshine by the river Avon. This
  is about as poetic as I get. [Ed. we were transported\, Spotty - don't st
 op now! 😘] And now\, on to the very brief words: thank you to Can't C
 ome for being a very concise RA.\nWe set off on the promise of a Long\, Me
 dium\, Short\, Walk\, sweet stops and beer stops [Ed. not sure if multiple
  sweetie/beer stops were promised\, but we all know facts have no place in
  the Words\, gosh darn it! 😘]. Already sounding like the best hash ever
 … Marty and I had a fantastic catch up on the way round\, however manage
 d to miss the sweet stop and the beer stop due to ignoring crosses.\n\nCan
 ’t Come began his RA by thanking the pub as well as Shaggy and Rusty for
  a well laid hash with lovely beer stops. The sunset made the evening OK 
 [Ed. Don't overdo it\, now... 🙄 (and after we particularly arranged f
 or a magnificent sundown at the appointed hour...tough crowd!)]\, and the
 re was an abundance of wildlife. We then found out some new information\, 
 i.e. that it was Chinese Almond Cookie Day\, National Name Yourself Day a
 nd National Unicorn Day. Can't Come proceeded to tell us that he'd named h
 imself ‘Fudge You’ (but far ruder...) in a Teams meeting\; I have to s
 ay\, I am shocked [Ed. you and me\, both\, Spotty\; it's always the quiet 
 one-...oh\, wait.].\n\nRe-Entry was evidently the first at the beer stop [
 Ed. only true if you count the Longs' second crack at the BS...] However
 \, he shouted 'on on' and then led others down the wrong route\, all of wh
 om had to walk back with their heads held low in sheer embarrassment [Ed. 
 such a shame that so many of the Longs were too speedy to spot the over-b
 aked tilled-field diversion (designed to save them from [at least a bit of
 ] the road) - although almost certainly saved them from many more ankle-
 based injuries...!]  Actually\, Re-Entry couldn’t show his face at th
 e pub [Ed. another\, arguably more-believable\, version of events is that 
 Re-Entry arrived dressed for a mid-August hash\, beguiled by the daytime 
 sun...only to find that post-sunset temperatures were very much still typi
 cal of early April\, and high-tailed it home to warm up).\n\nThe first swe
 et stop was clearly too close\, as the Longs got there so quickly that Rus
 ty hadn't arrived [Ed. too close? Or perfectly judged (to guarantee some '
 leftovers')...?].\n\nCongratulations to Jyde for finally kicking out his f
 irst check [Ed. you can't rush these things...]. In fact\, it turned out
  to be a night of firsts [Ed. for Mountie...I feel as though the Hash may
  have done a sprained ankle or two before?]\, as Mountie turned her ankl
 e and had to be helped back with her daughter\, Bo Peep.\n\nWet Spot\, un
 surprisingly\, had a bit of moaning to do [Ed. well\, he does have some se
 rious catching up to do]: he had to arrive on his own\, totally abandoned 
 by Dimwit and Lazy Git… Never mind\, Wet Spot [Ed. honestly\, break a fe
 w ribs and you're instantly bumped out of the car pool - brutal].\n\nIn th
 e pub we sang a melodic Happy Birthday to Gomez\, who celebrated his birth
 day last Saturday\, and the down downs were awarded to:\n\n 	Shaggy and Ru
 sty - hares\n 	Pony Shafter\, for meeting his weight target and looking f
 abulous\n 	Gomez\, for his birthday\n 	Mountie for injuring her ankle - h
 owever\, she had left\, therefore Wet Spot took her place (or did he\, du
 e to driving? [Ed. He did. Hero.])\n 	a virgin who brought his own Guinnes
 s up [Ed. there were a few raised eyebrows but\, to his credit\, he draine
 d the glass...and he wasn't the last to finish]\n 	Can’t Come and Marty 
 then stitched up Spotty\, as she had been missing for a while - so I took 
 one for the team [Ed. A true martyr to the cause].\n\n\nOn on to Plympton
 \, somewhere [Ed. Cadover Bridge]\, and a reminder that there are some 
 very special birthdays coming up...\nON ON to CADOVER BRIDGE\nPhoto credit
 : Pony\n Photo credit: Doggy Style\n👣\n\n🏃 📸 🍻 You can e
 njoy some more summery scenes from the remarkably dry Aveton Gifford Hash
  on 9th April 2025 by checking out Hash Flash's purpose-built photo albu
 m on the SH4 Facebook page 📸 🏃🍻\n\n\n\n\n\n\n  \n👣\n\nNext
  SH4 Hash 🐷👣: \nHASH 1521 - CADOVER BRIDGE 16 April 2025\n \n
 CIRCLE UP 7.25pm\nCadover Bridge Car Park\nWhat3Words: https://what3words.
 com/powering.muscular.calms\n \nON DOWN:\nMoorland Hotel\nWotter\nPlymout
 h\nPL7 5HP\nWhat3Words: https://what3words.com/field.marginal.outlooks\nHa
 res: Re-Entry and Nice Tackle\n\nFor further info\, please see the Hash 1
 521 event page on the SH4 Facebook Group.\nAdd your photos of how the d
 ay went down (Weds 9 April\, 2025) to the Hash 1520 photo album on SH4'
 s Facebook page \, courtesy: Rubbery.\n\n📝 If you are the lucky Scri
 be at Cadover Bridge on 16 April\, please submit your edition of The Words
  to thewords@sh4.org.uk by Sunday evening (20th April\, 2025) - TVM! 
 📝\n👣\nAlso...\n\n🌟🌟 NEW 🌟🌟\n\n🐰🐣🌸🍫 GOOD FR
 IDAY - HOT CROSS BUN HASH  🐰🐣🌸🍫\n10.30 am start\, Good Friday
  (18 April).\n\nCar parking will be in the field opposite the church in So
 uth Milton.\n\nIt will be a family hash\, so bring your children along an
 d prizes will involve CHOCOLATE! 🍫\n\nLongs will be 7 miles\, Shorts 4
 -ish miles\, Walkers 3-4 miles\nThe start will be at the bottom of Wakeham
  Farm driveway.\nThere will a beer stop or two...🍻\n\nOn Downs will be 
 at Wakeham Farm\, and then on to\nThe Village Inn at Thurelstone\n\n🐰
 🐣🌸🍫 Looking forward to seeing everyone! 🐰🐣🌸🍫\n\n
 👣\n \n\n\n\n\n\n\nSH4 'EALTH &amp\; SAFETY\n \nPlease make a note of
  the SH4 hash phone number and add it to your phone:\n \n🌟 SH4 hash p
 hone number: 07922 103701 🌟\n \n \nUse this number to call for assis
 tance if you come 'unstuck' out on the trail\, or need to get a message t
 o 'base camp' (On Down) during the run.\n \n👣\n \n  Don't forget to
  see Rusty Bottom or Ching Chong before the hash to log you out on trail
  using the new-fangled checking-out/checking-in app (developed by our v
 ery own digital-wizard\, Whisperer).\n \nDon't forget to also check back
  in with the 'On Secs once you're safely back. \n\n👣\n\n\n\n\n\n\nSH4 
 MercHASHdise \n \n\nShow your love for SH4 and wear your membership prou
 dly with a bespoke SH4 car sticker!\n&nbsp\;\n \n\nAvailable exclusively 
 to SH4 members (and\, to be fair\, anyone else who wants one...) for the 
 bargain sum of £0.50 ea.\, you can afford one for every vehicle in your f
 leet! 😊\n \n\nSee a member of the committee at the next hash meet to 
 get yours.\n \n👣\n_____________________\n\n\n\n\n\n\n\n\n\n\n\n\n\n
CATEGORIES:Hash Trails
LOCATION:Fisherman's Rest Fore Street\, Aveton Gifford\, Devon\, TQ7 4JL
GEO:50.311954;-3.836579
X-APPLE-STRUCTURED-LOCATION;VALUE=URI;X-ADDRESS=Fore Street\, Aveton Giffor
 d\, Devon\, TQ7 4JL\, United Kingdom;X-APPLE-RADIUS=100;X-TITLE=Fisherman'
 s Rest:geo:50.311954,-3.836579
END:VEVENT
BEGIN:VTIMEZONE
TZID:Europe/London
X-LIC-LOCATION:Europe/London
BEGIN:DAYLIGHT
DTSTART:20250330T020000
TZOFFSETFROM:+0000
TZOFFSETTO:+0100
TZNAME:BST
END:DAYLIGHT
END:VTIMEZONE
END:VCALENDAR