BEGIN:VCALENDAR
VERSION:2.0
PRODID:-//wp-events-plugin.com//7.2.3.1//EN
TZID:Europe/London
X-WR-TIMEZONE:Europe/London
BEGIN:VEVENT
UID:561@sh4.org.uk
DTSTART;TZID=Europe/London:20250423T193000
DTEND;TZID=Europe/London:20250423T230000
DTSTAMP:20250414T100405Z
URL:https://www.sh4.org.uk/events/hash-1523/
SUMMARY:South Hams H4 Hash 1523 - Fancy Dress\, St Georges Day - Malborough
  Car Park
DESCRIPTION:Where your best patriotic fancy dress.  On Down is at the Roya
 l Oak - Where your best patriotic fancy dress.  On Down is at the Royal O
 ak
CATEGORIES:Hash Trails
LOCATION:Malborough Car Park Village Hall\, Malborough\, Devon\, TQ7 3BX
GEO:50.243891;-3.810561
X-APPLE-STRUCTURED-LOCATION;VALUE=URI;X-ADDRESS=Village Hall\, Malborough\,
  Devon\, TQ7 3BX\, United Kingdom;X-APPLE-RADIUS=100;X-TITLE=Malborough Ca
 r Park:geo:50.243891,-3.810561
END:VEVENT
BEGIN:VTIMEZONE
TZID:Europe/London
X-LIC-LOCATION:Europe/London
BEGIN:DAYLIGHT
DTSTART:20250330T020000
TZOFFSETFROM:+0000
TZOFFSETTO:+0100
TZNAME:BST
END:DAYLIGHT
END:VTIMEZONE
END:VCALENDAR