BEGIN:VCALENDAR
VERSION:2.0
PRODID:-//wp-events-plugin.com//7.2.3.1//EN
TZID:Europe/London
X-WR-TIMEZONE:Europe/London
BEGIN:VEVENT
UID:568@sh4.org.uk
DTSTART;TZID=Europe/London:20250611T193000
DTEND;TZID=Europe/London:20250611T230000
DTSTAMP:20250611T165127Z
URL:https://www.sh4.org.uk/events/hash-1530/
SUMMARY:South Hams H4 Hash 1530 - Ivybridge Town Hall Car Park
DESCRIPTION:On Down is at The Exchange\nThe town hall car park is restricte
 d to 2 hours parking\, so it is best to park in Leonards Road Car Park and
  walk up to the Town Hall for circle up - On Down is at The Exchange\nThe 
 town hall car park is restricted to 2 hours parking\, so it is best to par
 k in Leonards Road Car Park and walk up to the Town Hall for circle up
CATEGORIES:Hash Trails
LOCATION:Ivybridge Town Hall Car Park Leonards Road\, Ivybridge\, PL21 0RU
GEO:50.389186;-3.919102
X-APPLE-STRUCTURED-LOCATION;VALUE=URI;X-ADDRESS=Leonards Road\, Ivybridge\,
  PL21 0RU\, United Kingdom;X-APPLE-RADIUS=100;X-TITLE=Ivybridge Town Hall 
 Car Park:geo:50.389186,-3.919102
END:VEVENT
BEGIN:VTIMEZONE
TZID:Europe/London
X-LIC-LOCATION:Europe/London
BEGIN:DAYLIGHT
DTSTART:20250330T020000
TZOFFSETFROM:+0000
TZOFFSETTO:+0100
TZNAME:BST
END:DAYLIGHT
END:VTIMEZONE
END:VCALENDAR