BEGIN:VCALENDAR
VERSION:2.0
PRODID:-//wp-events-plugin.com//7.2.3.1//EN
TZID:Europe/London
X-WR-TIMEZONE:Europe/London
BEGIN:VEVENT
UID:571@sh4.org.uk
DTSTART;TZID=Europe/London:20250702T193000
DTEND;TZID=Europe/London:20250702T230000
DTSTAMP:20250707T102036Z
URL:https://www.sh4.org.uk/events/hash-1533/
SUMMARY:South Hams H4 Hash 1533 - Plym Bridge Car Park (Plympton side)
DESCRIPTION:On Down is at The Stannery\nThe Stannery95 RidgewayPlymptonPL7 
 2AA\nWhat3words:https://what3words.com/common.landed.glass\n\n\n\n\n\n\n\n
 \n\n\n\n\n\n\n\n\n\n\n\n\nThe Words according to RUBBERY FCUK\n\n\n\n\n\n\
 n\n\n\n\n\n\n\n\n\n\n \n\n\n\n\n\n\n\n\n\n\n\n\n\n🌟 👣  🌟\n\nHAS
 H 1533 - PLYMBRIDGE\nI gratefully accepted a lift with Overshot via WGAS a
 longside Can’t Come\, so spared my fellow hashers my usual dramatic driv
 ing into the Circle Up [Ed. it just lends that extra frisson of exciteme
 nt we're all looking for to make us feel really alive 😘] - or so I t
 hought. My presence in the car must have had some effect on Overshot\, for
  when we arrived at the Circle Up\, he drove towards one of the group of a
 ssembling hashers causing them to scatter and step aside rapidly: I was q
 uite impressed! How this didn’t get reported to the RA\, I’m not sure\
 ; maybe that privilege is reserved just for me?\n\nAs we went to Circle Up
 \, I was made aware of the possibility of getting a swim\, so hastily retu
 rned to Overshot's car to empty out my pockets of keys\, wallet etc. to k
 eep them dry - then realised that I had forgotten to bring a towel\, but t
 hought\, what the hell… [Ed. I would say a Gaffer-trail in Plymbridge Wo
 ods carries more than a 'possibility' of a swim...!]\n\nThen\, as we were 
 circling up\, I remembered the one job that I have\, i.e. “HashFlash”\
 , so snapped a few shots - plus\, here’s one I took earlier on my way to
  WGAS' abode for “tea” before the hash. Bonus points for anyone who kn
 ows where this is –\n\nPhoto credit: Rubbery\nI was so busy taking pictu
 res of the Circle Up that\, as usual\, I failed to listen to any of the in
 formation from GM\, Doggie Style\, or the Hares\, so I wasn’t aware of t
 he routes or distances involved [Ed. You didn't miss anything that any one
  of the rest of us couldn't confidently make up and present as fact. Much 
 as the hare might...]. I was paying enough attention to hear Doggie Style 
 nominate me for the Words\, which I thought was fair play\, given that I a
 m not able to attend regularly at present.\n\nI did get a picture of the V
 irgin\, just so that we could identify him if we lost him! [Ed. Sorry Rubb
 ery - pic was too tiny to include and still be discernible: I'm afraid you
 'll have to use your imaginations here...] He was invited by Badcock\, app
 arently.\n\nThe pack set off. I decided I would do the Walk and have a di
 p if the opportunity presented itself. I stayed with the last group of Wal
 kers\, and we quickly ran out of the Walkers' trail\; I thought\, 'That’
 s odd...'\, but Pony was there to set us right – apparently that was the
  plan all along\, as Gaffer can’t be arsed to set a Walkers' route! [Ed.
  such aspersion-casting! Can't believe anyone would say such a thing...
 😉]\n\nI did manage to capture a few pictures along the route\, and a f
 ew at the kissing gate [Ed. pucker up\, ladies (and gents - for balance)!
 ]\n\nPhoto Credit: Rubbery\n\nReports from / of other hashers on the hash
  from the RA’s interestingly annotated note system\, with numbers starti
 ng from 1a then 2 through to 12\, and in no particular order\, read as:\n\
 n 	Longs all went wrong – no marks – at least ¾ of a mile wrong.\n 	A
  lot of bum-sliding. [Ed. I can corroborate this - the only way to navigat
 e some of those slopes!]\n 	Can’t Come cut his leg.\n 	Lactaster got a n
 asty scratch.\n 	WetSpot jumped in and was swimming with the harriets\, th
 en remembered he still had his watch on.\n 	WetSpot lost LiveWire – you 
 had one job\, WetSpot! Apparently\, you’re too slow to keep up with Liv
 eWire! [Ed. Aren't we all?] He had to wait over 20 minutes for you back at
  the Carpark.\n 	Pony got taken out by a puddle [Ed. as vicious as trees\,
  it seems!]\, something about beige colour and wanting to feel the Pony -
  shame I missed that photo opportunity.\n 	Beefy - is that Beef Curtains?
  [Ed. yes] - saying the mud wasn’t that bad\, then he started sinking!\
 n 	Gaffer was heard saying that you can’t lay a bad trail here.\n 	WGAS
  fell over and wounded his knee\, so had to wimp out on doing the rope swi
 ng and swimming.\n 	Boaty screams like a girl – whoever would have thoug
 ht that?\n 	Dulux spotted some smoke and fire and sent GHR back up the hi
 ll to put out whatever was causing it – did we find out? Whatever\, he w
 as nominated as Hash Hero\n\nBack in the pub –\n\n\n 	Filth ordered some
  chips and went to get some Tomato ketchup and Mayo\, returning with one r
 ed and one yellow crayon instead of the sachets of sauce! [Ed. Although\,
  apparently\, was so committed to the illusion that she also attempted to 
 'open' the crayon-shaped sachets 😆]\n 	Gaffer\, had chosen the local 
 Wetherspoons as the evening's venue only so that he could drink the cheap
 est beer money could buy! [Ed. I think there was an equal mix of wonder an
 d delight at the 1980's-esque pricing structure\, painfully well-accustome
 d as we all are to not getting a whole lot of change out of £6 for a pint
 ...]\n\nThe RA for the night\, our lovely GM Doggie Style\, called us to o
 rder without using her whistle and\, as we thronged round\, I couldn’t h
 elp but notice that she held a typed sheet in her hands – has she access
  to a printer or has she been taking tips from Olive??? Surely not pre-wri
 tten notes... [Ed. what is this sorcery that allows RAs to see the future 
 hash?!] \n\nWell\, the proof is in the hands of your scribe – and just 
 in case - here they are\, more or less as written (i.e. typed out):\n"T
 hanks go to the Stannary for hosting SH4\n\nWhat did you think of the Hash
 ? I personally don’t think there was enough water or woodland.\n\nI was 
 told a story should always start with “Once upon a time”\, so here goe
 s…\nOnce upon a time\, there was a hare called Gaffer AKA The Bronzed Ad
 onis\, or Jaffa\, and his lovely co-hare\, Yeuck. Now\, Gaffer liked to su
 rprise the SH4 group with what he calls “a proper Hash” - this usually
  involves 'wetness''. Now\, as the years pass by - and as SH4 know - when 
 it’s Gaffer's route\, we always get very wet: maybe by the river or\, a
 s in Cornwood\, when we had torrential rain (and high rivers)\, and hypoth
 ermia nearly set in!\n\nWell\, tonight's hash was no different - at Circl
 e Up in Plymbridge\, we were pre-warned\, if we carry a phone to put it in
  a waterproof case\, and this is how the story continues…\n\nWe circle u
 p\, DS didn’t do a fun fact\, but talked about the Red Dress run on Satu
 rday 19th July [Ed. and herself in the third person 😆😚]\, starting a
 t Kevics and leaving at 12:30PM.\n\nSo\, here is the Fun Fact: the River 
 Plym starts on the moors at Plym Head. It meets up with the river Meavy\, 
 then ends up heading out towards Plymouth Sound\; its roughly 20 miles lon
 g.\n\nGaffer stood up and gave us the info: Longs….miles\, Shorts….mil
 es\, and Walkers….. He loves the limelight\, so Yeuck lets him get on wi
 th it. It’s a bit like his what3words – they were "brief.pushy.couch":
  Brief – that was me at Circle Up\; Pushy – that’s Gaffer\, because 
 he pushes in front of Yeuck to talk! I thought long and hard about Couch 
 – then I remembered Gaffer saying WetSpot was like a Couch Potato now\, 
 since being injured on a Plympton Hash!"\n\nNow\, I’m not saying that’
 s what Doggie Style said - and I have to admit that what I heard sounded 
 a lot more poetic: I’m just the messenger\, giving you the evidence tha
 t I gathered.\n\nDown Downs (thank god it was real beer this time - athou
 gh there was still fighting over whatever was in the glasses) were awarded
  to:\n\n 	Gaffer and Yeuck – the hares\n 	WGAS - refusing to do the rope
  swing [Ed. legitimately\, I think: we all heard the slightly sickening th
 ud as he hit the forest floor - and he has rather further to fall than mos
 t of us!]\n 	Pony – crimes unknown\n 	LacTaster – no idea why?\n 	Ent
 er the Dragon (PH3) - \n\n\nOn On to SHIPLEY BRIDGE\n\nPhoto credit: Bee
 fy\n\n🏃 📸 🍻 You can enjoy a few more pictures from the "proper
 " Plymbridge hash on 2 July 2025 by checking out Hash Flash's purpose-bui
 lt photo album on the SH4 Facebook page 📸 🏃🍻\n \n\n\n\n\n\n\n\
 n👣\n\nNext SH4 Hash 🐷👣: \nHASH 1534 -  9 July\, 2025\n \n
 CIRCLE UP 7.25pm\nShipley Bridge Car Park\nWhat3Words: https://what3words
 .com/retaliate.genetics.groomed\n \nON DOWN:\nOld Station House\nStation 
 Road\nSouth Brent\nTQ10 9BE\nWhat3Words: https://what3words.com/departure
 .rungs.renders\nHares: Blown Off and Winnie the Poo\n&nbsp\;\nFor further 
 info\, please see the Hash 1534 event page on the SH4 Facebook Group.\n
 Add your photos of how the day went down (Weds 9th July\, 2025) to the 
 Hash 1534 photo album on SH4's Facebook page.\n\n📝 If you are the luc
 ky Scribe at Shipley Bridge on 9th July\, please submit your edition of Th
 e Words to thewords@sh4.org.uk by Sunday evening (13th July\, 2025) - T
 VM! 📝\n\n👣\n \n\n\n\n\n\n\nSH4 'EALTH &amp\; SAFETY\n \nPlease m
 ake a note of the SH4 hash phone number and add it to your phone:\n \n
 🌟 SH4 hash phone number: 07922 103701 🌟\n \n \nUse this number t
 o call for assistance if you come 'unstuck' out on the trail\, or need to
  get a message to 'base camp' (On Down) during the run.\n \n👣\n \n  
 Don't forget to see Rusty Bottom or Ching Chong before the hash to log y
 ou out on trail using the new-fangled checking-out/checking-in app (dev
 eloped by our very own digital-wizard\, Whisperer).\n \nDon't forget to 
 also check back in with the 'On Secs once you're safely back. \n\n👣\n\
 n\n\n\n\n\nSH4 MercHASHdise \n \n\nShow your love for SH4 and wear your 
 membership proudly with a bespoke SH4 car sticker!\n&nbsp\;\n \n\nAvailab
 le exclusively to SH4 members (and\, to be fair\, anyone else who wants o
 ne...) for the bargain sum of £0.50 ea.\, you can afford one for every ve
 hicle in your fleet! 😊\n \n\nSee a member of the committee at the nex
 t hash meet to get yours.\n \n👣\n_____________________\n\n\n\n\n\n\n\n
 \n\n\n\n\n\n\n\n - On Down is at The Stannery\nThe Stannery95 RidgewayPlym
 ptonPL7 2AA\nWhat3words:https://what3words.com/common.landed.glass\n\n\n\n
 \n\n\n\n\n\n\n\n\n\n\n\n\n\n\n\n\nThe Words according to RUBBERY FCUK\n\n\
 n\n\n\n\n\n\n\n\n\n\n\n\n\n\n \n\n\n\n\n\n\n\n\n\n\n\n\n\n🌟 👣  
 🌟\n\nHASH 1533 - PLYMBRIDGE\nI gratefully accepted a lift with Overshot
  via WGAS alongside Can’t Come\, so spared my fellow hashers my usual dr
 amatic driving into the Circle Up [Ed. it just lends that extra frisson 
 of excitement we're all looking for to make us feel really alive 😘] -
  or so I thought. My presence in the car must have had some effect on Ove
 rshot\, for when we arrived at the Circle Up\, he drove towards one of the
  group of assembling hashers causing them to scatter and step aside rapidl
 y: I was quite impressed! How this didn’t get reported to the RA\, I’
 m not sure\; maybe that privilege is reserved just for me?\n\nAs we went t
 o Circle Up\, I was made aware of the possibility of getting a swim\, so h
 astily returned to Overshot's car to empty out my pockets of keys\, wallet
  etc. to keep them dry - then realised that I had forgotten to bring a to
 wel\, but thought\, what the hell… [Ed. I would say a Gaffer-trail in Pl
 ymbridge Woods carries more than a 'possibility' of a swim...!]\n\nThen\, 
 as we were circling up\, I remembered the one job that I have\, i.e. “Ha
 shFlash”\, so snapped a few shots - plus\, here’s one I took earlier o
 n my way to WGAS' abode for “tea” before the hash. Bonus points for an
 yone who knows where this is –\n\nPhoto credit: Rubbery\nI was so busy t
 aking pictures of the Circle Up that\, as usual\, I failed to listen to an
 y of the information from GM\, Doggie Style\, or the Hares\, so I wasn’t
  aware of the routes or distances involved [Ed. You didn't miss anything t
 hat any one of the rest of us couldn't confidently make up and present as 
 fact. Much as the hare might...]. I was paying enough attention to hear Do
 ggie Style nominate me for the Words\, which I thought was fair play\, giv
 en that I am not able to attend regularly at present.\n\nI did get a pictu
 re of the Virgin\, just so that we could identify him if we lost him! [Ed.
  Sorry Rubbery - pic was too tiny to include and still be discernible: I'm
  afraid you'll have to use your imaginations here...] He was invited by Ba
 dcock\, apparently.\n\nThe pack set off. I decided I would do the Walk an
 d have a dip if the opportunity presented itself. I stayed with the last g
 roup of Walkers\, and we quickly ran out of the Walkers' trail\; I thought
 \, 'That’s odd...'\, but Pony was there to set us right – apparently t
 hat was the plan all along\, as Gaffer can’t be arsed to set a Walkers' 
 route! [Ed. such aspersion-casting! Can't believe anyone would say such a 
 thing...😉]\n\nI did manage to capture a few pictures along the route\,
  and a few at the kissing gate [Ed. pucker up\, ladies (and gents - for 
 balance)!]\n\nPhoto Credit: Rubbery\n\nReports from / of other hashers on
  the hash from the RA’s interestingly annotated note system\, with numbe
 rs starting from 1a then 2 through to 12\, and in no particular order\, re
 ad as:\n\n 	Longs all went wrong – no marks – at least ¾ of a mile wr
 ong.\n 	A lot of bum-sliding. [Ed. I can corroborate this - the only way t
 o navigate some of those slopes!]\n 	Can’t Come cut his leg.\n 	Lactaste
 r got a nasty scratch.\n 	WetSpot jumped in and was swimming with the harr
 iets\, then remembered he still had his watch on.\n 	WetSpot lost LiveWire
  – you had one job\, WetSpot! Apparently\, you’re too slow to keep up
  with LiveWire! [Ed. Aren't we all?] He had to wait over 20 minutes for yo
 u back at the Carpark.\n 	Pony got taken out by a puddle [Ed. as vicious a
 s trees\, it seems!]\, something about beige colour and wanting to feel th
 e Pony - shame I missed that photo opportunity.\n 	Beefy - is that Beef 
 Curtains? [Ed. yes] - saying the mud wasn’t that bad\, then he started 
 sinking!\n 	Gaffer was heard saying that you can’t lay a bad trail here
 .\n 	WGAS fell over and wounded his knee\, so had to wimp out on doing the
  rope swing and swimming.\n 	Boaty screams like a girl – whoever would h
 ave thought that?\n 	Dulux spotted some smoke and fire and sent GHR back 
 up the hill to put out whatever was causing it – did we find out? Whatev
 er\, he was nominated as Hash Hero\n\nBack in the pub –\n\n\n 	Filth ord
 ered some chips and went to get some Tomato ketchup and Mayo\, returning w
 ith one red and one yellow crayon instead of the sachets of sauce! [Ed. A
 lthough\, apparently\, was so committed to the illusion that she also atte
 mpted to 'open' the crayon-shaped sachets 😆]\n 	Gaffer\, had chosen t
 he local Wetherspoons as the evening's venue only so that he could drink 
 the cheapest beer money could buy! [Ed. I think there was an equal mix of 
 wonder and delight at the 1980's-esque pricing structure\, painfully well-
 accustomed as we all are to not getting a whole lot of change out of £6 f
 or a pint...]\n\nThe RA for the night\, our lovely GM Doggie Style\, calle
 d us to order without using her whistle and\, as we thronged round\, I cou
 ldn’t help but notice that she held a typed sheet in her hands – has s
 he access to a printer or has she been taking tips from Olive??? Surely no
 t pre-written notes... [Ed. what is this sorcery that allows RAs to see th
 e future hash?!] \n\nWell\, the proof is in the hands of your scribe – 
 and just in case - here they are\, more or less as written (i.e. typed 
 out):\n"Thanks go to the Stannary for hosting SH4\n\nWhat did you think of
  the Hash? I personally don’t think there was enough water or woodland.\
 n\nI was told a story should always start with “Once upon a time”\, so
  here goes…\nOnce upon a time\, there was a hare called Gaffer AKA The B
 ronzed Adonis\, or Jaffa\, and his lovely co-hare\, Yeuck. Now\, Gaffer li
 ked to surprise the SH4 group with what he calls “a proper Hash” - thi
 s usually involves 'wetness''. Now\, as the years pass by - and as SH4 kno
 w - when it’s Gaffer's route\, we always get very wet: maybe by the riv
 er or\, as in Cornwood\, when we had torrential rain (and high rivers)\, a
 nd hypothermia nearly set in!\n\nWell\, tonight's hash was no different - 
 at Circle Up in Plymbridge\, we were pre-warned\, if we carry a phone to 
 put it in a waterproof case\, and this is how the story continues…\n\nWe
  circle up\, DS didn’t do a fun fact\, but talked about the Red Dress ru
 n on Saturday 19th July [Ed. and herself in the third person 😆😚]\, s
 tarting at Kevics and leaving at 12:30PM.\n\nSo\, here is the Fun Fact: t
 he River Plym starts on the moors at Plym Head. It meets up with the river
  Meavy\, then ends up heading out towards Plymouth Sound\; its roughly 20 
 miles long.\n\nGaffer stood up and gave us the info: Longs….miles\, Shor
 ts….miles\, and Walkers….. He loves the limelight\, so Yeuck lets him 
 get on with it. It’s a bit like his what3words – they were "brief.push
 y.couch": Brief – that was me at Circle Up\; Pushy – that’s Gaffer\,
  because he pushes in front of Yeuck to talk! I thought long and hard abou
 t Couch – then I remembered Gaffer saying WetSpot was like a Couch Potat
 o now\, since being injured on a Plympton Hash!"\n\nNow\, I’m not saying
  that’s what Doggie Style said - and I have to admit that what I heard 
 sounded a lot more poetic: I’m just the messenger\, giving you the evid
 ence that I gathered.\n\nDown Downs (thank god it was real beer this time 
 - athough there was still fighting over whatever was in the glasses) were
  awarded to:\n\n 	Gaffer and Yeuck – the hares\n 	WGAS - refusing to do 
 the rope swing [Ed. legitimately\, I think: we all heard the slightly sick
 ening thud as he hit the forest floor - and he has rather further to fall 
 than most of us!]\n 	Pony – crimes unknown\n 	LacTaster – no idea why
 ?\n 	Enter the Dragon (PH3) - \n\n\nOn On to SHIPLEY BRIDGE\n\nPhoto cre
 dit: Beefy\n\n🏃 📸 🍻 You can enjoy a few more pictures from the
  "proper" Plymbridge hash on 2 July 2025 by checking out Hash Flash's pur
 pose-built photo album on the SH4 Facebook page 📸 🏃🍻\n \n\n\n\
 n\n\n\n\n👣\n\nNext SH4 Hash 🐷👣: \nHASH 1534 -  9 July\, 20
 25\n \nCIRCLE UP 7.25pm\nShipley Bridge Car Park\nWhat3Words: https://wh
 at3words.com/retaliate.genetics.groomed\n \nON DOWN:\nOld Station House\n
 Station Road\nSouth Brent\nTQ10 9BE\nWhat3Words: https://what3words.com/d
 eparture.rungs.renders\nHares: Blown Off and Winnie the Poo\n&nbsp\;\nFor 
 further info\, please see the Hash 1534 event page on the SH4 Facebook 
 Group.\nAdd your photos of how the day went down (Weds 9th July\, 2025)
  to the Hash 1534 photo album on SH4's Facebook page.\n\n📝 If you ar
 e the lucky Scribe at Shipley Bridge on 9th July\, please submit your edit
 ion of The Words to thewords@sh4.org.uk by Sunday evening (13th July\, 
 2025) - TVM! 📝\n\n👣\n \n\n\n\n\n\n\nSH4 'EALTH &amp\; SAFETY\n \
 nPlease make a note of the SH4 hash phone number and add it to your phone:
 \n \n🌟 SH4 hash phone number: 07922 103701 🌟\n \n \nUse this nu
 mber to call for assistance if you come 'unstuck' out on the trail\, or n
 eed to get a message to 'base camp' (On Down) during the run.\n \n👣\n
  \n  Don't forget to see Rusty Bottom or Ching Chong before the hash t
 o log you out on trail using the new-fangled checking-out/checking-in ap
 p (developed by our very own digital-wizard\, Whisperer).\n \nDon't for
 get to also check back in with the 'On Secs once you're safely back. \n\n
 👣\n\n\n\n\n\n\nSH4 MercHASHdise \n \n\nShow your love for SH4 and wea
 r your membership proudly with a bespoke SH4 car sticker!\n&nbsp\;\n \n\n
 Available exclusively to SH4 members (and\, to be fair\, anyone else who 
 wants one...) for the bargain sum of £0.50 ea.\, you can afford one for e
 very vehicle in your fleet! 😊\n \n\nSee a member of the committee at 
 the next hash meet to get yours.\n \n👣\n_____________________\n\n\n\n\
 n\n\n\n\n\n\n\n\n\n\n\n
CATEGORIES:Hash Trails
LOCATION:Plym Bridge Car Park (Plympton side) Plymbridge \, Plympton\, PL7 
 4SR
GEO:50.408887;-4.078564
X-APPLE-STRUCTURED-LOCATION;VALUE=URI;X-ADDRESS=Plymbridge \, Plympton\, PL
 7 4SR\, United Kingdom;X-APPLE-RADIUS=100;X-TITLE=Plym Bridge Car Park (Pl
 ympton side):geo:50.408887,-4.078564
END:VEVENT
BEGIN:VTIMEZONE
TZID:Europe/London
X-LIC-LOCATION:Europe/London
BEGIN:DAYLIGHT
DTSTART:20250330T020000
TZOFFSETFROM:+0000
TZOFFSETTO:+0100
TZNAME:BST
END:DAYLIGHT
END:VTIMEZONE
END:VCALENDAR