BEGIN:VCALENDAR
VERSION:2.0
PRODID:-//wp-events-plugin.com//7.2.3.1//EN
TZID:Europe/London
X-WR-TIMEZONE:Europe/London
BEGIN:VEVENT
UID:573@sh4.org.uk
DTSTART;TZID=Europe/London:20250716T193000
DTEND;TZID=Europe/London:20250716T230000
DTSTAMP:20250722T113610Z
URL:https://www.sh4.org.uk/events/hash-1535/
SUMMARY:South Hams H4 Hash 1535 - Ivybridge Cricket Club
DESCRIPTION:&nbsp\;\n\n\n\n\n\n\n\n\n\n\n\n\n\n\n\n\n\n\nThe Words accordin
 g to NOKKERS\n\n\n\n\n\n\n\n\n\n\n\n\n\n\n\n\n \n\n\n\n\n\n\n\n\n\n\n\n\n
 \n🌟 👣  🌟\nEd. another seriously low-effort week for the Editor t
 his week\, thanks to Nokkers' BRILLIANT\,  Fleet Street-worthy edition of
  The Words\; you can't improve on perfection!\nHASH 1535 - IVYBRIDGE \n\n
 \nOn On to COLES CROSS\nPhoto credit: Rubbery\n\n🏃 📸 🍻 You can
  enjoy a few more pictures from the emphatically moist (!) Ivybridge hash 
 on 16 July 2025 by checking out Hash Flash's purpose-built photo album o
 n the SH4 Facebook page 📸 🏃🍻\n\n\n\n\n\n\n\n👣\nThe eagle-eyed
  among you will note that the 'next hash' listed below is\, apparently err
 oneously\, marked as no.1537. Well\, be not a-feared: hash no. 1536 was th
 e annual and amazing Red Dress Hash from KEVICC's\, Totnes today\, Saturda
 y 19 July. There may or may not be a hash report to follow. Early signs ar
 e that it was another characteristically 'racy' affair\; expect scurrilous
  rumours and fake news a-plenty! 😉\n\n\n\n\n\n\n\n👣\nNext SH4 Has
 h 🐷👣: \nHASH 1537 -  23 July\, 2025\n \nCIRCLE UP 7.25pm\nSome
 where in a field in the Shire of old East Allington up at Coles Cross.\n[I
 t is promised more details will follow... Keep an eye on the SH4 Facebook 
 page and hashing Messenger group this week]\n\nON DOWN:\nAs above.\n[Simil
 ar promises abound.]\n\nHare: All Night Pepys\nFor further info\, please s
 ee the Hash 1537 event page on the SH4 Facebook Group.\n\nAdd your ph
 otos of how the day went down (Weds 23rd July\, 2025) to the Hash 1537 p
 hoto album on SH4's Facebook page.\n📝 If you are the lucky Scribe at 
 COLES CROSS on 23rd July\, please submit your edition of The Words to the
 words@sh4.org.uk by Sunday evening (27th July\, 2025) - TVM! 📝\n\n
 👣\n \n\n\n\n\n\n\nSH4 'EALTH &amp\; SAFETY\n \nPlease make a note of
  the SH4 hash phone number and add it to your phone:\n \n🌟 SH4 hash p
 hone number: 07922 103701 🌟\n \n \nUse this number to call for assis
 tance if you come 'unstuck' out on the trail\, or need to get a message t
 o 'base camp' (On Down) during the run.\n \n👣\n \n  Don't forget to
  see Rusty Bottom / Doggy Style before the hash to log you out on trai
 l using the new-fangled checking-out/checking-in app (developed by our 
 very own digital-wizard\, Whisperer).\n \nDon't forget to also check bac
 k in with the 'On Secs once you're safely back. \n\n👣\n\n\n\n\n\n\nSH4
  MercHASHdise \n \n\nShow your love for SH4 and wear your membership pro
 udly with a bespoke SH4 car sticker!\n&nbsp\;\n \n\nAvailable exclusively
  to SH4 members (and\, to be fair\, anyone else who wants one...) for the
  bargain sum of £0.50 ea.\, you can afford one for every vehicle in your 
 fleet! 😊\n \n\nSee a member of the committee at the next hash meet to
  get yours.\n \n👣\n_____________________\n\n\n\n\n\n\n\n\n\n\n\n\n\n -
  &nbsp\;\n\n\n\n\n\n\n\n\n\n\n\n\n\n\n\n\n\n\nThe Words according to NOKKE
 RS\n\n\n\n\n\n\n\n\n\n\n\n\n\n\n\n\n \n\n\n\n\n\n\n\n\n\n\n\n\n\n🌟 
 👣  🌟\nEd. another seriously low-effort week for the Editor this wee
 k\, thanks to Nokkers' BRILLIANT\,  Fleet Street-worthy edition of The Wo
 rds\; you can't improve on perfection!\nHASH 1535 - IVYBRIDGE \n\n\nOn On
  to COLES CROSS\nPhoto credit: Rubbery\n\n🏃 📸 🍻 You can enjoy 
 a few more pictures from the emphatically moist (!) Ivybridge hash on 16 J
 uly 2025 by checking out Hash Flash's purpose-built photo album on the S
 H4 Facebook page 📸 🏃🍻\n\n\n\n\n\n\n\n👣\nThe eagle-eyed among 
 you will note that the 'next hash' listed below is\, apparently erroneousl
 y\, marked as no.1537. Well\, be not a-feared: hash no. 1536 was the annua
 l and amazing Red Dress Hash from KEVICC's\, Totnes today\, Saturday 19 Ju
 ly. There may or may not be a hash report to follow. Early signs are that 
 it was another characteristically 'racy' affair\; expect scurrilous rumour
 s and fake news a-plenty! 😉\n\n\n\n\n\n\n\n👣\nNext SH4 Hash 🐷
 👣: \nHASH 1537 -  23 July\, 2025\n \nCIRCLE UP 7.25pm\nSomewhere i
 n a field in the Shire of old East Allington up at Coles Cross.\n[It is pr
 omised more details will follow... Keep an eye on the SH4 Facebook page an
 d hashing Messenger group this week]\n\nON DOWN:\nAs above.\n[Similar prom
 ises abound.]\n\nHare: All Night Pepys\nFor further info\, please see the
  Hash 1537 event page on the SH4 Facebook Group.\n\nAdd your photos of
  how the day went down (Weds 23rd July\, 2025) to the Hash 1537 photo al
 bum on SH4's Facebook page.\n📝 If you are the lucky Scribe at COLES C
 ROSS on 23rd July\, please submit your edition of The Words to thewords@s
 h4.org.uk by Sunday evening (27th July\, 2025) - TVM! 📝\n\n👣\n \
 n\n\n\n\n\n\nSH4 'EALTH &amp\; SAFETY\n \nPlease make a note of the SH4 
 hash phone number and add it to your phone:\n \n🌟 SH4 hash phone numb
 er: 07922 103701 🌟\n \n \nUse this number to call for assistance if
  you come 'unstuck' out on the trail\, or need to get a message to 'base c
 amp' (On Down) during the run.\n \n👣\n \n  Don't forget to see Rust
 y Bottom / Doggy Style before the hash to log you out on trail using th
 e new-fangled checking-out/checking-in app (developed by our very own d
 igital-wizard\, Whisperer).\n \nDon't forget to also check back in with 
 the 'On Secs once you're safely back. \n\n👣\n\n\n\n\n\n\nSH4 MercHASHd
 ise \n \n\nShow your love for SH4 and wear your membership proudly with 
 a bespoke SH4 car sticker!\n&nbsp\;\n \n\nAvailable exclusively to SH4 me
 mbers (and\, to be fair\, anyone else who wants one...) for the bargain s
 um of £0.50 ea.\, you can afford one for every vehicle in your fleet! 
 😊\n \n\nSee a member of the committee at the next hash meet to get you
 rs.\n \n👣\n_____________________\n\n\n\n\n\n\n\n\n\n\n\n\n\n
CATEGORIES:Hash Trails
LOCATION:Ivybridge Cricket Club Godwell Lane\, Filham Park\, Ivybridge\, PL
 21 0LE
GEO:50.380965;-3.908116
X-APPLE-STRUCTURED-LOCATION;VALUE=URI;X-ADDRESS=Godwell Lane\, Filham Park\
 , Ivybridge\, PL21 0LE\, United Kingdom;X-APPLE-RADIUS=100;X-TITLE=Ivybrid
 ge Cricket Club:geo:50.380965,-3.908116
END:VEVENT
BEGIN:VTIMEZONE
TZID:Europe/London
X-LIC-LOCATION:Europe/London
BEGIN:DAYLIGHT
DTSTART:20250330T020000
TZOFFSETFROM:+0000
TZOFFSETTO:+0100
TZNAME:BST
END:DAYLIGHT
END:VTIMEZONE
END:VCALENDAR