BEGIN:VCALENDAR
VERSION:2.0
PRODID:-//wp-events-plugin.com//7.2.3.1//EN
TZID:Europe/London
X-WR-TIMEZONE:Europe/London
BEGIN:VEVENT
UID:577@sh4.org.uk
DTSTART;TZID=Europe/London:20250806T193000
DTEND;TZID=Europe/London:20250806T233000
DTSTAMP:20250801T141529Z
URL:https://www.sh4.org.uk/events/hash-1539/
SUMMARY:South Hams H4 Hash 1539 - Layby near Cornwood
DESCRIPTION:Road approx 0.5 miles away from the Cornwood Inn.\nLimited park
 ing so consider parking at the pub and car sharing to the circle up.\nOn D
 own at the Cornwood Inn - Road approx 0.5 miles away from the Cornwood Inn
 .\nLimited parking so consider parking at the pub and car sharing to the c
 ircle up.\nOn Down at the Cornwood Inn
CATEGORIES:Hash Trails
LOCATION:Layby near Cornwood Layby on the way to West Rooke Farm\, Cornwood
 \, PL32 9RG
GEO:50.424617;-3.969798
X-APPLE-STRUCTURED-LOCATION;VALUE=URI;X-ADDRESS=Layby on the way to West Ro
 oke Farm\, Cornwood\, PL32 9RG\, United Kingdom;X-APPLE-RADIUS=100;X-TITLE
 =Layby near Cornwood:geo:50.424617,-3.969798
END:VEVENT
BEGIN:VTIMEZONE
TZID:Europe/London
X-LIC-LOCATION:Europe/London
BEGIN:DAYLIGHT
DTSTART:20250330T020000
TZOFFSETFROM:+0000
TZOFFSETTO:+0100
TZNAME:BST
END:DAYLIGHT
END:VTIMEZONE
END:VCALENDAR