BEGIN:VCALENDAR
VERSION:2.0
PRODID:-//wp-events-plugin.com//7.2.3.1//EN
TZID:Europe/London
X-WR-TIMEZONE:Europe/London
BEGIN:VEVENT
UID:587@sh4.org.uk
DTSTART;TZID=Europe/London:20251015T193000
DTEND;TZID=Europe/London:20251015T230000
DTSTAMP:20251104T190742Z
URL:https://www.sh4.org.uk/events/hash-1549-agpu/
SUMMARY:South Hams H4 Hash 1549 - AGPU - South Brent Station Car Park
DESCRIPTION:On Down is at The Station House\n&nbsp\;\n\n\n\n\n\n\n\n\n\n\n\
 n\n\n\n\n\n\n\nThe Words according to GARY GLITTER\n\n\n\n\n\n\n\n\n\n\n\n
 \n\n\n\n\n \n\n\n\n\n\n\n\n\n\n\n\n\n\n🌟 👣  🌟\nEd. For anyone s
 hort on time\, or who struggles to maintain adequate concentration to make
  it through some of the wordier Words\, you'll be relieved to hear that th
 is week's edition is delightfully 'bijou'\, just like its author... 😘\
 nHASH 1549 - SOUTH BRENT\n\nFirstly\, congratulations to Filth's grandson 
 on passing his 11+. Well done\, Reuben!\n\nWhen they called my name out\, 
 at Circle Up in South Brent\, I quickly hid behind someone - easy for me -
  hoping they wouldn't see me. No such luck. Should have worn a dark jacket
 \, not a bright orange one! Oh well\, best to get the Words over with!\n\
 nWe met on a crisp\, autumnal night in the station car park\, where our ve
 ry fashionably dressed GM welcomed us and gave us her usual fun fact. I th
 ink it was about Wales but can't be sure as I was hiding [Ed. well\, if yo
 u were only covering your ears\, this - alongside the orange high vis\, ma
 y go some way to explaining why your efforts to evade detection failed\, G
 G...?]! Hares Barbarella and Lowt'arse told us it was a relatively short r
 un tonight\, due to the impending AGPU. Off we went following the lanes\, 
 rivers\, bridges and fields of South Brent. Very enjoyable\, but uneventf
 ul - and disappointing for the Longs\, who were looking forward to a long 
 lollipop on the way round\, which never materialised! [Ed. au contraire - 
 there was a lollipop\, although the only 'long' aspect of it was the amoun
 t of time we spent faffing about tying to decide whether to cross the rive
 r\, on the basis of no marks\, or meander around the similarly flour-beref
 t grassy wilds of the island]. I had no RA to scrounge misdemeanours off\
 , either!\n\nBack to the pub for some hearty grub\, supplied by No Comment
  and his Jolly Gang. Nice to see TB back from his travels with plenty of y
 arns to tell.\n\nSlight change of format\, as we then had the Hash awards
  [Ed. transplanted from their usual slot at Post-Christmas Hash Bash]:\n
 🌟 FOB JOCKEY - for the 'Staying under the Radar award\n🌟 PINKY - f
 or the 'Do as I say not as I do!' award\n🌟 MOUNTY - for the 'Elegant D
 ismount' award\n🌟 WHISPERER - for the 'Stella Award for commitment' (s
 ponsored - and fuelled - by Stella 😉)\n🌟 OLIVE - Warmest Welcomer A
 ward\n🌟 UNDERCOVERS - for the prestigious Snazzy Trainer Award\, for b
 eing undetected and an all-round kind and helpful hasher. \nThe committee
  were thanked for all their hard work and fun events of the year.\n\nBLOWN
  OFF was elected GM\, and said that all he wanted from everyone was to bri
 ng two things to the hash nights: 1.) a sense of Fun\, and 2.) Kindness
 .\nAlso elected were WINNIE [Hash Cash]\, ANCHORMAN ['On Sec]\, LACTASTER 
 [Hare Razer] and KEEPS TRIPPING [Hash Haz] to the committee. [Other rol
 es are to be covered by committee members\, and existing committee 'helpe
 rs'\, Rusty and Shaggy\; hash at large to take on roving 'Hash Flash' rol
 e\, and to raise temporary\, ad hoc groups - as required - to co-ordinate
  SH4 social events.]\n\nOn on to WEMBURY!\n\nGG\n \n\n \n\nPhoto credit:
  Beefy\n🏃 📸 🍻 You can enjoy a few more photos from the lollipo
 p-lite South Brent hash on 15th October 2025 by checking out Hash Flash's 
 purpose-built photo album on the SH4 Facebook page 📸 🏃🍻\n\n\n\n
 \n\n\n\n👣\nNext SH4 Hash 🐷👣: \n\n HASH 1550 -  22nd Octob
 er\, 2025 \n\nWEMBURY\nCIRCLE UP 7.25pm\nWembury Park\nOff Barton Close\n
 Wembury\nWhat3words: ///premature.subtitle.enter\nON DOWN:\nThe Odd Wheel\
 nKnighton Road\nWembury\nPL9 0JD\nWhat3Words: ///screeches.adopt.thread\n
 Hares: NICE TACKLE &amp\; TRIPLE TOP\n\nThe pub has offered to keep the ki
 tchen open until 9pm - order when you arrive back form the running and b
 efore that time from the main menu (includes light bites as well as main 
 meals\, e.g. brisket-loaded fries\, cheesy chips etc).\nNote from the har
 es: you will have to be swift if you plan to eat!⚡\n\n👣\n\nFor furthe
 r info\, please see the Hash 1550 event page on the SH4 Facebook Group
 .\nAdd your photos of how the evening went down (on Weds 22nd October\,
  2025) to the Hash 1550 photo album on SH4's Facebook page.\n\n📝 I
 f you are the lucky Scribe at WEMBURY on 22nd October\, please submit your
  edition of The Words to thewords@sh4.org.uk by Sunday evening (26th O
 ctober\, 2025) - TVM! 📝\n\n👣\n\n\n\n\n\n\nUPCOMNG SH4 EVENTS\n\n⛄
 🌟🎅🏻🌟🎄 NOW SOLD OUT!!! 🎄🌟🎅🏻🌟⛄\n\nWe can't 
 wait to see you all at the Start Bay Centre\, Slapton on Saturday 29th Nov
 ember (and Friday 28th November\, if you've signed up for the bonus extra 
 FREE night!) for what promises to be a spectacular edition of the beloved 
 SH4 Pre-Christmas Hash Bash. Don't forget your tinsel (or other\, more sus
 tainable festive adornments)!\n🌟\nIf you've booked to attend this super
 -value weekend of entertainment\, please pay the full amount (£50) to the
  SH4 account asap to secure your place (account details below and also on 
 the poster):\n\nAccount name: SH4\nA/c no. 00263482     Sort code: 30-94
 -72\n \n\n\n🌟\n\n\n\n\n\n\nSH4 'EALTH &amp\; SAFETY\n \nPlease make 
 a note of the SH4 hash phone number and add it to your phone:\n \n🌟 S
 H4 hash phone number: 07922 103701 🌟\n \n \nUse this number to call 
 for assistance if you come 'unstuck' out on the trail\, or need to get a 
 message to 'base camp' (On Down) during the run.\n \n👣\n \n  Don't f
 orget to see Rusty Bottom before the hash to log you out on trail using
  the new-fangled checking-out/checking-in app (developed by our very ow
 n digital-wizard\, Whisperer).\n \nDon't forget to also check back in wi
 th Rusty once you're safely back. \n\n👣\n\n\n\n\n\n\nSH4 MercHASHdise
  \n \n\nShow your love for SH4 and wear your membership proudly with a b
 espoke SH4 car sticker!\n\n\n \n\nAvailable exclusively to SH4 members (a
 nd\, to be fair\, anyone else who wants one...) for the bargain sum of £
 0.50 ea.\, you can afford one for every vehicle in your fleet! 😊\n \n
 \nSee a member of the committee at the next hash meet to get yours.\n \n
 👣\n_____________________\n\n\n\n\n\n\n\n\n\n\n\n\n\n - On Down is at Th
 e Station House\n&nbsp\;\n\n\n\n\n\n\n\n\n\n\n\n\n\n\n\n\n\n\nThe Words ac
 cording to GARY GLITTER\n\n\n\n\n\n\n\n\n\n\n\n\n\n\n\n\n \n\n\n\n\n\n\n\
 n\n\n\n\n\n\n🌟 👣  🌟\nEd. For anyone short on time\, or who strug
 gles to maintain adequate concentration to make it through some of the wor
 dier Words\, you'll be relieved to hear that this week's edition is deligh
 tfully 'bijou'\, just like its author... 😘\nHASH 1549 - SOUTH BRENT\n\
 nFirstly\, congratulations to Filth's grandson on passing his 11+. Well do
 ne\, Reuben!\n\nWhen they called my name out\, at Circle Up in South Brent
 \, I quickly hid behind someone - easy for me - hoping they wouldn't see m
 e. No such luck. Should have worn a dark jacket\, not a bright orange one!
  Oh well\, best to get the Words over with!\n\nWe met on a crisp\, autumn
 al night in the station car park\, where our very fashionably dressed GM w
 elcomed us and gave us her usual fun fact. I think it was about Wales but 
 can't be sure as I was hiding [Ed. well\, if you were only covering your e
 ars\, this - alongside the orange high vis\, may go some way to explaining
  why your efforts to evade detection failed\, GG...?]! Hares Barbarella an
 d Lowt'arse told us it was a relatively short run tonight\, due to the imp
 ending AGPU. Off we went following the lanes\, rivers\, bridges and fields
  of South Brent. Very enjoyable\, but uneventful - and disappointing for 
 the Longs\, who were looking forward to a long lollipop on the way round\,
  which never materialised! [Ed. au contraire - there was a lollipop\, alth
 ough the only 'long' aspect of it was the amount of time we spent faffing 
 about tying to decide whether to cross the river\, on the basis of no mark
 s\, or meander around the similarly flour-bereft grassy wilds of the islan
 d]. I had no RA to scrounge misdemeanours off\, either!\n\nBack to the pu
 b for some hearty grub\, supplied by No Comment and his Jolly Gang. Nice t
 o see TB back from his travels with plenty of yarns to tell.\n\nSlight cha
 nge of format\, as we then had the Hash awards [Ed. transplanted from the
 ir usual slot at Post-Christmas Hash Bash]:\n🌟 FOB JOCKEY - for the 'S
 taying under the Radar award\n🌟 PINKY - for the 'Do as I say not as I 
 do!' award\n🌟 MOUNTY - for the 'Elegant Dismount' award\n🌟 WHISPER
 ER - for the 'Stella Award for commitment' (sponsored - and fuelled - by S
 tella 😉)\n🌟 OLIVE - Warmest Welcomer Award\n🌟 UNDERCOVERS - for
  the prestigious Snazzy Trainer Award\, for being undetected and an all-ro
 und kind and helpful hasher. \nThe committee were thanked for all their h
 ard work and fun events of the year.\n\nBLOWN OFF was elected GM\, and sai
 d that all he wanted from everyone was to bring two things to the hash nig
 hts: 1.) a sense of Fun\, and 2.) Kindness.\nAlso elected were WINNIE [
 Hash Cash]\, ANCHORMAN ['On Sec]\, LACTASTER [Hare Razer] and KEEPS TRIPP
 ING [Hash Haz] to the committee. [Other roles are to be covered by comm
 ittee members\, and existing committee 'helpers'\, Rusty and Shaggy\; hash
  at large to take on roving 'Hash Flash' role\, and to raise temporary\, 
 ad hoc groups - as required - to co-ordinate SH4 social events.]\n\nOn on
  to WEMBURY!\n\nGG\n \n\n \n\nPhoto credit: Beefy\n🏃 📸 🍻 You
  can enjoy a few more photos from the lollipop-lite South Brent hash on 15
 th October 2025 by checking out Hash Flash's purpose-built photo album on
  the SH4 Facebook page 📸 🏃🍻\n\n\n\n\n\n\n\n👣\nNext SH4 Hash
  🐷👣: \n\n HASH 1550 -  22nd October\, 2025 \n\nWEMBURY\nCIRCL
 E UP 7.25pm\nWembury Park\nOff Barton Close\nWembury\nWhat3words: ///prema
 ture.subtitle.enter\nON DOWN:\nThe Odd Wheel\nKnighton Road\nWembury\nPL9 
 0JD\nWhat3Words: ///screeches.adopt.thread\nHares: NICE TACKLE &amp\; TRI
 PLE TOP\n\nThe pub has offered to keep the kitchen open until 9pm - order
  when you arrive back form the running and before that time from the mai
 n menu (includes light bites as well as main meals\, e.g. brisket-loaded f
 ries\, cheesy chips etc).\nNote from the hares: you will have to be swift
  if you plan to eat!⚡\n\n👣\n\nFor further info\, please see the Hash
  1550 event page on the SH4 Facebook Group.\nAdd your photos of how th
 e evening went down (on Weds 22nd October\, 2025) to the Hash 1550 pho
 to album on SH4's Facebook page.\n\n📝 If you are the lucky Scribe at 
 WEMBURY on 22nd October\, please submit your edition of The Words to thew
 ords@sh4.org.uk by Sunday evening (26th October\, 2025) - TVM! 📝\n\
 n👣\n\n\n\n\n\n\nUPCOMNG SH4 EVENTS\n\n⛄🌟🎅🏻🌟🎄 NOW SOLD 
 OUT!!! 🎄🌟🎅🏻🌟⛄\n\nWe can't wait to see you all at the Sta
 rt Bay Centre\, Slapton on Saturday 29th November (and Friday 28th Novembe
 r\, if you've signed up for the bonus extra FREE night!) for what promises
  to be a spectacular edition of the beloved SH4 Pre-Christmas Hash Bash. D
 on't forget your tinsel (or other\, more sustainable festive adornments)!\
 n🌟\nIf you've booked to attend this super-value weekend of entertainmen
 t\, please pay the full amount (£50) to the SH4 account asap to secure yo
 ur place (account details below and also on the poster):\n\nAccount name: 
 SH4\nA/c no. 00263482     Sort code: 30-94-72\n \n\n\n🌟\n\n\n\n\n\n\
 nSH4 'EALTH &amp\; SAFETY\n \nPlease make a note of the SH4 hash phone n
 umber and add it to your phone:\n \n🌟 SH4 hash phone number: 07922 10
 3701 🌟\n \n \nUse this number to call for assistance if you come 'u
 nstuck' out on the trail\, or need to get a message to 'base camp' (On Dow
 n) during the run.\n \n👣\n \n  Don't forget to see Rusty Bottom be
 fore the hash to log you out on trail using the new-fangled checking-ou
 t/checking-in app (developed by our very own digital-wizard\, Whisperer)
 .\n \nDon't forget to also check back in with Rusty once you're safely ba
 ck. \n\n👣\n\n\n\n\n\n\nSH4 MercHASHdise \n \n\nShow your love for SH
 4 and wear your membership proudly with a bespoke SH4 car sticker!\n\n\n 
 \n\nAvailable exclusively to SH4 members (and\, to be fair\, anyone else 
 who wants one...) for the bargain sum of £0.50 ea.\, you can afford one f
 or every vehicle in your fleet! 😊\n \n\nSee a member of the committee
  at the next hash meet to get yours.\n \n👣\n_____________________\n\n\
 n\n\n\n\n\n\n\n\n\n\n\n
CATEGORIES:Hash Trails
LOCATION:South Brent Station Car Park Station Car Park\, South Brent\, TQ10
  9AL
GEO:50.42761;-3.83444
X-APPLE-STRUCTURED-LOCATION;VALUE=URI;X-ADDRESS=Station Car Park\, South Br
 ent\, TQ10 9AL\, United Kingdom;X-APPLE-RADIUS=100;X-TITLE=South Brent Sta
 tion Car Park:geo:50.42761,-3.83444
END:VEVENT
BEGIN:VTIMEZONE
TZID:Europe/London
X-LIC-LOCATION:Europe/London
BEGIN:DAYLIGHT
DTSTART:20250330T020000
TZOFFSETFROM:+0000
TZOFFSETTO:+0100
TZNAME:BST
END:DAYLIGHT
END:VTIMEZONE
END:VCALENDAR