BEGIN:VCALENDAR
VERSION:2.0
PRODID:-//wp-events-plugin.com//7.2.3.1//EN
TZID:Europe/London
X-WR-TIMEZONE:Europe/London
BEGIN:VEVENT
UID:597@sh4.org.uk
DTSTART;TZID=Europe/London:20251210T193000
DTEND;TZID=Europe/London:20251210T230000
DTSTAMP:20251203T105242Z
URL:https://www.sh4.org.uk/events/hash-1559-plympton/
SUMMARY:South Hams H4 Hash 1559 Plympton - Ridge Road Junction
DESCRIPTION:On Down is at the The Stanbury Court\, 95 Ridgeway\, Plympton\,
  PL7 2AA - On Down is at the The Stanbury Court\, 95 Ridgeway\, Plympton\,
  PL7 2AA
CATEGORIES:Hash Trails
LOCATION:Ridge Road Junction Junction at merafield Road to Ridge Rd\, Plymo
 uth \, PL7 1UF
GEO:50.379732;-4.068756
X-APPLE-STRUCTURED-LOCATION;VALUE=URI;X-ADDRESS=Junction at merafield Road 
 to Ridge Rd\, Plymouth \, PL7 1UF\, United Kingdom;X-APPLE-RADIUS=100;X-TI
 TLE=Ridge Road Junction:geo:50.379732,-4.068756
END:VEVENT
BEGIN:VTIMEZONE
TZID:Europe/London
X-LIC-LOCATION:Europe/London
BEGIN:STANDARD
DTSTART:20251026T010000
TZOFFSETFROM:+0100
TZOFFSETTO:+0000
TZNAME:GMT
END:STANDARD
END:VTIMEZONE
END:VCALENDAR