BEGIN:VCALENDAR
VERSION:2.0
PRODID:-//wp-events-plugin.com//7.2.3.1//EN
TZID:Europe/London
X-WR-TIMEZONE:Europe/London
BEGIN:VEVENT
UID:598@sh4.org.uk
DTSTART;TZID=Europe/London:20251217T193000
DTEND;TZID=Europe/London:20251217T230000
DTSTAMP:20251203T105633Z
URL:https://www.sh4.org.uk/events/hash-1560-modbury/
SUMMARY:South Hams H4 Hash 1560 Modbury - Modbury Long Stay Car Park
DESCRIPTION:On Down is at the White Hart Hotel\, Church Street\, Modbury\, 
 PL21 0QW - On Down is at the White Hart Hotel\, Church Street\, Modbury\, 
 PL21 0QW
CATEGORIES:Hash Trails
LOCATION:Modbury Long Stay Car Park Modbury long stay car park\, Poundwell 
 Meadow\, Modbury\, Ivybridge\, PL21 0XY
GEO:50.347917;-3.888247
X-APPLE-STRUCTURED-LOCATION;VALUE=URI;X-ADDRESS=Modbury long stay car park\
 , Poundwell Meadow\, Modbury\, Ivybridge\, PL21 0XY\, United Kingdom;X-APP
 LE-RADIUS=100;X-TITLE=Modbury Long Stay Car Park:geo:50.347917,-3.888247
END:VEVENT
BEGIN:VTIMEZONE
TZID:Europe/London
X-LIC-LOCATION:Europe/London
BEGIN:STANDARD
DTSTART:20251026T010000
TZOFFSETFROM:+0100
TZOFFSETTO:+0000
TZNAME:GMT
END:STANDARD
END:VTIMEZONE
END:VCALENDAR