BEGIN:VCALENDAR
VERSION:2.0
PRODID:-//wp-events-plugin.com//7.2.3.1//EN
TZID:Europe/London
X-WR-TIMEZONE:Europe/London
BEGIN:VEVENT
UID:599@sh4.org.uk
DTSTART;TZID=Europe/London:20251224T120000
DTEND;TZID=Europe/London:20251224T160000
DTSTAMP:20251224T093329Z
URL:https://www.sh4.org.uk/events/hash-1561-christmas-eve/
SUMMARY:South Hams H4 hash 1561 - Christmas Eve - Duncombe Park
DESCRIPTION:On Down is at Hares House - On Down is at Hares House
CATEGORIES:Hash Trails
LOCATION:Duncombe Park Duncombe Street\, Kingsbridge\, TQ7 1LR
GEO:50.286426;-3.775713
X-APPLE-STRUCTURED-LOCATION;VALUE=URI;X-ADDRESS=Duncombe Street\, Kingsbrid
 ge\, TQ7 1LR\, United Kingdom;X-APPLE-RADIUS=100;X-TITLE=Duncombe Park:geo
 :50.286426,-3.775713
END:VEVENT
BEGIN:VTIMEZONE
TZID:Europe/London
X-LIC-LOCATION:Europe/London
BEGIN:STANDARD
DTSTART:20251026T010000
TZOFFSETFROM:+0100
TZOFFSETTO:+0000
TZNAME:GMT
END:STANDARD
END:VTIMEZONE
END:VCALENDAR