BEGIN:VCALENDAR
VERSION:2.0
PRODID:-//wp-events-plugin.com//7.2.3.1//EN
TZID:Europe/London
X-WR-TIMEZONE:Europe/London
BEGIN:VEVENT
UID:603@sh4.org.uk
DTSTART;TZID=Europe/London:20260114T193000
DTEND;TZID=Europe/London:20260114T230000
DTSTAMP:20260102T124618Z
URL:https://www.sh4.org.uk/events/hash-1565/
SUMMARY:South Hams H4 Hash 1565 - Blackawton\, Sportsmans Arms
DESCRIPTION: - 
CATEGORIES:Hash Trails
LOCATION:Blackawton\, Sportsmans Arms Sportsmans Arms\, Blackawton\, Totnes
  \, TQ9 7DE
GEO:50.358707;-3.64494
X-APPLE-STRUCTURED-LOCATION;VALUE=URI;X-ADDRESS=Sportsmans Arms\, Blackawto
 n\, Totnes \, TQ9 7DE\, United Kingdom;X-APPLE-RADIUS=100;X-TITLE=Blackawt
 on\, Sportsmans Arms:geo:50.358707,-3.64494
END:VEVENT
BEGIN:VTIMEZONE
TZID:Europe/London
X-LIC-LOCATION:Europe/London
BEGIN:STANDARD
DTSTART:20251026T010000
TZOFFSETFROM:+0100
TZOFFSETTO:+0000
TZNAME:GMT
END:STANDARD
END:VTIMEZONE
END:VCALENDAR