BEGIN:VCALENDAR
VERSION:2.0
PRODID:-//wp-events-plugin.com//7.2.3.1//EN
TZID:Europe/London
X-WR-TIMEZONE:Europe/London
BEGIN:VEVENT
UID:3@sh4.org.uk
DTSTART;TZID=Europe/London:20151028T193000
DTEND;TZID=Europe/London:20151028T230000
DTSTAMP:20151026T175750Z
URL:https://www.sh4.org.uk/events/hash-991/
SUMMARY:South Hams H4 Hash 991 - Seven Stars
DESCRIPTION:Hash around Kingsbridge meeting at the Bandstand on the Quay. 
  A shorter Hash as there's the AGPU afterwards.\n\nFollowed by the AGPU (
 also know as the Annual General Piss Up).\nFree refreshments for Annual an
 d Quarterly payers.\nOther Hashers and Weekly Payers £3 (£1 Hash Fee\, 
 £2 Food Contribution).\n\n&nbsp\; - Hash around Kingsbridge meeting at th
 e Bandstand on the Quay.  A shorter Hash as there's the AGPU afterwards.\
 n\nFollowed by the AGPU (also know as the Annual General Piss Up).\nFree r
 efreshments for Annual and Quarterly payers.\nOther Hashers and Weekly Pay
 ers £3 (£1 Hash Fee\, £2 Food Contribution).\n\n&nbsp\;
CATEGORIES:Hash Trails
LOCATION:Seven Stars Mill Street\, Kingsbridge\, Devon \, TQ7 1ED\, Devon
GEO:50.28348459999999;-3.7778094000000237
X-APPLE-STRUCTURED-LOCATION;VALUE=URI;X-ADDRESS=Mill Street\, Kingsbridge\,
  Devon \, TQ7 1ED\, Devon\, United Kingdom;X-APPLE-RADIUS=100;X-TITLE=Seve
 n Stars:geo:50.28348459999999,-3.7778094000000237
END:VEVENT
BEGIN:VTIMEZONE
TZID:Europe/London
X-LIC-LOCATION:Europe/London
BEGIN:STANDARD
DTSTART:20151025T010000
TZOFFSETFROM:+0100
TZOFFSETTO:+0000
TZNAME:GMT
END:STANDARD
END:VTIMEZONE
END:VCALENDAR