BEGIN:VCALENDAR
VERSION:2.0
PRODID:-//wp-events-plugin.com//7.2.3.1//EN
TZID:Europe/London
X-WR-TIMEZONE:Europe/London
BEGIN:VEVENT
UID:5@sh4.org.uk
DTSTART;TZID=Europe/London:20151104T193000
DTEND;TZID=Europe/London:20151104T230000
DTSTAMP:20151021T104840Z
URL:https://www.sh4.org.uk/events/hash-992/
SUMMARY:South Hams H4 Hash 992 - Journey's End
DESCRIPTION:Fireworks at Ging Gang &amp\; Goolies' during the Hash. - Firew
 orks at Ging Gang &amp\; Goolies' during the Hash.
CATEGORIES:Hash Trails
LOCATION:Journey's End The Journey's End\, Ringmore\, Devon\, TQ7 4HL
GEO:50.297865;-3.895147
X-APPLE-STRUCTURED-LOCATION;VALUE=URI;X-ADDRESS=The Journey's End\, Ringmor
 e\, Devon\, TQ7 4HL\, United Kingdom;X-APPLE-RADIUS=100;X-TITLE=Journey's 
 End:geo:50.297865,-3.895147
END:VEVENT
BEGIN:VTIMEZONE
TZID:Europe/London
X-LIC-LOCATION:Europe/London
BEGIN:STANDARD
DTSTART:20151025T010000
TZOFFSETFROM:+0100
TZOFFSETTO:+0000
TZNAME:GMT
END:STANDARD
END:VTIMEZONE
END:VCALENDAR