BEGIN:VCALENDAR
VERSION:2.0
PRODID:-//wp-events-plugin.com//7.2.3.1//EN
TZID:Europe/London
X-WR-TIMEZONE:Europe/London
BEGIN:VEVENT
UID:8@sh4.org.uk
DTSTART;TZID=Europe/London:20151111T193000
DTEND;TZID=Europe/London:20151111T230000
DTSTAMP:20151110T184759Z
URL:https://www.sh4.org.uk/events/hash-993/
SUMMARY:South Hams H4 Hash 993 - Trawler
DESCRIPTION:There's a Hash Food offer on at the pub\, a Pint of Beer and a 
 Curry combined\, UBend told us the price and it will be added here\, seeme
 d very good value though! - There's a Hash Food offer on at the pub\, a Pi
 nt of Beer and a Curry combined\, UBend told us the price and it will be a
 dded here\, seemed very good value though!
CATEGORIES:Hash Trails
LOCATION:Trawler 66  North Boundary Road\, Brixham\, Devon\, TQ7 4LX
GEO:50.3967943;-3.5277849999999944
X-APPLE-STRUCTURED-LOCATION;VALUE=URI;X-ADDRESS=66  North Boundary Road\, B
 rixham\, Devon\, TQ7 4LX\, United Kingdom;X-APPLE-RADIUS=100;X-TITLE=Trawl
 er:geo:50.3967943,-3.5277849999999944
END:VEVENT
BEGIN:VTIMEZONE
TZID:Europe/London
X-LIC-LOCATION:Europe/London
BEGIN:STANDARD
DTSTART:20151025T010000
TZOFFSETFROM:+0100
TZOFFSETTO:+0000
TZNAME:GMT
END:STANDARD
END:VTIMEZONE
END:VCALENDAR