BEGIN:VCALENDAR
VERSION:2.0
PRODID:-//wp-events-plugin.com//7.2.3.1//EN
TZID:Europe/London
X-WR-TIMEZONE:Europe/London
BEGIN:VEVENT
UID:17@sh4.org.uk
DTSTART;TZID=Europe/London:20151125T193000
DTEND;TZID=Europe/London:20151125T230000
DTSTAMP:20160521T130948Z
URL:https://www.sh4.org.uk/events/hash-995-dartmouth-inn-totnes/
SUMMARY:South Hams H4 Hash 995 - Dartmouth Inn
DESCRIPTION:Join Doris and Rambo for a rare appearance Laying a trail. Ther
 e's sure to be plenty of off road with these two Hares! - Join Doris and R
 ambo for a rare appearance Laying a trail. There's sure to be plenty of of
 f road with these two Hares!
CATEGORIES:Hash Trails
LOCATION:Dartmouth Inn Warlands\, Totnes\, Devon\, TQ9 5EL
GEO:50.4289609;-3.6840038000000277
X-APPLE-STRUCTURED-LOCATION;VALUE=URI;X-ADDRESS=Warlands\, Totnes\, Devon\,
  TQ9 5EL\, United Kingdom;X-APPLE-RADIUS=100;X-TITLE=Dartmouth Inn:geo:50.
 4289609,-3.6840038000000277
END:VEVENT
BEGIN:VTIMEZONE
TZID:Europe/London
X-LIC-LOCATION:Europe/London
BEGIN:STANDARD
DTSTART:20151025T010000
TZOFFSETFROM:+0100
TZOFFSETTO:+0000
TZNAME:GMT
END:STANDARD
END:VTIMEZONE
END:VCALENDAR