BEGIN:VCALENDAR
VERSION:2.0
PRODID:-//wp-events-plugin.com//7.2.3.1//EN
TZID:Europe/London
X-WR-TIMEZONE:Europe/London
BEGIN:VEVENT
UID:16@sh4.org.uk
DTSTART;TZID=Europe/London:20151209T193000
DTEND;TZID=Europe/London:20151209T230000
DTSTAMP:20161119T165910Z
URL:https://www.sh4.org.uk/events/hash-999/
SUMMARY:South Hams H4 Hash 999 - Venus Cafe
DESCRIPTION:999 Emergency Services fancy dress hash. Come as a nurse\, Fire
 man\, Police etc. Crossdressing is welcomed and encouraged !!\n\nA reminde
 r the theme for this is emergency services and for the on down it would be
  nice to have doctors\, police and firemen present - oh and nurses. I am h
 oping Hope Cove lifeboat will have a rep there. The trail is set. The plac
 e is not the cheapest but the location is brilliant beside the turquoise w
 aters of Blackpool Sands. I am hoping it will be a nice social afterwards.
  You will enjoy this hash and the emergency theme allows scope for plenty 
 of laughs.\n\nStrava Fly Bys - 999 Emergency Services fancy dress hash. Co
 me as a nurse\, Fireman\, Police etc. Crossdressing is welcomed and encour
 aged !!\n\nA reminder the theme for this is emergency services and for the
  on down it would be nice to have doctors\, police and firemen present - o
 h and nurses. I am hoping Hope Cove lifeboat will have a rep there. The tr
 ail is set. The place is not the cheapest but the location is brilliant be
 side the turquoise waters of Blackpool Sands. I am hoping it will be a nic
 e social afterwards. You will enjoy this hash and the emergency theme allo
 ws scope for plenty of laughs.\n\nStrava Fly Bys
ATTACH;FMTTYPE=image/jpeg:https://www.sh4.org.uk/wp-content/uploads/2015/1
 1/locations-venus-cafe-blackpool-sands.jpg
CATEGORIES:Hash Trails
LOCATION:Venus Cafe Venus Cafe\, Blackpool Sands\, Devon\, TQ6 0RE\, Devon
GEO:50.31975669065099;-3.609337781042541
X-APPLE-STRUCTURED-LOCATION;VALUE=URI;X-ADDRESS=Venus Cafe\, Blackpool Sand
 s\, Devon\, TQ6 0RE\, Devon\, United Kingdom;X-APPLE-RADIUS=100;X-TITLE=Ve
 nus Cafe:geo:50.31975669065099,-3.609337781042541
END:VEVENT
BEGIN:VTIMEZONE
TZID:Europe/London
X-LIC-LOCATION:Europe/London
BEGIN:STANDARD
DTSTART:20151025T010000
TZOFFSETFROM:+0100
TZOFFSETTO:+0000
TZNAME:GMT
END:STANDARD
END:VTIMEZONE
END:VCALENDAR