BEGIN:VCALENDAR
VERSION:2.0
PRODID:-//wp-events-plugin.com//7.2.3.1//EN
TZID:Europe/London
X-WR-TIMEZONE:Europe/London
BEGIN:VEVENT
UID:232@sh4.org.uk
DTSTART;TZID=Europe/London:20170625T000000
DTEND;TZID=Europe/London:20170625T000000
DTSTAMP:20190508T171150Z
URL:https://www.sh4.org.uk/events/hashes-1089-maker-heights-camping-weeken
 d-hotg/
SUMMARY:South Hams H4 Hashes 1089 - Maker Heights Camping Weekend HOTG - Ma
 ker Heights Camping
DESCRIPTION:Hash camp 23\, 24 and 25 June 2017\n\nPlease can you distribute
  the attached Maker Booking Form.\n\nAny interested hashers are to fill in
  the form and send it to Maker and pay their own deposits direct.\n\nOn th
 e form they must say SH4 and to be in "The Group field"\n\nWe propose:\n\n
 Friday  23 June:\nArrive and have a BBQ early evening with optional pub c
 rawl later.\n\nSaturday 24 June:\nHash from 12.00 noon\nEvening meal at Ma
 ker - TBC\n\nSunday 25 June:\n10.00am Hare of the Dog hash\n11.00am Posh r
 ide\, courtesy of Piddler\n\nRegards\n\nNutcracker and Know Nuts\n[wpfileb
 ase tag=file id=484 /] - Hash camp 23\, 24 and 25 June 2017\n\nPlease can 
 you distribute the attached Maker Booking Form.\n\nAny interested hashers 
 are to fill in the form and send it to Maker and pay their own deposits di
 rect.\n\nOn the form they must say SH4 and to be in "The Group field"\n\nW
 e propose:\n\nFriday  23 June:\nArrive and have a BBQ early evening with 
 optional pub crawl later.\n\nSaturday 24 June:\nHash from 12.00 noon\nEven
 ing meal at Maker - TBC\n\nSunday 25 June:\n10.00am Hare of the Dog hash\n
 11.00am Posh ride\, courtesy of Piddler\n\nRegards\n\nNutcracker and Know 
 Nuts\n[wpfilebase tag=file id=484 /]
CATEGORIES:Hash Trails
LOCATION:Maker Heights Camping Maker Lane\, Millbrook\, Cornwall\, PL10 1LA
GEO:50.341403;-4.20033
X-APPLE-STRUCTURED-LOCATION;VALUE=URI;X-ADDRESS=Maker Lane\, Millbrook\, Co
 rnwall\, PL10 1LA\, United Kingdom;X-APPLE-RADIUS=100;X-TITLE=Maker Height
 s Camping:geo:50.341403,-4.20033
END:VEVENT
BEGIN:VTIMEZONE
TZID:Europe/London
X-LIC-LOCATION:Europe/London
BEGIN:DAYLIGHT
DTSTART:20170326T020000
TZOFFSETFROM:+0000
TZOFFSETTO:+0100
TZNAME:BST
END:DAYLIGHT
END:VTIMEZONE
END:VCALENDAR